Workbook
Name _day1: #REF!
Name _day1: #REF!
Name _day10: #REF!
Name _day10: #REF!
Name _day11: #REF!
Name _day11: #REF!
Name _day12: #REF!
Name _day12: #REF!
Name _day13: #REF!
Name _day13: #REF!
Name _day19: #REF!
Name _day19: #REF!
Name _day2: #REF!
Name _day2: #REF!
Name _day3: #REF!
Name _day3: #REF!
Name _day4: #REF!
Name _day4: #REF!
Name _day5: #REF!
Name _day5: #REF!
Name _day6: #REF!
Name _day6: #REF!
Name _day7: #REF!
Name _day7: #REF!
Name _day8: #REF!
Name _day8: #REF!
Name _day9: #REF!
Name _day9: #REF!
Name cost1: #REF!
Name cost1: #REF!
Name cost10: #REF!
Name cost10: #REF!
Name cost11: #REF!
Name cost11: #REF!
Name cost12: #REF!
Name cost12: #REF!
Name cost13: #REF!
Name cost13: #REF!
Name cost2: #REF!
Name cost2: #REF!
Name cost3: #REF!
Name cost3: #REF!
Name cost4: #REF!
Name cost4: #REF!
Name cost5: #REF!
Name cost5: #REF!
Name cost6: #REF!
Name cost6: #REF!
Name cost7: #REF!
Name cost7: #REF!
Name cost8: #REF!
Name cost8: #REF!
Name cost9: #REF!
Name cost9: #REF!
Name LLOOO: #REF!
Name LLOOO: #REF!
Name PRINT_AREA_MI: #REF!
Name PRINT_AREA_MI: #REF!
Name กกกกก: #REF!
Name กกกกก: #REF!

Sheet XXXXXXX

Sheet ผ่อง

Sheet ปร.1
A1: -23-
F3: แบบ ปร.1 แผ่นที่ ..../.....
A4: แบบฟอร์มการถอดแบบสำรวจรายการ ปริมาณงาน และวัสดุก่อสร้างทั่วไป
A6: ชื่อโครงการ/งานก่อสร้าง
A7: สถานที่ก่อสร้าง
A8: แบบเลขที่
A9: หน่วยงานเจ้าของโครงการ/งานก่อสร้าง
A10: ถอดแบบ/คำนวณราคากลางโดย | D10: เมื่อวันที่ เดือน พ.ศ.
A12: ลำดับที่ | B12: รายการ | C12: จำนวน | D12: หน่วย | E12: ราคา | F12: จำนวนเงิน | G12: หมายเหตุ
E13: ต่อหน่วย | F13: บาท

Sheet ปร.2
O2: แบบ ปร.2 แผ่นที่ ...../..... | S2: -24-
A3: แบบฟอร์มการถอดแบบสำรวจรายการและปริมาณงานคอนกรีต ไม้แบบ ไม้ค้ำยัน และเหล็กเสริมคอนกรีต
A5: ชื่อโครงการ/งานก่อสร้าง
A6: สถานที่ก่อสร้าง
A7: แบบเลขที่
A8: หน่วยงานเจ้าของโครงการ/งานก่อสร้าง
A9: ถอดแบบ/คำนวณราคากลางโดย | F9: เมื่อวันที่ | I9: เดือน | M9: พ.ศ.
A11: ลำดับที่ | B11: รายการ | D11: คอนกรีต | E11: ไม้แบบ | F11: ไม้ค้ำยัน | G11: เหล็กเส้นกลมผิวเรียบ/เมตร | M11: เหล็กเส้นกลมผิวข้ออ้อย/เมตร | R11: หมายเหตุ
D12: ลบ.ม. | E12: ตร.ม. | F12: ต้น | G12: 6 มม. | H12: 9 มม. | I12: 12 มม. | J12: 15 มม. | K12: 19 มม. | L12: 25 มม. | M12: 12 มม. | N12: 16 มม. | O12: 20 มม. | P12: 25 มม. | Q12: 28 มม.

Sheet ปร.3
A1: -25-
G3: แบบ ปร.3 แผ่นที่ .... /....
A4: แบบฟอร์มการถอดแบบสำรวจรายการและปริมาณงานไม้
A6: โครงการ/งานก่อสร้าง
A7: สถานที่ก่อสร้าง
A8: แบบเลขที่
A9: หน่วยงานเจ้าของโครงการ/งานก่อสร้าง
A10: ถอดแบบ/คำนวณราคากลางโดย | D10: เมื่อวันที่ เดือน พ.ศ.
A12: ลำดับที่ | B12: รายการ | C12: ชนิดไม้ | D12: ขนาดหน้าไม้ | E12: ความยาว | F12: จำนวน | G12: ปริมาตร | H12: หมายเหตุ
D13: นิ้ว | E13: เมตร | G13: ฟ3

Sheet ปร.4
I1: แบบ ปร.4 แผ่นที่ .1/3.
A2: แบบแสดงรายการ ปริมาณงาน และราคา
A3: กลุ่มงาน/งาน โครงการปรับปรุง
A4: ชื่อโครงการ/งานก่อสร้าง ป้ายโครงการอนุรักษ์พันธุกรรมพืชอันเนื่องมาจากพระราชดำริสมเด็จพระเทพรัตนราชสุดาฯสยามบรมราชกุมารี
A5: สถานที่ก่อสร้าง มหาวิทยาลัยเทคโนโลยีราชมงคลอีสาน | E5: แบบเลขที่
A6: หน่วยงานเจ้าของโครงการ/งานก่อสร้าง
J8: หน่วย : บาท
A9: ลำดับที่ | B9: รายการ | C9: จำนวน | D9: หน่วย | E9: ค่าวัสดุ | G9: ค่าแรงงาน | I9: รวม | J9: หมายเหตุ
E10: ราคาต่อหน่วย | F10: จำนวนเงิน | G10: ราคาต่อหน่วย | H10: จำนวนเงิน | I10: ค่าวัสดุและแรงงาน
A11: 1 | B11: หมวดงานโครงสร้าง,สถาปัตย์
A12: 1.1 | B12: งานดินขุดแล้วถมกลับคืน | D12: ลบ.ม.
A13: 1.2 | B13: ดินถม | D13: ลบ.ม.
A14: 1.3 | B14: เสาเข็มหกเหลี่ยมกลวง ขนาด 15 ซม. ยาว 2 เมตร | D14: ท่อน
A15: 1.4 | B15: งานตัดเสาเข็มคอนกรีต | D15: ต้น
A16: 1.5 | B16: ทรายหยาบ | D16: ลบ.ม.
A17: 1.6 | B17: คอนกรีตผสมเสร็จรูปทรงกระบอก 180 กก./ตร.ซม. | D17: ลบ.ม.
A18: 1.7 | B18: คอนกรีตผสมเสร็จรูปทรงกระบอก 240 กก./ตร.ซม. | D18: ลบ.ม.
A19: 1.8 | B19: ไม้แบบ | D19: ตร.ฟ.
A20: 1.9 | B20: เหล็กเส้นกลมผิวเรียบ SR.24 ศก. 6 มม. | D20: กก.
A21: 1.1 | B21: เหล็กเส้นกลมผิวเรียบ SR.24 ศก. 9 มม. | D21: กก.
A22: 1.11 | B22: เหล็กเส้นกลมผิวข้ออ้อย SD.40 เมตร ศก. 12 มม. | D22: กก.
A23: 1.12 | B23: เหล็กเส้นกลมผิวข้ออ้อย SD.40 เมตร ศก. 16 มม. | D23: กก.
... A33: 1.2 | B33: ปั้นบัวรอบฐาน | D33: เมตร.
B35: ราคารวมหมวดงานโครงสร้าง,สถาปัตย์
I36: แบบ ปร.4 แผ่นที่ .2/3.
A37: แบบแสดงรายการ ปริมาณงาน และราคา
A38: กลุ่มงาน/งาน โครงการปรับปรุง
A39: ชื่อโครงการ/งานก่อสร้าง ป้ายโครงการอนุรักษ์พันธุกรรมพืชอันเนื่องมาจากพระราชดำริสมเด็จพระเทพรัตนราชสุดาฯสยามบรมราชกุมารี
A40: สถานที่ก่อสร้าง มหาวิทยาลัยเทคโนโลยีราชมงคลอีสาน | E40: แบบเลขที่
A41: หน่วยงานเจ้าของโครงการ/งานก่อสร้าง
J43: หน่วย : บาท
A44: ลำดับที่ | B44: รายการ | C44: จำนวน | D44: หน่วย | E44: ค่าวัสดุ | G44: ค่าแรงงาน | I44: รวม | J44: หมายเหตุ
E45: ราคาต่อหน่วย | F45: จำนวนเงิน | G45: ราคาต่อหน่วย | H45: จำนวนเงิน | I45: ค่าวัสดุและแรงงาน
A47: 2 | B47: หมวดงานภูมิทัศน์
A48: 2.1 | B48: คอนกรีตพิมพ์ลาย | D48: ตร.ม.
A49: 2.2 | B49: ปลูกหญ้านวลน้อยพร้อมดินปลูก | D49: ตร.ม.
A50: 2.3 | B50: ต้นอินทนิลน้ำ ø 5" สูงไม่น้อยกว่า 3 ม. | D50: ต้น
A51: 2.5 | B51: ต้นพุดศุภโชค กระถาง 10" สูงไม่ต่ำกว่า 30 ซม. | D51: ต้น
A52: 2.6 | B52: ท่อ PE เกษตร 25 มิล/200 หลา | D52: ม้วน
A53: 2.7 | B53: สปริงเกลอร์ ปรับองศาได้ RC-AZ II | D53: หัว
A54: 2.8 | B54: ต้นไทรเกาหลี สูงไม่น้อยกว่า 0.80 ม. | D54: ต้น
A55: 2.9 | B55: หลิวไต้หวัน ถุง 6 นิ้ว | D55: ต้น
A56: 2.1 | B56: หนวดปลาหมึกแคะ | D56: ต้น
A57: 2.11 | B57: อุปกรณ์ประกอบรดน้ำต้นไม้ | D57: LS.
B58: ราคารวมหมวดงานภูมิทัศน์
I73: แบบ ปร.4 แผ่นที่ .3/3.
A74: แบบแสดงรายการ ปริมาณงาน และราคา
A75: กลุ่มงาน/งาน โครงการปรับปรุง
A76: ชื่อโครงการ/งานก่อสร้าง ป้ายโครงการอนุรักษ์พันธุกรรมพืชอันเนื่องมาจากพระราชดำริสมเด็จพระเทพรัตนราชสุดาฯสยามบรมราชกุมารี
A77: สถานที่ก่อสร้าง มหาวิทยาลัยเทคโนโลยีราชมงคลอีสาน | E77: แบบเลขที่
A78: หน่วยงานเจ้าของโครงการ/งานก่อสร้าง
J80: หน่วย : บาท
A81: ลำดับที่ | B81: รายการ | C81: จำนวน | D81: หน่วย | E81: ค่าวัสดุ | G81: ค่าแรงงาน | I81: รวม | J81: หมายเหตุ
E82: ราคาต่อหน่วย | F82: จำนวนเงิน | G82: ราคาต่อหน่วย | H82: จำนวนเงิน | I82: ค่าวัสดุและแรงงาน
A83: 3 | B83: หมวดงานไฟฟ้าแสงสว่าง
A84: 3.1 | B84: ชุดโคมไฟฟ้า Floodlight หลอด LED ขนาดไม่เกินกว่า90W | D84: ชุด
B85: ความสว่างไม่น้อยกว่า 7,000 lm/หลอด
A86: 3.2 | B86: ตู้เหล็กกันน้ำ IP 65 ประตูล็อก2ชั้น | D86: ตู้
B87: ตู้ควบคุมไฟฟ้าเปิดปิดอัตโนมัติควบคุมด้วยทามเมอร์
A88: 3.3 | B88: ท่อ HDPE ขนาด 25mm. (1 " ) | D88: ม.
A89: 3.4 | B89: สายไฟฟ้า NYY 2แกน ขนาด 10 ตร.มม. | D89: เมตร
A90: 3.5 | B90: สายไฟฟ้า NYY 2แกน ขนาด 2.5 ตร.มม. | D90: เมตร
A91: 3.6 | B91: แท่งกราวด์รอดขนาดไม่น้อยกว่า 3/4 mm ยาวไม่น้อยกว่า 1.80 เมตร | D91: แท่ง
A92: 3.7 | B92: ตุ้ม คสล.ขนาด 0.40x0.80 ม. | D92: ตัว
A93: 3.8 | B93: อุปกรณ์ประกอบการติดตั้งอื่นๆ รวมค่าขุดดิน | D93: เหมา
B94: รวมหมวดงานไฟฟ้า

Sheet ปร.4 (พ)
E2: แบบ ปร.4 (พ) แผ่นที่ .1.
A3: แบบแสดงรายการ ปริมาณงาน และราคา
A4: (ค่าใช้จ่ายพิเศษตามข้อกำหนดและค่าใช้จ่ายอื่นที่จำเป็นต้องมี)
A6: กลุ่มงาน/งาน โครงการปรับปรุง
A7: ชื่อโครงการ/งานก่อสร้าง ป้ายโครงการอนุรักษ์พันธุกรรมพืชอันเนื่องมาจากพระราชดำริสมเด็จพระเทพรัตนราชสุดาฯสยามบรมราชกุมารี
A8: สถานที่ก่อสร้าง มหาวิทยาลัยเทคโนโลยีราชมงคลอีสาน | E8: แบบเลขที่
A9: หน่วยงานเจ้าของโครงการ/งานก่อสร้าง
A10: ประมาณราคา เมื่อวันที่ 12 มิถุนายน 2561
A11: ลำดับที่ | B11: รายการ | C11: จำนวน | D11: หน่วย | E11: ค่าใช้จ่ายรวม | F11: หมายเหตุ
E12: (ค่าก่อสร้าง)
B13: รถบรรทุกติดเครน 3 ตัน กว้าง 2.50 เมตร ยาว 6.50 เมตร
B19: รวมค่าใช้จ่ายพิเศษตามข้อกำหนดฯ ทุกรายการ | E19: =SUM(E13:E18) -> 0

Sheet รายละเอียดค่าใช้จ่ายพิเศษ
I2: หน้าที่ ..../....
A3: แบบแสดงการคำนวณและเหตุผลความจำเป็น
A4: สำหรับค่าใช้จ่ายพิเศษตามข้อกำหนดฯ
A5: รายการ | D5: (ระบุรายการค่าใช้จ่ายพิเศษตามข้อกำหนดฯ)
A6: ชื่อโครงการ/งานก่อสร้าง
A7: สถานที่ก่อสร้าง | H7: แบบเลขที่
A8: หน่วยงานเจ้าของโครงการ/งานก่อสร้าง
A9: คำนวณราคากลางโดย | F9: เมื่อวันที่ | H9: เดือน | J9: พ.ศ.
B11: 1. เหตุผลและความจำเป็นที่ต้องมีค่าใช้จ่ายพิเศษตามข้อกำหนดฯ รายการนี้
C12: เนื้องจากการขนถังบำบัดไม่สามารถขนย้ายด้วยคนจึงจำเป็นต้องเช่ารถรถบรรทุกติดเครน 5 ตัน
B13: กว้าง 2.50 เมตร ยาว 6.50 เมตร จำนวน 1 คัน ในการขนถังบำบัดเป็นระยะเวลา 1วัน
B15: 2. รายละเอียดการคำนวณ
J16: หน่วย : บาท
A17: ที่ | B17: รายการค่าใช้จ่าย | H17: จำนวน | I17: หมายเหตุ
B18: รถบรรทุกติดเครน 3 ตัน กว้าง 2.50 เมตร ยาว 6.50 เมตร | H18: 7500
B19: เช่ายะระเวลา 1 วัน วันละ 7,500 บาท
B28: รวมค่าใช้จ่าย
B29: ค่าภาษีมูลค่าเพิ่ม | I29: (สำหรับรายการที่มีภาษีมูลค่าเพิ่ม)
B30: ค่าใช้จ่ายรวมภาษีมูลค่าเพิ่ม | I30: (สำหรับรายการที่มีภาษีมูลค่าเพิ่ม)
A33: หมายเหตุ | C33: 1. แบบฟอร์มนี้ ผู้มีหน้าที่คำนวณราคากลางสามารถปรับปรุง เปลี่ยนแปลง และปรับใช้ได้ตามความเหมาะสม
C34: และสอดคล้องตามข้อมูลข้อเท็จจริงสำหรับค่าใช้จ่ายพิเศษตามข้อกำหนดฯ แต่ละรายการ
C35: 2. การคำนวณค่าใช้จ่ายพิเศษตามข้อกำหนดฯ ให้ผู้มีหน้าที่คำนวณราคากลางคำนวณตามข้อเท็จจริง
C36: รายการใดต้องชำระภาษีมูลค่าเพิ่ม ให้รวมค่าภาษีมูลค่าเพิ่มด้วย

Sheet ปร.5(ก)
F1: แบบ ปร. 5 (ก)
A2: แบบสรุปค่าก่อสร้าง
A3: =ปร.4!A3 -> กลุ่มงาน/งาน โครงการปรับปรุง
A4: =ปร.4!A4 -> ชื่อโครงการ/งานก่อสร้าง ป้ายโครงการอนุรักษ์พันธุกรรมพืชอันเนื่องมาจากพระราชดำริสมเด็จพระเทพรัตนราชสุดาฯสยามบรมราชกุมารี
A5: =ปร.4!A5 -> สถานที่ก่อสร้าง มหาวิทยาลัยเทคโนโลยีราชมงคลอีสาน
A6: แบบเลขที่
A7: =ปร.4!A6 -> หน่วยงานเจ้าของโครงการ/งานก่อสร้าง
A8: แบบ ปร. 4 ที่แนบ มีจำนวน 1 หน้า
A9: =ปร.4!A7 -> 0
F10: หน่วย : บาท
A11: ลำดับที่ | B11: รายการ | C11: ค่างานต้นทุน | D11: Factor F | E11: ค่าก่อสร้าง | F11: หมายเหตุ
A13: 1 | B13: =ปร.4!B11 -> หมวดงานโครงสร้าง,สถาปัตย์
A14: 2 | B14: =ปร.4!B47 -> หมวดงานภูมิทัศน์
A15: 3 | B15: =ปร.4!B83 -> หมวดงานไฟฟ้าแสงสว่าง
C20: รวมค่าก่อสร้าง

Sheet ปร.5(ข)
F1: แบบ ปร. 5 (ข)
A2: แบบสรุปค่าครุภัณฑ์จัดซื้อ
A3: ='ปร.5(ก)'!A3 -> กลุ่มงาน/งาน โครงการปรับปรุง
A4: ='ปร.5(ก)'!A4 -> ชื่อโครงการ/งานก่อสร้าง ป้ายโครงการอนุรักษ์พันธุกรรมพืชอันเนื่องมาจากพระราชดำริสมเด็จพระเทพรัตนราชสุดาฯสยามบรมราชกุมารี
A5: ='ปร.5(ก)'!A5 -> สถานที่ก่อสร้าง มหาวิทยาลัยเทคโนโลยีราชมงคลอีสาน
A6: ='ปร.5(ก)'!A6 -> แบบเลขที่
A7: ='ปร.5(ก)'!A7 -> หน่วยงานเจ้าของโครงการ/งานก่อสร้าง
A8: ='ปร.5(ก)'!A8 -> แบบ ปร. 4 ที่แนบ มีจำนวน 1 หน้า
A9: ='ปร.5(ก)'!A9 -> 0
F10: หน่วย : บาท
A11: ลำดับที่ | B11: รายการ | C11: ค่างาน | D11: ภาษี | E11: ค่าก่อสร้าง | F11: หมายเหตุ
D12: มูลค่าเพิ่ม
A13: 1
C20: รวมค่าก่อสร้าง | E20: =SUM(E13:E19) -> 0

Sheet ปร.6
C1: แบบ ปร.6 แผ่นที่ 1
A2: แบบสรุปราคากลางงานก่อสร้างอาคาร
A4: ='ปร.5(ข)'!A3 -> กลุ่มงาน/งาน โครงการปรับปรุง
A5: ='ปร.5(ข)'!A4 -> ชื่อโครงการ/งานก่อสร้าง ป้ายโครงการอนุรักษ์พันธุกรรมพืชอันเนื่องมาจากพระราชดำริสมเด็จพระเทพรัตนราชสุดาฯสยามบรมราชกุมารี
A6: ='ปร.5(ข)'!A5 -> สถานที่ก่อสร้าง มหาวิทยาลัยเทคโนโลยีราชมงคลอีสาน
A7: ='ปร.5(ข)'!A6 -> แบบเลขที่
A8: แบบ ปร. 4 และ ปร. 5 ที่แนบ มีจำนวน 1 ชุด
A9: ='ปร.5(ข)'!A9 -> 0
D10: หน่วย : บาท
A11: ลำดับที่ | B11: รายการ | C11: ค่าก่อสร้าง | D11: หมายเหตุ
A13: 1 | B13: =ปร.4!B35 -> ราคารวมหมวดงานโครงสร้าง,สถาปัตย์
A14: 2 | B14: =ปร.4!B58 -> ราคารวมหมวดงานภูมิทัศน์
A15: 3 | B15: =ปร.4!B94 -> รวมหมวดงานไฟฟ้า
A16: 4 | B16: ค่าใช้จ่ายพิเศษ
A22: สรุป | B22: รวมค่าก่อสร้างทั้งโครงการ/งานก่อสร้าง
B23: ราคากลาง
A25: ราคากลาง

Sheet รวมวัสดุ
A1: ลำดับ | B1: รายการ
B2: ทรายหยาบ | C2: =0.52+1 -> 1.52
B3: คอนกรีต | C3: =1.6+3.4+4+1.2+3.2+2.1+3.2+2.3+0.5 -> 21.5
B4: DB 16 | C4: =40+160+160+160+30+80 -> 630 | D4: เมตร | E4: =C4*15.8 -> 9954
B5: RB 9 | C5: =20+60+110 -> 190 | D5: เมตร | E5: =C5*4.99 -> 948.1
B6: RB 6 | C6: =80+160+92+80+84+150+164+30 -> 840 | D6: เมตร | E6: =C6*2.22 -> 1864.8
B7: DB12 | C7: =100+100+540+160+80+40 -> 1020 | D7: เมตร | E7: =C7*8.88 -> 9057.6

Sheet Sheet1
B4: หนา 12 ซม./1 ตร.ม.
B5: คอนกรีตผสมเสร็จ รุปทรงกระบอก 280 กก./ตร.ซม. ตราซีแพค | C5: =2261.8+306 -> 2567.8 | D5: =1*1*0.12 -> 0.12 | E5: =C5*D5 -> 308.136
B6: ตะแกรงเหล็กสำเร็จรูป เหล็ก ศก. 6.0 มม. 0.20 x 0.20 ม. | C6: =60+5 -> 65 | D6: 1 | E6: =C6*D6 -> 65
B7: บดอัด | C7: 99 | D7: =1*1*0.12 -> 0.12 | E7: =C7*D7 -> 11.88
B8: ทรายหยาบ | C8: =322.5+99 -> 421.5 | D8: =1*1*0.12 -> 0.12 | E8: =C8*D8 -> 50.58
B9: ดินถม | C9: =330+99 -> 429 | D9: =1*1*0.12 -> 0.12 | E9: =C9*D9 -> 51.48
E10: =SUM(E5:E9) -> 487.076
B14: หนา 15 ซม./1 ตร.ม.
B15: คอนกรีตผสมเสร็จ รุปทรงกระบอก 350 กก./ตร.ซม. ตราซีแพค | C15: 2416.6 | D15: =1*1*0.15 -> 0.15 | E15: =C15*D15 -> 362.49
B16: ตะแกรงเหล็กสำเร็จรูป เหล็ก ศก. 6.0 มม. 0.20 x 0.20 ม. | C16: 65 | D16: 1 | E16: =C16*D16 -> 65
B17: บดอัด | C17: 99 | D17: =1*1*0.15 -> 0.15 | E17: =C17*D17 -> 14.85
B18: ทรายหยาบ | C18: =322.5+99 -> 421.5 | D18: =1*1*0.15 -> 0.15 | E18: =C18*D18 -> 63.225
B19: ดินถม | C19: =330+99 -> 429 | D19: =1*1*0.15 -> 0.15 | E19: =C19*D19 -> 64.35
E20: =SUM(E15:E19) -> 569.915
B25: หนา 12 ซม./1 ตร.ม. | C25: =E10 -> 487.076 | D25: =C25*1.3 -> 633.1988
B26: หนา 15 ซม./1 ตร.ม. | C26: =E20 -> 569.915 | D26: =C26*1.3 -> 740.8895
