Workbook
Name _day1: #REF!
Name _day1: #REF!
Name _day10: #REF!
Name _day10: #REF!
Name _day11: #REF!
Name _day11: #REF!
Name _day12: #REF!
Name _day12: #REF!
Name _day13: #REF!
Name _day13: #REF!
Name _day19: #REF!
Name _day19: #REF!
Name _day2: #REF!
Name _day2: #REF!
Name _day3: #REF!
Name _day3: #REF!
Name _day4: #REF!
Name _day4: #REF!
Name _day5: #REF!
Name _day5: #REF!
Name _day6: #REF!
Name _day6: #REF!
Name _day7: #REF!
Name _day7: #REF!
Name _day8: #REF!
Name _day8: #REF!
Name _day9: #REF!
Name _day9: #REF!
Name cost1: #REF!
Name cost1: #REF!
Name cost10: #REF!
Name cost10: #REF!
Name cost11: #REF!
Name cost11: #REF!
Name cost12: #REF!
Name cost12: #REF!
Name cost13: #REF!
Name cost13: #REF!
Name cost2: #REF!
Name cost2: #REF!
Name cost3: #REF!
Name cost3: #REF!
Name cost4: #REF!
Name cost4: #REF!
Name cost5: #REF!
Name cost5: #REF!
Name cost6: #REF!
Name cost6: #REF!
Name cost7: #REF!
Name cost7: #REF!
Name cost8: #REF!
Name cost8: #REF!
Name cost9: #REF!
Name cost9: #REF!
Name LLOOO: #REF!
Name LLOOO: #REF!
Name PRINT_AREA_MI: #REF!
Name PRINT_AREA_MI: #REF!
Name กกกกก: #REF!
Name กกกกก: #REF!

Sheet XXXXXXX

Sheet ผ่อง

Sheet รายละเอียดค่าใช้จ่ายพิเศษ
A1: --
J3: หน้าที่ ..../....
A4: แบบแสดงการคำนวณและเหตุผลความจำเป็น
A5: สำหรับค่าใช้จ่ายพิเศษตามข้อกำหนดฯ
A6: รายการ | D6: (ระบุรายการค่าใช้จ่ายพิเศษตามข้อกำหนดฯ)
A7: =ชื่อโครงการ!A2 -> ชื่อโครงการ : จ้างก่อสร้างอาคารสำนักงานวิทยาเขตร้อยเอ็ด ณ ทุ่งกุลาร้องไห้
A8: =ชื่อโครงการ!A11 -> สถานที่ก่อสร้าง : มหาวิทยาลัยเทคโนโลยีราชมงคลอีสาน วิทยาเขตร้อยเอ็ด ณ ทุ่งกุลาร้องไห้ ต.หินกอง อ.สุวรรณภูมิ จ.ร้อยเอ็ด (พื้นที่ศูนย์เบญจคาม) | I8: แบบเลขที่
A9: =ชื่อโครงการ!A13 -> หน่วยงานเจ้าของโครงการ :มหาวิทยาลัยเทคโนโลยีราชมงคลอีสาน วิทยาเขตร้อยเอ็ด ณ ทุ่งกุลาร้องไห้
A10: =ชื่อโครงการ!A9 -> คำนวณราคากลาง : โดยคณะกรรมการกำหนดราคากลาง เมื่อวันที่ 15 เดือน มีนาคม พ.ศ. 2567
B12: 1. เหตุผลและความจำเป็นที่ต้องมีค่าใช้จ่ายพิเศษตามข้อกำหนดฯ รายการนี้
B19: 2. รายละเอียดการคำนวณ
J20: หน่วย : บาท
A21: ที่ | B21: รายการค่าใช้จ่าย | H21: จำนวน | I21: หมายเหตุ
B32: รวมค่าใช้จ่าย
B33: ค่าภาษีมูลค่าเพิ่ม | I33: (สำหรับรายการที่มีภาษีมูลค่าเพิ่ม)
B34: ค่าใช้จ่ายรวมภาษีมูลค่าเพิ่ม | I34: (สำหรับรายการที่มีภาษีมูลค่าเพิ่ม)
A37: หมายเหตุ | C37: 1. แบบฟอร์มนี้ ผู้มีหน้าที่คำนวณราคากลางสามารถปรับปรุง เปลี่ยนแปลง และปรับใช้ได้ตามความเหมาะสม
C38: และสอดคล้องตามข้อมูลข้อเท็จจริงสำหรับค่าใช้จ่ายพิเศษตามข้อกำหนดฯ แต่ละรายการ
C39: 2. การคำนวณค่าใช้จ่ายพิเศษตามข้อกำหนดฯ ให้ผู้มีหน้าที่คำนวณราคากลางคำนวณตามข้อเท็จจริง
C40: รายการใดต้องชำระภาษีมูลค่าเพิ่ม ให้รวมค่าภาษีมูลค่าเพิ่มด้วย

Sheet ปร.1
A1: --
F3: แบบ ปร.1 แผ่นที่ ..../.....
A4: แบบฟอร์มการถอดแบบสำรวจรายการ ปริมาณงาน และวัสดุก่อสร้างทั่วไป
A6: =ชื่อโครงการ!A2 -> ชื่อโครงการ : จ้างก่อสร้างอาคารสำนักงานวิทยาเขตร้อยเอ็ด ณ ทุ่งกุลาร้องไห้
A7: =ชื่อโครงการ!A11 -> สถานที่ก่อสร้าง : มหาวิทยาลัยเทคโนโลยีราชมงคลอีสาน วิทยาเขตร้อยเอ็ด ณ ทุ่งกุลาร้องไห้ ต.หินกอง อ.สุวรรณภูมิ จ.ร้อยเอ็ด (พื้นที่ศูนย์เบญจคาม)
A8: แบบเลขที่
A9: =ชื่อโครงการ!A13 -> หน่วยงานเจ้าของโครงการ :มหาวิทยาลัยเทคโนโลยีราชมงคลอีสาน วิทยาเขตร้อยเอ็ด ณ ทุ่งกุลาร้องไห้
A10: ถอดแบบ/คำนวณราคากลางโดย | D10: เมื่อวันที่ เดือน พ.ศ.
A12: ลำดับที่ | B12: รายการ | C12: จำนวน | D12: หน่วย | E12: ราคา | F12: จำนวนเงิน | G12: หมายเหตุ
E13: ต่อหน่วย | F13: บาท

Sheet ปร.2
O2: แบบ ปร.2 แผ่นที่ ...../..... | S2: -24-
A3: แบบฟอร์มการถอดแบบสำรวจรายการและปริมาณงานคอนกรีต ไม้แบบ ไม้ค้ำยัน และเหล็กเสริมคอนกรีต
A5: =ชื่อโครงการ!A2 -> ชื่อโครงการ : จ้างก่อสร้างอาคารสำนักงานวิทยาเขตร้อยเอ็ด ณ ทุ่งกุลาร้องไห้
A6: =ชื่อโครงการ!A11 -> สถานที่ก่อสร้าง : มหาวิทยาลัยเทคโนโลยีราชมงคลอีสาน วิทยาเขตร้อยเอ็ด ณ ทุ่งกุลาร้องไห้ ต.หินกอง อ.สุวรรณภูมิ จ.ร้อยเอ็ด (พื้นที่ศูนย์เบญจคาม)
A7: แบบเลขที่
A8: =ชื่อโครงการ!A13 -> หน่วยงานเจ้าของโครงการ :มหาวิทยาลัยเทคโนโลยีราชมงคลอีสาน วิทยาเขตร้อยเอ็ด ณ ทุ่งกุลาร้องไห้
A9: ถอดแบบ/คำนวณราคากลางโดย | F9: เมื่อวันที่ | I9: เดือน | M9: พ.ศ.
A11: ลำดับที่ | B11: รายการ | D11: คอนกรีต | E11: ไม้แบบ | F11: ไม้ค้ำยัน | G11: เหล็กเส้นกลมผิวเรียบ/เมตร | M11: เหล็กเส้นกลมผิวข้ออ้อย/เมตร | R11: หมายเหตุ
D12: ลบ.ม. | E12: ตร.ม. | F12: ต้น | G12: 6 มม. | H12: 9 มม. | I12: 12 มม. | J12: 15 มม. | K12: 19 มม. | L12: 25 มม. | M12: 12 มม. | N12: 16 มม. | O12: 20 มม. | P12: 25 มม. | Q12: 28 มม.

Sheet ปร.3
A1: --
G3: แบบ ปร.3 แผ่นที่ .... /....
A4: แบบฟอร์มการถอดแบบสำรวจรายการและปริมาณงานไม้
A6: =ชื่อโครงการ!A2 -> ชื่อโครงการ : จ้างก่อสร้างอาคารสำนักงานวิทยาเขตร้อยเอ็ด ณ ทุ่งกุลาร้องไห้
A7: =ชื่อโครงการ!A11 -> สถานที่ก่อสร้าง : มหาวิทยาลัยเทคโนโลยีราชมงคลอีสาน วิทยาเขตร้อยเอ็ด ณ ทุ่งกุลาร้องไห้ ต.หินกอง อ.สุวรรณภูมิ จ.ร้อยเอ็ด (พื้นที่ศูนย์เบญจคาม)
A8: แบบเลขที่
A9: =ชื่อโครงการ!A13 -> หน่วยงานเจ้าของโครงการ :มหาวิทยาลัยเทคโนโลยีราชมงคลอีสาน วิทยาเขตร้อยเอ็ด ณ ทุ่งกุลาร้องไห้
A10: ถอดแบบ/คำนวณราคากลางโดย | D10: เมื่อวันที่ เดือน พ.ศ.
A12: ลำดับที่ | B12: รายการ | C12: ชนิดไม้ | D12: ขนาดหน้าไม้ | E12: ความยาว | F12: จำนวน | G12: ปริมาตร | H12: หมายเหตุ
D13: นิ้ว | E13: เมตร | G13: ฟ3

Sheet ปร.4 (พ)
E3: แบบ ปร.4 (พ) แผ่นที่ ... /....
A4: แบบแสดงรายการ ปริมาณงาน และราคา
A5: (ค่าใช้จ่ายพิเศษตามข้อกำหนดและค่าใช้จ่ายอื่นที่จำเป็นต้องมี)
A7: =ชื่อโครงการ!A2 -> ชื่อโครงการ : จ้างก่อสร้างอาคารสำนักงานวิทยาเขตร้อยเอ็ด ณ ทุ่งกุลาร้องไห้
A8: =ชื่อโครงการ!A11 -> สถานที่ก่อสร้าง : มหาวิทยาลัยเทคโนโลยีราชมงคลอีสาน วิทยาเขตร้อยเอ็ด ณ ทุ่งกุลาร้องไห้ ต.หินกอง อ.สุวรรณภูมิ จ.ร้อยเอ็ด (พื้นที่ศูนย์เบญจคาม) | I8: แบบเลขที่
A9: =ชื่อโครงการ!A13 -> หน่วยงานเจ้าของโครงการ :มหาวิทยาลัยเทคโนโลยีราชมงคลอีสาน วิทยาเขตร้อยเอ็ด ณ ทุ่งกุลาร้องไห้ | E9: แบบเลขที่
A10: =ชื่อโครงการ!A9 -> คำนวณราคากลาง : โดยคณะกรรมการกำหนดราคากลาง เมื่อวันที่ 15 เดือน มีนาคม พ.ศ. 2567
F11: หน่วย : บาท
A12: ลำดับที่ | B12: รายการ | C12: จำนวน | D12: หน่วย | E12: ค่าใช้จ่ายรวม | F12: หมายเหตุ
E13: (ค่าก่อสร้าง)
B26: รวมค่าใช้จ่ายพิเศษตามข้อกำหนดฯ ทุกรายการ

Sheet ปร.4
A1: แบบแสดงรายการ ปริมาณงาน และราคา
A2: =ชื่อโครงการ!A2 -> ชื่อโครงการ : จ้างก่อสร้างอาคารสำนักงานวิทยาเขตร้อยเอ็ด ณ ทุ่งกุลาร้องไห้
A3: =ชื่อโครงการ!A4 -> กลุ่มงาน : งานก่อสร้าง
A4: =ชื่อโครงการ!A11 -> สถานที่ก่อสร้าง : มหาวิทยาลัยเทคโนโลยีราชมงคลอีสาน วิทยาเขตร้อยเอ็ด ณ ทุ่งกุลาร้องไห้ ต.หินกอง อ.สุวรรณภูมิ จ.ร้อยเอ็ด (พื้นที่ศูนย์เบญจคาม) | H4: แบบเลขที่
A5: =ชื่อโครงการ!A13 -> หน่วยงานเจ้าของโครงการ :มหาวิทยาลัยเทคโนโลยีราชมงคลอีสาน วิทยาเขตร้อยเอ็ด ณ ทุ่งกุลาร้องไห้
A6: =ชื่อโครงการ!A9 -> คำนวณราคากลาง : โดยคณะกรรมการกำหนดราคากลาง เมื่อวันที่ 15 เดือน มีนาคม พ.ศ. 2567
J7: หน่วย : บาท
A8: ลำดับที่ | B8: รายการ | C8: จำนวน | D8: หน่วย | E8: ค่าวัสดุ | G8: ค่าแรงงาน | I8: รวม | J8: หมายเหตุ
E9: ราคาต่อหน่วย | F9: จำนวนเงิน | G9: ราคาต่อหน่วย | H9: จำนวนเงิน | I9: ค่าวัสดุและแรงงาน
B10: สรุปปริมาณราคางานอาคารสำนักงานวิทยาเขตร้อยเอ็ด ณ ทุ่งกุลาร้องไห้ (พื้นที่ศูนย์เบญจคาม)
B11: กลุ่มงานที่ 1
A12: 1 | B12: =B21 -> หมวดงานเตรียมการก่อสร้าง | C12: 1 | D12: งาน | E12: =F25 -> 15000 | F12: =ROUND(E12*C12,2) -> 15000 | G12: =H25 -> 5000 | H12: =ROUND(G12*C12,2) -> 5000 | I12: =+F12+H12 -> 20000
A13: 2 | B13: =B27 -> หมวดงานวิศวกรรมโครงสร้าง | C13: 1 | D13: งาน | E13: =F106 -> 4732369 | F13: =ROUND(E13*C13,2) -> 4732369 | G13: =H106 -> 1257482.3 | H13: =ROUND(G13*C13,2) -> 1257482.4 | I13: =+F13+H13 -> 5989851.4
A14: 3 | B14: =+B108 -> หมวดงานสถาปัตยกรรม | C14: 1 | D14: งาน | E14: =F214 -> 5122457 | F14: =ROUND(E14*C14,2) -> 5122457 | G14: =H214 -> 1393187.5 | H14: =ROUND(G14*C14,2) -> 1393187.5 | I14: =+F14+H14 -> 6515644.5
A15: 4 | B15: =B216 -> หมวดงานระบบสุขาภิบาล | C15: 1 | D15: งาน | E15: =F293 -> 487848.91 | F15: =ROUND(E15*C15,2) -> 487848.91 | G15: =H293 -> 109862.88 | H15: =ROUND(G15*C15,2) -> 109862.88 | I15: =+F15+H15 -> 597711.79
A16: 5 | B16: =B295 -> หมวดงานระบบไฟฟ้า | C16: 1 | D16: งาน | E16: =F387 -> 1921762.5 | F16: =ROUND(E16*C16,2) -> 1921762.4 | G16: =H387 -> 229710 | H16: =ROUND(G16*C16,2) -> 229710 | I16: =+F16+H16 -> 2151472.5
B18: รวมสรุปปริมาณงาน | F18: =SUM(F12:F17) -> 12279437 | H18: =SUM(H12:H17) -> 2995242.7 | I18: =SUM(I12:I17) -> 15274680
B20: กลุ่มงานที่ 1
A21: 1 | B21: หมวดงานเตรียมการก่อสร้าง
A22: 1.1 | B22: งานเตรียมการก่อสร้าง
B23: งานสำรวจผังบริเวณ | C23: 1 | D23: งาน | E23: 15000 | F23: =ROUND(E23*C23,2) -> 15000 | G23: 5000 | H23: =ROUND(G23*C23,2) -> 5000 | I23: =+F23+H23 -> 20000
B25: ="รวมราคา"&B21 -> รวมราคาหมวดงานเตรียมการก่อสร้าง | F25: =SUM(F22:F24) -> 15000 | H25: =SUM(H22:H24) -> 5000 | I25: =SUM(I22:I24) -> 20000
A27: 2 | B27: หมวดงานวิศวกรรมโครงสร้าง
A28: 2.1 | B28: งานเสาเข็ม
B29: - เสาเข็มตัน [/] ขนาด 0.22 x 0.22 m. | C29: 221 | D29: ต้น | E29: =(4504/21)*9 -> 1930.2857 | F29: =ROUND(E29*C29,2) -> 426593.14 | G29: =(678/15)*9 -> 406.8 | H29: =ROUND(G29*C29,2) -> 89902.8 | I29: =+F29+H29 -> 516495.94
B30: - งานสกัดหัวเสาเข็ม | C30: 221 | D30: ต้น | E30: 0 | F30: =ROUND(E30*C30,2) -> 0 | G30: 200 | H30: =ROUND(G30*C30,2) -> 44200 | I30: =+F30+H30 -> 44200
A31: 2.2 | B31: งานโครงสร้างฐานราก
B32: - งานขุดหลุมทำฐานราก แล้วถมคืน | C32: 435 | D32: ลบ.ม | E32: 0 | F32: =ROUND(E32*C32,2) -> 0 | G32: 142 | H32: =ROUND(G32*C32,2) -> 61770 | I32: =+F32+H32 -> 61770
B33: - ทรายหยาบอัดแน่น | C33: 41.5 | D33: ลบ.ม | E33: 280.37 | F33: =ROUND(E33*C33,2) -> 11635.36 | G33: 104 | H33: =ROUND(G33*C33,2) -> 4316 | I33: =+F33+H33 -> 15951.36
B34: - คอนกรีตหยาบ 1:3:5 | C34: 20.75 | D34: ลบ.ม | E34: 1610 | F34: =ROUND(E34*C34,2) -> 33407.5 | G34: 426 | H34: =ROUND(G34*C34,2) -> 8839.5 | I34: =+F34+H34 -> 42247
B35: - คอนกรีตโครงสร้าง fc' 280 KSC. (Cylinder) | C35: 48.4 | D35: ลบ.ม | E35: 2051.4 | F35: =ROUND(E35*C35,2) -> 99287.76 | G35: 419 | H35: =ROUND(G35*C35,2) -> 20279.6 | I35: =+F35+H35 -> 119567.36
B36: งานเหล็กเสริมรวมลวดผูกเหล็ก
B37: ขนาด 12 mm. | C37: 440.56 | D37: กก. | E37: 21.05 | F37: =ROUND(E37*C37,2) -> 9273.79 | G37: 3.6 | H37: =ROUND(G37*C37,2) -> 1586.02 | I37: =+F37+H37 -> 10859.81
B38: ขนาด 16 mm. | C38: 5383.98 | D38: กก. | E38: 20.56 | F38: =ROUND(E38*C38,2) -> 110694.63 | G38: 3.6 | H38: =ROUND(G38*C38,2) -> 19382.33 | I38: =+F38+H38 -> 130076.96
B39: - ไม้แบบหล่อคอนกรีต | C39: 144 | D39: ลบ.ฟ. | E39: 400 | F39: =ROUND(E39*C39,2) -> 57600 | G39: 0 | H39: =ROUND(G39*C39,2) -> 0 | I39: =+F39+H39 -> 57600
B40: - ค่าแรงไม้แบบทั่วไป | C40: 111 | D40: ตร.ม. | E40: 0 | F40: =ROUND(E40*C40,2) -> 0 | G40: 139 | H40: =ROUND(G40*C40,2) -> 15429 | I40: =+F40+H40 -> 15429
B41: - ตะปู | C41: 28 | D41: กก. | E41: 44.86 | F41: =ROUND(E41*C41,2) -> 1256.08 | G41: 0 | H41: =ROUND(G41*C41,2) -> 0 | I41: =+F41+H41 -> 1256.08
B42: - ลวดผูกเหล็ก | C42: 72 | D42: กก. | E42: 30 | F42: =ROUND(E42*C42,2) -> 2160 | G42: 0 | H42: =ROUND(G42*C42,2) -> 0 | I42: =+F42+H42 -> 2160
A43: 2.3 | B43: งานโครงสร้างคาน
B44: - งานขุดดินถมกลับ | C44: 10 | D44: ลบ.ม | E44: 0 | F44: =ROUND(E44*C44,2) -> 0 | G44: 145 | H44: =ROUND(G44*C44,2) -> 1450 | I44: =+F44+H44 -> 1450
B45: - คอนกรีตหยาบ 1:3:5 | C45: 22 | D45: ลบ.ม | E45: =E34 -> 1610 | F45: =ROUND(E45*C45,2) -> 35420 | G45: 426 | H45: =ROUND(G45*C45,2) -> 9372 | I45: =+F45+H45 -> 44792
B46: - คอนกรีตโครงสร้าง fc' 240 KSC. (Cylinder) | C46: 203 | D46: ลบ.ม | E46: 2009.35 | F46: =ROUND(E46*C46,2) -> 407898.05 | G46: 519 | H46: =ROUND(G46*C46,2) -> 105357 | I46: =+F46+H46 -> 513255.05
B47: - เหล็กเส้นกลมผิวเรียบ (RB) SR24
B48: ขนาด 9 mm. | C48: 7119 | D48: กก. | E48: 23.9 | F48: =ROUND(E48*C48,2) -> 170144.1 | G48: 4.4 | H48: =ROUND(G48*C48,2) -> 31323.6 | I48: =+F48+H48 -> 201467.7
B49: - เหล็กเส้นกลมผิวข้ออ้อย (DB) SD40
B50: ขนาด 12 mm. | C50: 938 | D50: กก. | E50: =E37 -> 21.05 | F50: =ROUND(E50*C50,2) -> 19744.9 | G50: 3.6 | H50: =ROUND(G50*C50,2) -> 3376.8 | I50: =+F50+H50 -> 23121.7
B51: ขนาด 16 mm. | C51: 266 | D51: กก. | E51: =E38 -> 20.56 | F51: =ROUND(E51*C51,2) -> 5468.96 | G51: 3.6 | H51: =ROUND(G51*C51,2) -> 957.6 | I51: =+F51+H51 -> 6426.56
B52: ขนาด 20 mm. | C52: 1749 | D52: กก. | E52: 20.57 | F52: =ROUND(E52*C52,2) -> 35976.93 | G52: 3.1 | H52: =ROUND(G52*C52,2) -> 5421.9 | I52: =+F52+H52 -> 41398.83
B53: - ไม้แบบหล่อคอนกรีต | C53: 1710 | D53: ลบ.ฟ. | E53: 400 | F53: =ROUND(E53*C53,2) -> 684000 | G53: 0 | H53: =ROUND(G53*C53,2) -> 0 | I53: =+F53+H53 -> 684000
B54: - ค่าแรงไม้แบบทั่วไป | C54: 1315 | D54: ตร.ม. | E54: 0 | F54: =ROUND(E54*C54,2) -> 0 | G54: 139 | H54: =ROUND(G54*C54,2) -> 182785 | I54: =+F54+H54 -> 182785
B55: - ตะปู | C55: 329 | D55: กก. | E55: 44.86 | F55: =ROUND(E55*C55,2) -> 14758.94 | G55: 0 | H55: =ROUND(G55*C55,2) -> 0 | I55: =+F55+H55 -> 14758.94
B56: - ลวดผูกเหล็ก | C56: 125 | D56: กก. | E56: 30 | F56: =ROUND(E56*C56,2) -> 3750 | G56: 0 | H56: =ROUND(G56*C56,2) -> 0 | I56: =+F56+H56 -> 3750
A57: 2.4 | B57: งานโครงสร้างเสา
B58: - คอนกรีตโครงสร้าง fc' 280 KSC. (Cylinder) | C58: 203 | D58: ลบ.ม | E58: =E35 -> 2051.4 | F58: =ROUND(E58*C58,2) -> 416434.2 | G58: =G46 -> 519 | H58: =ROUND(G58*C58,2) -> 105357 | I58: =+F58+H58 -> 521791.2
B59: - เหล็กเส้นกลมผิวเรียบ (RB) SR24
B60: ขนาด 6 mm. | C60: 187 | D60: กก. | E60: 23.9 | F60: =ROUND(E60*C60,2) -> 4469.3 | G60: 4.4 | H60: =ROUND(G60*C60,2) -> 822.8 | I60: =+F60+H60 -> 5292.1
B61: ขนาด 9 mm. | C61: 2054 | D61: กก. | E61: =E48 -> 23.9 | F61: =ROUND(E61*C61,2) -> 49090.6 | G61: =G48 -> 4.4 | H61: =ROUND(G61*C61,2) -> 9037.6 | I61: =+F61+H61 -> 58128.2
B62: - เหล็กเส้นกลมผิวข้ออ้อย (DB) ขนาด 20 มม. SD40
B63: ขนาด 12 mm. | C63: 246 | D63: กก. | E63: =E50 -> 21.05 | F63: =ROUND(E63*C63,2) -> 5178.3 | G63: =G50 -> 3.6 | H63: =ROUND(G63*C63,2) -> 885.6 | I63: =+F63+H63 -> 6063.9
B64: ขนาด 20 mm. | C64: 11195 | D64: กก. | E64: =E52 -> 20.57 | F64: =ROUND(E64*C64,2) -> 230281.15 | G64: =G51 -> 3.6 | H64: =ROUND(G64*C64,2) -> 40302 | I64: =+F64+H64 -> 270583.15
B65: - ไม้แบบหล่อคอนกรีต | C65: 1073 | D65: ลบ.ฟ. | E65: 400 | F65: =ROUND(E65*C65,2) -> 429200 | G65: 0 | H65: =ROUND(G65*C65,2) -> 0 | I65: =+F65+H65 -> 429200
B66: - ค่าแรงไม้แบบทั่วไป | C66: 825 | D66: ตร.ม. | E66: 0 | F66: =ROUND(E66*C66,2) -> 0 | G66: =G54 -> 139 | H66: =ROUND(G66*C66,2) -> 114675 | I66: =+F66+H66 -> 114675
B67: - ตะปู | C67: 206 | D67: กก. | E67: =E55 -> 44.86 | F67: =ROUND(E67*C67,2) -> 9241.16 | G67: 0 | H67: =ROUND(G67*C67,2) -> 0 | I67: =+F67+H67 -> 9241.16
B68: - ลวดผูกเหล็ก | C68: 168 | D68: กก. | E68: =E56 -> 30 | F68: =ROUND(E68*C68,2) -> 5040 | G68: 0 | H68: =ROUND(G68*C68,2) -> 0 | I68: =+F68+H68 -> 5040
A69: 2.5 | B69: งานโครงสร้างพื้น
B70: - คอนกรีตทับหน้า Topping | C70: 58 | D70: ลบ.ม | E70: 2009.35 | F70: =ROUND(E70*C70,2) -> 116542.3 | G70: =G58 -> 519 | H70: =ROUND(G70*C70,2) -> 30102 | I70: =+F70+H70 -> 146644.3
B71: - คอนกรีตโครงสร้าง fc' 240 KSC. (Cylinder) | C71: 55 | D71: ลบ.ม | E71: =E46 -> 2009.35 | F71: =ROUND(E71*C71,2) -> 110514.25 | G71: =G58 -> 519 | H71: =ROUND(G71*C71,2) -> 28545 | I71: =+F71+H71 -> 139059.25
B72: - เหล็กเส้นกลมผิวเรียบ (RB) SR24
B73: ขนาด 6 mm. | C73: 113 | D73: กก. | E73: 23.9 | F73: =ROUND(E73*C73,2) -> 2700.7 | G73: 4.4 | H73: =ROUND(G73*C73,2) -> 497.2 | I73: =+F73+H73 -> 3197.9
B74: ขนาด 9 mm. | C74: 4196 | D74: กก. | E74: =E61 -> 23.9 | F74: =ROUND(E74*C74,2) -> 100284.4 | G74: =G61 -> 4.4 | H74: =ROUND(G74*C74,2) -> 18462.4 | I74: =+F74+H74 -> 118746.8
B75: - เหล็กเส้นกลมผิวข้ออ้อย (DB) SD40
B76: ขนาด 12 mm. | C76: 3121 | D76: กก. | E76: =E63 -> 21.05 | F76: =ROUND(E76*C76,2) -> 65697.05 | G76: =G63 -> 3.6 | H76: =ROUND(G76*C76,2) -> 11235.6 | I76: =+F76+H76 -> 76932.65
B77: - เหล็กตะแกรง 6mm.@0.20 m. | C77: 1045 | D77: ตร.ม. | E77: 73 | F77: =ROUND(E77*C77,2) -> 76285 | G77: 5 | H77: =ROUND(G77*C77,2) -> 5225 | I77: =+F77+H77 -> 81510
B78: - แผ่นพื้นสำเร็จรูป (PS) | C78: 1045 | D78: ตร.ม. | E78: 258 | F78: =ROUND(E78*C78,2) -> 269610 | G78: 25 | H78: =ROUND(G78*C78,2) -> 26125 | I78: =+F78+H78 -> 295735
B79: - ไม้แบบหล่อคอนกรีต | C79: 65 | D79: ลบ.ฟ. | E79: 400 | F79: =ROUND(E79*C79,2) -> 26000 | G79: 0 | H79: =ROUND(G79*C79,2) -> 0 | I79: =+F79+H79 -> 26000
B80: - ค่าแรงไม้แบบทั่วไป | C80: 50 | D80: ตร.ม. | E80: 0 | F80: =ROUND(E80*C80,2) -> 0 | G80: =G66 -> 139 | H80: =ROUND(G80*C80,2) -> 6950 | I80: =+F80+H80 -> 6950
B81: - ตะปู | C81: 13 | D81: กก. | E81: =E67 -> 44.86 | F81: =ROUND(E81*C81,2) -> 583.18 | G81: 0 | H81: =ROUND(G81*C81,2) -> 0 | I81: =+F81+H81 -> 583.18
B82: - ลวดผูกเหล็ก | C82: 91 | D82: กก. | E82: =E68 -> 30 | F82: =ROUND(E82*C82,2) -> 2730 | G82: 0 | H82: =ROUND(G82*C82,2) -> 0 | I82: =+F82+H82 -> 2730
A83: 2.6 | B83: งานโครงสร้างบันได
B84: - คอนกรีตโครงสร้าง fc' 240 KSC. (Cylinder) | C84: 17 | D84: ลบ.ม | E84: =E71 -> 2009.35 | F84: =ROUND(E84*C84,2) -> 34158.95 | G84: =G71 -> 519 | H84: =ROUND(G84*C84,2) -> 8823 | I84: =+F84+H84 -> 42981.95
B85: - เหล็กเส้นกลมผิวเรียบ (RB) SR24
B86: ขนาด 9 mm. | C86: 555 | D86: กก. | E86: =E74 -> 23.9 | F86: =ROUND(E86*C86,2) -> 13264.5 | G86: =G74 -> 4.4 | H86: =ROUND(G86*C86,2) -> 2442 | I86: =+F86+H86 -> 15706.5
B87: - เหล็กเส้นกลมผิวข้ออ้อย (DB) SD40
B88: ขนาด 16 mm. | C88: 710 | D88: กก. | E88: =E51 -> 20.56 | F88: =ROUND(E88*C88,2) -> 14597.6 | G88: =G51 -> 3.6 | H88: =ROUND(G88*C88,2) -> 2556 | I88: =+F88+H88 -> 17153.6
B89: - ไม้แบบหล่อคอนกรีต | C89: 189 | D89: ลบ.ฟ. | E89: 400 | F89: =ROUND(E89*C89,2) -> 75600 | G89: 0 | H89: =ROUND(G89*C89,2) -> 0 | I89: =+F89+H89 -> 75600
B90: - ค่าแรงไม้แบบทั่วไป | C90: 145 | D90: ตร.ม. | E90: 0 | F90: =ROUND(E90*C90,2) -> 0 | G90: =G80 -> 139 | H90: =ROUND(G90*C90,2) -> 20155 | I90: =+F90+H90 -> 20155
B91: - ตะปู | C91: 36 | D91: กก. | E91: =E81 -> 44.86 | F91: =ROUND(E91*C91,2) -> 1614.96 | G91: 0 | H91: =ROUND(G91*C91,2) -> 0 | I91: =+F91+H91 -> 1614.96
B92: - ลวดผูกเหล็ก | C92: 25 | D92: กก. | E92: =E82 -> 30 | F92: =ROUND(E92*C92,2) -> 750 | G92: 0 | H92: =ROUND(G92*C92,2) -> 0 | I92: =+F92+H92 -> 750
A93: 2.7 | B93: งานโครงสร้างเหล็ก
B94: - เหล็ก HB 100x100x6x8 mm. (น้ำหนัก 103.20kg./ท่อน) | C94: =ROUND(18*103.2,0) -> 1858 | D94: กก. | E94: =3756.48/103.2 -> 36.4 | F94: =ROUND(E94*C94,2) -> 67631.2 | G94: 35 | H94: =ROUND(G94*C94,2) -> 65030 | I94: =+F94+H94 -> 132661.2
B95: - เหล็ก HB 200x100x5.5x8 mm. (น้ำหนัก 127.80kg./ท่อน) | C95: =ROUND(3*127.8,0) -> 383 | D95: กก. | E95: =(4651.92/127.8) -> 36.4 | F95: =ROUND(E95*C95,2) -> 13941.2 | G95: 35 | H95: =ROUND(G95*C95,2) -> 13405 | I95: =+F95+H95 -> 27346.2
B96: - เหล็กกล่อง 100x50x3.2 mm. (น้ำหนัก 38.50kg./ท่อน) | C96: =ROUND(16*38.5,0) -> 616 | D96: กก. | E96: =1251.81/42.12 -> 29.720085 | F96: =ROUND(E96*C96,2) -> 18307.57 | G96: 10 | H96: =ROUND(G96*C96,2) -> 6160 | I96: =+F96+H96 -> 24467.57
B97: - เหล็กกล่อง 100x100x3.2 mm. (น้ำหนัก 53.00kg./ท่อน) | C97: =ROUND(32*53,0) -> 1696 | D97: กก. | E97: =2010.29/70.29 -> 28.599943 | F97: =ROUND(E97*C97,2) -> 48505.5 | G97: 10 | H97: =ROUND(G97*C97,2) -> 16960 | I97: =+F97+H97 -> 65465.5
B98: - เหล็กกล่อง 125x50x3.2 mm. (น้ำหนัก 49.56kg./ท่อน) | C98: =ROUND(125*49.56,0) -> 6195 | D98: กก. | E98: 29.92 | F98: =ROUND(E98*C98,2) -> 185354.4 | G98: 10 | H98: =ROUND(G98*C98,2) -> 61950 | I98: =+F98+H98 -> 247304.4
B99: - เหล็กกล่อง 200x100x4.5 mm. (น้ำหนัก 120.76kg./ท่อน) | C99: =ROUND(32*120.76,0) -> 3864 | D99: กก. | E99: =(4651.92/127.8) -> 36.4 | F99: =ROUND(E99*C99,2) -> 140649.6 | G99: 10 | H99: =ROUND(G99*C99,2) -> 38640 | I99: =+F99+H99 -> 179289.6
B100: - STEEL PLATES | C100: =46+5+12 -> 63 | D100: แผ่น | E100: 275 | F100: =ROUND(E100*C100,2) -> 17325 | G100: 30 | H100: =ROUND(G100*C100,2) -> 1890 | I100: =+F100+H100 -> 19215
B101: - Bolt | C101: =C100*4 -> 252 | D101: ตัว | E101: 58.4 | F101: =ROUND(E101*C101,2) -> 14716.8 | G101: 0 | H101: =ROUND(G101*C101,2) -> 0 | I101: =+F101+H101 -> 14716.8
B102: - Non shrink mortar | C102: 6 | D102: ถุง | E102: 250 | F102: =ROUND(E102*C102,2) -> 1500 | G102: 0 | H102: =ROUND(G102*C102,2) -> 0 | I102: =+F102+H102 -> 1500
A103: 2.8 | B103: ฐานบ่อบำบัด | C103: 1 | D103: เหมา | E103: 25000 | F103: =ROUND(E103*C103,2) -> 25000 | G103: 12500 | H103: =ROUND(G103*C103,2) -> 12500 | I103: =+F103+H103 -> 37500
A104: 2.9 | B104: ฐานวางถังน้ำบนดิน+ฐานวางปั้มน้ำ | C104: 1 | D104: เหมา | E104: 10500 | F104: =ROUND(E104*C104,2) -> 10500 | G104: 3000 | H104: =ROUND(G104*C104,2) -> 3000 | I104: =+F104+H104 -> 13500
...

Sheet ปร.5(ก)
E1: แบบ ปร. 5 (ก)
A2: แบบสรุปค่าก่อสร้าง
A3: =ชื่อโครงการ!A4 -> กลุ่มงาน : งานก่อสร้าง
A4: =ชื่อโครงการ!A2 -> ชื่อโครงการ : จ้างก่อสร้างอาคารสำนักงานวิทยาเขตร้อยเอ็ด ณ ทุ่งกุลาร้องไห้
A5: =ชื่อโครงการ!A11 -> สถานที่ก่อสร้าง : มหาวิทยาลัยเทคโนโลยีราชมงคลอีสาน วิทยาเขตร้อยเอ็ด ณ ทุ่งกุลาร้องไห้ ต.หินกอง อ.สุวรรณภูมิ จ.ร้อยเอ็ด (พื้นที่ศูนย์เบญจคาม)
A6: =[2]ชื่อโครงการ!B5 -> แบบเลขที่
A7: =ชื่อโครงการ!A13 -> หน่วยงานเจ้าของโครงการ :มหาวิทยาลัยเทคโนโลยีราชมงคลอีสาน วิทยาเขตร้อยเอ็ด ณ ทุ่งกุลาร้องไห้
A8: แบบ ปร. 4 ที่แนบ มีจำนวน 17 หน้า
A9: =ชื่อโครงการ!A9 -> คำนวณราคากลาง : โดยคณะกรรมการกำหนดราคากลาง เมื่อวันที่ 15 เดือน มีนาคม พ.ศ. 2567
F10: หน่วย : บาท
A11: ลำดับที่ | B11: รายการ | C11: ค่างานต้นทุน | D11: Factor F | E11: ค่าก่อสร้าง | F11: หมายเหตุ
A13: 1 | B13: กลุ่มงานที่ 1 /งาน ค่างานก่อสร้าง
B14: อาคารสำนักงานวิทยาเขตร้อยเอ็ด ณ ทุ่งกุลาร้องไห้ (ศูนย์เบญจคาม) | C14: =ปร.4!I12 -> 20000 | D14: 1.2607 | E14: =C14*D14 -> 25214
B15: =ปร.4!B13 -> หมวดงานวิศวกรรมโครงสร้าง | C15: =ปร.4!I13 -> 5989851.4 | D15: 1.2607 | E15: =C15*D15 -> 7551405.6
B16: =ปร.4!B14 -> หมวดงานสถาปัตยกรรม | C16: =ปร.4!I14 -> 6515644.5 | D16: 1.2607 | E16: =C16*D16 -> 8214273
B17: =ปร.4!B15 -> หมวดงานระบบสุขาภิบาล | C17: =ปร.4!I15 -> 597711.79 | D17: 1.2607 | E17: =C17*D17 -> 753535.25
B18: =ปร.4!B16 -> หมวดงานระบบไฟฟ้า | C18: =ปร.4!I387 -> 2151472.5 | D18: 1.2607 | E18: =C18*D18 -> 2712361.3
B21: รวม | C21: =SUM(C14:C20) -> 15274680 | D21: 1.2607 | E21: =E27 -> 19256789
B22: เงื่อนไขการใช้ตาราง Factor F
B23: เงินล่วงหน้าจ่าย........0...…...%
B24: เงินประกันผลงานหัก.....0..….%
B25: ดอกเบี้ยเงินกู้..........7.....……%
B26: ภาษีมูลค่าเพิ่ม..........7....……%
C27: รวมค่าก่อสร้าง | E27: =SUM(E14:E19) -> 19256789
A29: คณะกรรมการกำหนดราคากลาง
B31: ........................................... | D31: ...........................................
B32: (นายฉกาจ เชื่อดี) | D32: (นายเทอดพงษ์ ไชยณรงค์)
B33: ประธานกรรมการ | D33: กรรมการ
B36: ........................................... | D36: ...........................................
B37: (นายรัชชานนท์ ศักดิณากร) | D37: (นายสายันต์ ขอนพุดซา)
B38: กรรมการ | D38: กรรมการและเลขานุการ

Sheet ปร.5(ข)
E1: แบบ ปร. 5 (ข)
A2: แบบสรุปค่าครุภัณฑ์จัดซื้อ
A3: =ชื่อโครงการ!A4 -> กลุ่มงาน : งานก่อสร้าง
A4: =ชื่อโครงการ!A2 -> ชื่อโครงการ : จ้างก่อสร้างอาคารสำนักงานวิทยาเขตร้อยเอ็ด ณ ทุ่งกุลาร้องไห้
A5: =ชื่อโครงการ!A11 -> สถานที่ก่อสร้าง : มหาวิทยาลัยเทคโนโลยีราชมงคลอีสาน วิทยาเขตร้อยเอ็ด ณ ทุ่งกุลาร้องไห้ ต.หินกอง อ.สุวรรณภูมิ จ.ร้อยเอ็ด (พื้นที่ศูนย์เบญจคาม)
A6: แบบเลขที่
A7: =ชื่อโครงการ!A13 -> หน่วยงานเจ้าของโครงการ :มหาวิทยาลัยเทคโนโลยีราชมงคลอีสาน วิทยาเขตร้อยเอ็ด ณ ทุ่งกุลาร้องไห้
A8: ='ปร.5(ก)'!A8 -> แบบ ปร. 4 ที่แนบ มีจำนวน 17 หน้า
A9: =ชื่อโครงการ!A9 -> คำนวณราคากลาง : โดยคณะกรรมการกำหนดราคากลาง เมื่อวันที่ 15 เดือน มีนาคม พ.ศ. 2567
F10: หน่วย : บาท
A11: ลำดับที่ | B11: รายการ | C11: ค่างาน | D11: ภาษี | E11: ค่าก่อสร้าง | F11: หมายเหตุ
D12: มูลค่าเพิ่ม
A13: 1 | B13: กลุ่มงานที่ 2 /งาน..ครุภัณฑ์จัดซื้อจัดจ้าง | C13: =ปร.4!I406 -> 884342.3 | D13: 1.07 | E13: =C13*D13 -> 946246.26
C21: รวมค่าก่อสร้าง | E21: =SUM(E13:E19) -> 946246.26
A23: คณะกรรมการกำหนดราคากลาง
B25: ........................................... | D25: ...........................................
B26: (นายฉกาจ เชื่อดี) | D26: (นายเทอดพงษ์ ไชยณรงค์)
B27: ประธานกรรมการ | D27: กรรมการ
B30: ........................................... | D30: ...........................................
B31: (นายรัชชานนท์ ศักดิณากร) | D31: (นายสายันต์ ขอนพุดซา)
B32: กรรมการ | D32: กรรมการและเลขานุการ

Sheet ปร.6
C1: แบบ ปร.6 แผ่นที่ 1/1
A2: แบบสรุปราคากลางงานก่อสร้างอาคาร
A4: =ชื่อโครงการ!A2 -> ชื่อโครงการ : จ้างก่อสร้างอาคารสำนักงานวิทยาเขตร้อยเอ็ด ณ ทุ่งกุลาร้องไห้
A5: =ชื่อโครงการ!A11 -> สถานที่ก่อสร้าง : มหาวิทยาลัยเทคโนโลยีราชมงคลอีสาน วิทยาเขตร้อยเอ็ด ณ ทุ่งกุลาร้องไห้ ต.หินกอง อ.สุวรรณภูมิ จ.ร้อยเอ็ด (พื้นที่ศูนย์เบญจคาม)
A6: แบบเลขที่
A7: =ชื่อโครงการ!A13 -> หน่วยงานเจ้าของโครงการ :มหาวิทยาลัยเทคโนโลยีราชมงคลอีสาน วิทยาเขตร้อยเอ็ด ณ ทุ่งกุลาร้องไห้
A8: แบบ ปร. 4 และ ปร. 5 ที่แนบ มีจำนวน 1 ชุด
A9: =ชื่อโครงการ!A9 -> คำนวณราคากลาง : โดยคณะกรรมการกำหนดราคากลาง เมื่อวันที่ 15 เดือน มีนาคม พ.ศ. 2567
D10: หน่วย : บาท
A11: ลำดับที่ | B11: รายการ | C11: ค่าก่อสร้าง | D11: หมายเหตุ
A13: 1 | B13: กลุ่มงานที่ 1 /งาน ค่างานก่อสร้าง | C13: ='ปร.5(ก)'!E27 -> 19256789
A14: 2 | B14: กลุ่มงานที่ 2 /งาน..ครุภัณฑ์จัดซื้อจัดจ้าง | C14: ='ปร.5(ข)'!E21 -> 946246.26
A21: สรุป | B21: รวมค่าก่อสร้างทั้งโครงการ/งานก่อสร้าง | C21: =SUM(C13:C20) -> 20203035
B22: ราคากลาง | C22: =C21 -> 20203035
B24: =BAHTTEXT(C22) -> ยี่สิบล้านสองแสนสามพันสามสิบห้าบาทสี่สิบเจ็ดสตางค์
A26: คณะกรรมการกำหนดราคากลาง
B28: ........................................... | C28: ...........................................
B29: (นายฉกาจ เชื่อดี) | C29: (นายเทอดพงษ์ ไชยณรงค์)
B30: ประธานกรรมการ | C30: กรรมการ
B33: ........................................... | C33: ...........................................
B34: (นายรัชชานนท์ ศักดิณากร) | C34: (นายสายันต์ ขอนพุดซา)
B35: กรรมการ | C35: กรรมการและเลขานุการ

Sheet ชื่อโครงการ
A2: ชื่อโครงการ : จ้างก่อสร้างอาคารสำนักงานวิทยาเขตร้อยเอ็ด ณ ทุ่งกุลาร้องไห้
A4: กลุ่มงาน : งานก่อสร้าง | B4: กลุ่มงาน : งานปรับปรุงอาคาร
B5: กลุ่มงาน : งานก่อสร้าง
A7: แบบเลขที่
A9: คำนวณราคากลาง : โดยคณะกรรมการกำหนดราคากลาง เมื่อวันที่ 15 เดือน มีนาคม พ.ศ. 2567
A11: สถานที่ก่อสร้าง : มหาวิทยาลัยเทคโนโลยีราชมงคลอีสาน วิทยาเขตร้อยเอ็ด ณ ทุ่งกุลาร้องไห้ ต.หินกอง อ.สุวรรณภูมิ จ.ร้อยเอ็ด (พื้นที่ศูนย์เบญจคาม) | B11: สถานที่ก่อสร้าง : 744 ถนนสุรนารายณ์ ตำบลในเมือง อำเภอเมืองนครราชสีมา จังหวัดนครราชสีมา | C11: สถานที่ก่อสร้าง : 77 หมู่7 ตำบลหนองระเวียง อำเภอเมืองนครราชสีมา จังหวัดนครราชสีมา
A13: หน่วยงานเจ้าของโครงการ :มหาวิทยาลัยเทคโนโลยีราชมงคลอีสาน วิทยาเขตร้อยเอ็ด ณ ทุ่งกุลาร้องไห้ | B13: หน่วยงานเจ้าของโครงการ : สำนักงานบริหารสินทรัพย์ มหาวิทยาลัยเทคโนโลยีราชมงคลอีสาน | C13: หน่วยงานเจ้าของโครงการ : คณะนวัตกรรมและเทคโนโลยีการเกษตร มหาวิทยาลัยเทคโนโลยีราชมงคลอีสาน
