Workbook
Name _day1: #REF!
Name _day1: #REF!
Name _day10: #REF!
Name _day10: #REF!
Name _day11: #REF!
Name _day11: #REF!
Name _day12: #REF!
Name _day12: #REF!
Name _day13: #REF!
Name _day13: #REF!
Name _day19: #REF!
Name _day19: #REF!
Name _day2: #REF!
Name _day2: #REF!
Name _day3: #REF!
Name _day3: #REF!
Name _day4: #REF!
Name _day4: #REF!
Name _day5: #REF!
Name _day5: #REF!
Name _day6: #REF!
Name _day6: #REF!
Name _day7: #REF!
Name _day7: #REF!
Name _day8: #REF!
Name _day8: #REF!
Name _day9: #REF!
Name _day9: #REF!
Name cost1: #REF!
Name cost1: #REF!
Name cost10: #REF!
Name cost10: #REF!
Name cost11: #REF!
Name cost11: #REF!
Name cost12: #REF!
Name cost12: #REF!
Name cost13: #REF!
Name cost13: #REF!
Name cost2: #REF!
Name cost2: #REF!
Name cost3: #REF!
Name cost3: #REF!
Name cost4: #REF!
Name cost4: #REF!
Name cost5: #REF!
Name cost5: #REF!
Name cost6: #REF!
Name cost6: #REF!
Name cost7: #REF!
Name cost7: #REF!
Name cost8: #REF!
Name cost8: #REF!
Name cost9: #REF!
Name cost9: #REF!
Name LLOOO: #REF!
Name LLOOO: #REF!
Name PRINT_AREA_MI: #REF!
Name PRINT_AREA_MI: #REF!
Name กกกกก: #REF!
Name กกกกก: #REF!

Sheet XXXXXXX

Sheet ผ่อง

Sheet รายละเอียดค่าใช้จ่ายพิเศษ
A1: --
J3: หน้าที่ ..../....
A4: แบบแสดงการคำนวณและเหตุผลความจำเป็น
A5: สำหรับค่าใช้จ่ายพิเศษตามข้อกำหนดฯ
A6: รายการ | D6: (ระบุรายการค่าใช้จ่ายพิเศษตามข้อกำหนดฯ)
A7: =ชื่อโครงการ!A2 -> ชื่อโครงการ : จ้างก่อสร้างอาคารสำนักงานวิทยาเขตร้อยเอ็ด ณ ทุ่งกุลาร้องไห้
A8: =ชื่อโครงการ!A11 -> สถานที่ก่อสร้าง : มหาวิทยาลัยเทคโนโลยีราชมงคลอีสาน วิทยาเขตร้อยเอ็ด ณ ทุ่งกุลาร้องไห้ ต.หินกอง อ.สุวรรณภูมิ จ.ร้อยเอ็ด (พื้นที่ศูนย์เบญจคาม) | I8: แบบเลขที่
A9: =ชื่อโครงการ!A13 -> หน่วยงานเจ้าของโครงการ :มหาวิทยาลัยเทคโนโลยีราชมงคลอีสาน วิทยาเขตร้อยเอ็ด ณ ทุ่งกุลาร้องไห้
A10: =ชื่อโครงการ!A9 -> คำนวณราคากลาง : โดยคณะกรรมการกำหนดราคากลาง เมื่อวันที่ 15 เดือน มีนาคม พ.ศ. 2567
B12: 1. เหตุผลและความจำเป็นที่ต้องมีค่าใช้จ่ายพิเศษตามข้อกำหนดฯ รายการนี้
B19: 2. รายละเอียดการคำนวณ
J20: หน่วย : บาท
A21: ที่ | B21: รายการค่าใช้จ่าย | H21: จำนวน | I21: หมายเหตุ
B32: รวมค่าใช้จ่าย
B33: ค่าภาษีมูลค่าเพิ่ม | I33: (สำหรับรายการที่มีภาษีมูลค่าเพิ่ม)
B34: ค่าใช้จ่ายรวมภาษีมูลค่าเพิ่ม | I34: (สำหรับรายการที่มีภาษีมูลค่าเพิ่ม)
A37: หมายเหตุ | C37: 1. แบบฟอร์มนี้ ผู้มีหน้าที่คำนวณราคากลางสามารถปรับปรุง เปลี่ยนแปลง และปรับใช้ได้ตามความเหมาะสม
C38: และสอดคล้องตามข้อมูลข้อเท็จจริงสำหรับค่าใช้จ่ายพิเศษตามข้อกำหนดฯ แต่ละรายการ
C39: 2. การคำนวณค่าใช้จ่ายพิเศษตามข้อกำหนดฯ ให้ผู้มีหน้าที่คำนวณราคากลางคำนวณตามข้อเท็จจริง
C40: รายการใดต้องชำระภาษีมูลค่าเพิ่ม ให้รวมค่าภาษีมูลค่าเพิ่มด้วย

Sheet ปร.1
A1: --
F3: แบบ ปร.1 แผ่นที่ ..../.....
A4: แบบฟอร์มการถอดแบบสำรวจรายการ ปริมาณงาน และวัสดุก่อสร้างทั่วไป
A6: =ชื่อโครงการ!A2 -> ชื่อโครงการ : จ้างก่อสร้างอาคารสำนักงานวิทยาเขตร้อยเอ็ด ณ ทุ่งกุลาร้องไห้
A7: =ชื่อโครงการ!A11 -> สถานที่ก่อสร้าง : มหาวิทยาลัยเทคโนโลยีราชมงคลอีสาน วิทยาเขตร้อยเอ็ด ณ ทุ่งกุลาร้องไห้ ต.หินกอง อ.สุวรรณภูมิ จ.ร้อยเอ็ด (พื้นที่ศูนย์เบญจคาม)
A8: แบบเลขที่
A9: =ชื่อโครงการ!A13 -> หน่วยงานเจ้าของโครงการ :มหาวิทยาลัยเทคโนโลยีราชมงคลอีสาน วิทยาเขตร้อยเอ็ด ณ ทุ่งกุลาร้องไห้
A10: ถอดแบบ/คำนวณราคากลางโดย | D10: เมื่อวันที่ เดือน พ.ศ.
A12: ลำดับที่ | B12: รายการ | C12: จำนวน | D12: หน่วย | E12: ราคา | F12: จำนวนเงิน | G12: หมายเหตุ
E13: ต่อหน่วย | F13: บาท

Sheet ปร.2
O2: แบบ ปร.2 แผ่นที่ ...../..... | S2: -24-
A3: แบบฟอร์มการถอดแบบสำรวจรายการและปริมาณงานคอนกรีต ไม้แบบ ไม้ค้ำยัน และเหล็กเสริมคอนกรีต
A5: =ชื่อโครงการ!A2 -> ชื่อโครงการ : จ้างก่อสร้างอาคารสำนักงานวิทยาเขตร้อยเอ็ด ณ ทุ่งกุลาร้องไห้
A6: =ชื่อโครงการ!A11 -> สถานที่ก่อสร้าง : มหาวิทยาลัยเทคโนโลยีราชมงคลอีสาน วิทยาเขตร้อยเอ็ด ณ ทุ่งกุลาร้องไห้ ต.หินกอง อ.สุวรรณภูมิ จ.ร้อยเอ็ด (พื้นที่ศูนย์เบญจคาม)
A7: แบบเลขที่
A8: =ชื่อโครงการ!A13 -> หน่วยงานเจ้าของโครงการ :มหาวิทยาลัยเทคโนโลยีราชมงคลอีสาน วิทยาเขตร้อยเอ็ด ณ ทุ่งกุลาร้องไห้
A9: ถอดแบบ/คำนวณราคากลางโดย | F9: เมื่อวันที่ | I9: เดือน | M9: พ.ศ.
A11: ลำดับที่ | B11: รายการ | D11: คอนกรีต | E11: ไม้แบบ | F11: ไม้ค้ำยัน | G11: เหล็กเส้นกลมผิวเรียบ/เมตร | M11: เหล็กเส้นกลมผิวข้ออ้อย/เมตร | R11: หมายเหตุ
D12: ลบ.ม. | E12: ตร.ม. | F12: ต้น | G12: 6 มม. | H12: 9 มม. | I12: 12 มม. | J12: 15 มม. | K12: 19 มม. | L12: 25 มม. | M12: 12 มม. | N12: 16 มม. | O12: 20 มม. | P12: 25 มม. | Q12: 28 มม.

Sheet ปร.3
A1: --
G3: แบบ ปร.3 แผ่นที่ .... /....
A4: แบบฟอร์มการถอดแบบสำรวจรายการและปริมาณงานไม้
A6: =ชื่อโครงการ!A2 -> ชื่อโครงการ : จ้างก่อสร้างอาคารสำนักงานวิทยาเขตร้อยเอ็ด ณ ทุ่งกุลาร้องไห้
A7: =ชื่อโครงการ!A11 -> สถานที่ก่อสร้าง : มหาวิทยาลัยเทคโนโลยีราชมงคลอีสาน วิทยาเขตร้อยเอ็ด ณ ทุ่งกุลาร้องไห้ ต.หินกอง อ.สุวรรณภูมิ จ.ร้อยเอ็ด (พื้นที่ศูนย์เบญจคาม)
A8: แบบเลขที่
A9: =ชื่อโครงการ!A13 -> หน่วยงานเจ้าของโครงการ :มหาวิทยาลัยเทคโนโลยีราชมงคลอีสาน วิทยาเขตร้อยเอ็ด ณ ทุ่งกุลาร้องไห้
A10: ถอดแบบ/คำนวณราคากลางโดย | D10: เมื่อวันที่ เดือน พ.ศ.
A12: ลำดับที่ | B12: รายการ | C12: ชนิดไม้ | D12: ขนาดหน้าไม้ | E12: ความยาว | F12: จำนวน | G12: ปริมาตร | H12: หมายเหตุ
D13: นิ้ว | E13: เมตร | G13: ฟ3

Sheet ปร.4 (พ)
E3: แบบ ปร.4 (พ) แผ่นที่ ... /....
A4: แบบแสดงรายการ ปริมาณงาน และราคา
A5: (ค่าใช้จ่ายพิเศษตามข้อกำหนดและค่าใช้จ่ายอื่นที่จำเป็นต้องมี)
A7: =ชื่อโครงการ!A2 -> ชื่อโครงการ : จ้างก่อสร้างอาคารสำนักงานวิทยาเขตร้อยเอ็ด ณ ทุ่งกุลาร้องไห้
A8: =ชื่อโครงการ!A11 -> สถานที่ก่อสร้าง : มหาวิทยาลัยเทคโนโลยีราชมงคลอีสาน วิทยาเขตร้อยเอ็ด ณ ทุ่งกุลาร้องไห้ ต.หินกอง อ.สุวรรณภูมิ จ.ร้อยเอ็ด (พื้นที่ศูนย์เบญจคาม) | I8: แบบเลขที่
A9: =ชื่อโครงการ!A13 -> หน่วยงานเจ้าของโครงการ :มหาวิทยาลัยเทคโนโลยีราชมงคลอีสาน วิทยาเขตร้อยเอ็ด ณ ทุ่งกุลาร้องไห้ | E9: แบบเลขที่
A10: =ชื่อโครงการ!A9 -> คำนวณราคากลาง : โดยคณะกรรมการกำหนดราคากลาง เมื่อวันที่ 15 เดือน มีนาคม พ.ศ. 2567
F11: หน่วย : บาท
A12: ลำดับที่ | B12: รายการ | C12: จำนวน | D12: หน่วย | E12: ค่าใช้จ่ายรวม | F12: หมายเหตุ
E13: (ค่าก่อสร้าง)
B26: รวมค่าใช้จ่ายพิเศษตามข้อกำหนดฯ ทุกรายการ

Sheet ปร.4
A1: แบบแสดงรายการ ปริมาณงาน และราคา
A2: =ชื่อโครงการ!A2 -> ชื่อโครงการ : จ้างก่อสร้างอาคารสำนักงานวิทยาเขตร้อยเอ็ด ณ ทุ่งกุลาร้องไห้
A3: =ชื่อโครงการ!A4 -> กลุ่มงาน : งานก่อสร้าง
A4: =ชื่อโครงการ!A11 -> สถานที่ก่อสร้าง : มหาวิทยาลัยเทคโนโลยีราชมงคลอีสาน วิทยาเขตร้อยเอ็ด ณ ทุ่งกุลาร้องไห้ ต.หินกอง อ.สุวรรณภูมิ จ.ร้อยเอ็ด (พื้นที่ศูนย์เบญจคาม) | H4: แบบเลขที่
A5: =ชื่อโครงการ!A13 -> หน่วยงานเจ้าของโครงการ :มหาวิทยาลัยเทคโนโลยีราชมงคลอีสาน วิทยาเขตร้อยเอ็ด ณ ทุ่งกุลาร้องไห้
A6: =ชื่อโครงการ!A9 -> คำนวณราคากลาง : โดยคณะกรรมการกำหนดราคากลาง เมื่อวันที่ 15 เดือน มีนาคม พ.ศ. 2567
J7: หน่วย : บาท
A8: ลำดับที่ | B8: รายการ | C8: จำนวน | D8: หน่วย | E8: ค่าวัสดุ | G8: ค่าแรงงาน | I8: รวม | J8: หมายเหตุ
E9: ราคาต่อหน่วย | F9: จำนวนเงิน | G9: ราคาต่อหน่วย | H9: จำนวนเงิน | I9: ค่าวัสดุและแรงงาน
B10: สรุปปริมาณราคางานอาคารสำนักงานวิทยาเขตร้อยเอ็ด ณ ทุ่งกุลาร้องไห้ (พื้นที่ศูนย์เบญจคาม)
B11: กลุ่มงานที่ 1
A12: 1 | B12: =B21 -> หมวดงานเตรียมการก่อสร้าง | C12: 1 | D12: งาน | E12: =F25 -> 15000 | F12: =ROUND(E12*C12,2) -> 15000 | G12: =H25 -> 5000 | H12: =ROUND(G12*C12,2) -> 5000 | I12: =+F12+H12 -> 20000
A13: 2 | B13: =B27 -> หมวดงานวิศวกรรมโครงสร้าง | C13: 1 | D13: งาน | E13: =F106 -> 4732369 | F13: =ROUND(E13*C13,2) -> 4732369 | G13: =H106 -> 1257482.3 | H13: =ROUND(G13*C13,2) -> 1257482.4 | I13: =+F13+H13 -> 5989851.4
A14: 3 | B14: =+B108 -> หมวดงานสถาปัตยกรรม | C14: 1 | D14: งาน | E14: =F214 -> 5122457 | F14: =ROUND(E14*C14,2) -> 5122457 | G14: =H214 -> 1393187.5 | H14: =ROUND(G14*C14,2) -> 1393187.5 | I14: =+F14+H14 -> 6515644.5
A15: 4 | B15: =B216 -> หมวดงานระบบสุขาภิบาล | C15: 1 | D15: งาน | E15: =F293 -> 487848.91 | F15: =ROUND(E15*C15,2) -> 487848.91 | G15: =H293 -> 109862.88 | H15: =ROUND(G15*C15,2) -> 109862.88 | I15: =+F15+H15 -> 597711.79
A16: 5 | B16: =B295 -> หมวดงานระบบไฟฟ้า | C16: 1 | D16: งาน | E16: =F387 -> 1921762.5 | F16: =ROUND(E16*C16,2) -> 1921762.4 | G16: =H387 -> 229710 | H16: =ROUND(G16*C16,2) -> 229710 | I16: =+F16+H16 -> 2151472.5
B18: รวมสรุปปริมาณงาน | F18: =SUM(F12:F17) -> 12279437 | H18: =SUM(H12:H17) -> 2995242.7 | I18: =SUM(I12:I17) -> 15274680
B20: กลุ่มงานที่ 1
A21: 1 | B21: หมวดงานเตรียมการก่อสร้าง
A22: 1.1 | B22: งานเตรียมการก่อสร้าง
B23: งานสำรวจผังบริเวณ | C23: 1 | D23: งาน | E23: 15000 | F23: =ROUND(E23*C23,2) -> 15000 | G23: 5000 | H23: =ROUND(G23*C23,2) -> 5000 | I23: =+F23+H23 -> 20000
B25: ="รวมราคา"&B21 -> รวมราคาหมวดงานเตรียมการก่อสร้าง | F25: =SUM(F22:F24) -> 15000 | H25: =SUM(H22:H24) -> 5000 | I25: =SUM(I22:I24) -> 20000
A27: 2 | B27: หมวดงานวิศวกรรมโครงสร้าง
A28: 2.1 | B28: งานเสาเข็ม
B29: - เสาเข็มตัน [/] ขนาด 0.22 x 0.22 m. | C29: 221 | D29: ต้น | E29: =(4504/21)*9 -> 1930.2857 | F29: =ROUND(E29*C29,2) -> 426593.14 | G29: =(678/15)*9 -> 406.8 | H29: =ROUND(G29*C29,2) -> 89902.8 | I29: =+F29+H29 -> 516495.94
B30: - งานสกัดหัวเสาเข็ม | C30: 221 | D30: ต้น | E30: 0 | F30: =ROUND(E30*C30,2) -> 0 | G30: 200 | H30: =ROUND(G30*C30,2) -> 44200 | I30: =+F30+H30 -> 44200
A31: 2.2 | B31: งานโครงสร้างฐานราก
B32: - งานขุดหลุมทำฐานราก แล้วถมคืน | C32: 435 | D32: ลบ.ม | E32: 0 | F32: =ROUND(E32*C32,2) -> 0 | G32: 142 | H32: =ROUND(G32*C32,2) -> 61770 | I32: =+F32+H32 -> 61770
B33: - ทรายหยาบอัดแน่น | C33: 41.5 | D33: ลบ.ม | E33: 280.37 | F33: =ROUND(E33*C33,2) -> 11635.36 | G33: 104 | H33: =ROUND(G33*C33,2) -> 4316 | I33: =+F33+H33 -> 15951.36
B34: - คอนกรีตหยาบ 1:3:5 | C34: 20.75 | D34: ลบ.ม | E34: 1610 | F34: =ROUND(E34*C34,2) -> 33407.5 | G34: 426 | H34: =ROUND(G34*C34,2) -> 8839.5 | I34: =+F34+H34 -> 42247
B35: - คอนกรีตโครงสร้าง fc' 280 KSC. (Cylinder) | C35: 48.4 | D35: ลบ.ม | E35: 2051.4 | F35: =ROUND(E35*C35,2) -> 99287.76 | G35: 419 | H35: =ROUND(G35*C35,2) -> 20279.6 | I35: =+F35+H35 -> 119567.36
B36: งานเหล็กเสริมรวมลวดผูกเหล็ก
B37: ขนาด 12 mm. | C37: 440.56 | D37: กก. | E37: 21.05 | F37: =ROUND(E37*C37,2) -> 9273.79 | G37: 3.6 | H37: =ROUND(G37*C37,2) -> 1586.02 | I37: =+F37+H37 -> 10859.81
B38: ขนาด 16 mm. | C38: 5383.98 | D38: กก. | E38: 20.56 | F38: =ROUND(E38*C38,2) -> 110694.63 | G38: 3.6 | H38: =ROUND(G38*C38,2) -> 19382.33 | I38: =+F38+H38 -> 130076.96
B39: - ไม้แบบหล่อคอนกรีต | C39: 144 | D39: ลบ.ฟ. | E39: 400 | F39: =ROUND(E39*C39,2) -> 57600 | G39: 0 | H39: =ROUND(G39*C39,2) -> 0 | I39: =+F39+H39 -> 57600
B40: - ค่าแรงไม้แบบทั่วไป | C40: 111 | D40: ตร.ม. | E40: 0 | F40: =ROUND(E40*C40,2) -> 0 | G40: 139 | H40: =ROUND(G40*C40,2) -> 15429 | I40: =+F40+H40 -> 15429
B41: - ตะปู | C41: 28 | D41: กก. | E41: 44.86 | F41: =ROUND(E41*C41,2) -> 1256.08 | G41: 0 | H41: =ROUND(G41*C41,2) -> 0 | I41: =+F41+H41 -> 1256.08
B42: - ลวดผูกเหล็ก | C42: 72 | D42: กก. | E42: 30 | F42: =ROUND(E42*C42,2) -> 2160 | G42: 0 | H42: =ROUND(G42*C42,2) -> 0 | I42: =+F42+H42 -> 2160
A43: 2.3 | B43: งานโครงสร้างคาน
B44: - งานขุดดินถมกลับ | C44: 10 | D44: ลบ.ม | E44: 0 | F44: =ROUND(E44*C44,2) -> 0 | G44: 145 | H44: =ROUND(G44*C44,2) -> 1450 | I44: =+F44+H44 -> 1450
...

Sheet ปร.5(ก)
E1: แบบ ปร. 5 (ก)
A2: แบบสรุปค่าก่อสร้าง
A3: =ชื่อโครงการ!A4 -> กลุ่มงาน : งานก่อสร้าง
A4: =ชื่อโครงการ!A2 -> ชื่อโครงการ : จ้างก่อสร้างอาคารสำนักงานวิทยาเขตร้อยเอ็ด ณ ทุ่งกุลาร้องไห้
A5: =ชื่อโครงการ!A11 -> สถานที่ก่อสร้าง : มหาวิทยาลัยเทคโนโลยีราชมงคลอีสาน วิทยาเขตร้อยเอ็ด ณ ทุ่งกุลาร้องไห้ ต.หินกอง อ.สุวรรณภูมิ จ.ร้อยเอ็ด (พื้นที่ศูนย์เบญจคาม)
A6: =[2]ชื่อโครงการ!B5 -> แบบเลขที่
A7: =ชื่อโครงการ!A13 -> หน่วยงานเจ้าของโครงการ :มหาวิทยาลัยเทคโนโลยีราชมงคลอีสาน วิทยาเขตร้อยเอ็ด ณ ทุ่งกุลาร้องไห้
A8: แบบ ปร. 4 ที่แนบ มีจำนวน 17 หน้า
A9: =ชื่อโครงการ!A9 -> คำนวณราคากลาง : โดยคณะกรรมการกำหนดราคากลาง เมื่อวันที่ 15 เดือน มีนาคม พ.ศ. 2567
F10: หน่วย : บาท
A11: ลำดับที่ | B11: รายการ | C11: ค่างานต้นทุน | D11: Factor F | E11: ค่าก่อสร้าง | F11: หมายเหตุ
A13: 1 | B13: กลุ่มงานที่ 1 /งาน ค่างานก่อสร้าง
B14: อาคารสำนักงานวิทยาเขตร้อยเอ็ด ณ ทุ่งกุลาร้องไห้ (ศูนย์เบญจคาม) | C14: =ปร.4!I12 -> 20000 | D14: 1.2607 | E14: =C14*D14 -> 25214
B15: =ปร.4!B13 -> หมวดงานวิศวกรรมโครงสร้าง | C15: =ปร.4!I13 -> 5989851.4 | D15: 1.2607 | E15: =C15*D15 -> 7551405.6
B16: =ปร.4!B14 -> หมวดงานสถาปัตยกรรม | C16: =ปร.4!I14 -> 6515644.5 | D16: 1.2607 | E16: =C16*D16 -> 8214273
B17: =ปร.4!B15 -> หมวดงานระบบสุขาภิบาล | C17: =ปร.4!I15 -> 597711.79 | D17: 1.2607 | E17: =C17*D17 -> 753535.25
B18: =ปร.4!B16 -> หมวดงานระบบไฟฟ้า | C18: =ปร.4!I387 -> 2151472.5 | D18: 1.2607 | E18: =C18*D18 -> 2712361.3
B21: รวม | C21: =SUM(C14:C20) -> 15274680 | D21: 1.2607 | E21: =E27 -> 19256789
B22: เงื่อนไขการใช้ตาราง Factor F
B23: เงินล่วงหน้าจ่าย........0...…...%
B24: เงินประกันผลงานหัก.....0..….%
B25: ดอกเบี้ยเงินกู้..........7.....……%
B26: ภาษีมูลค่าเพิ่ม..........7....……%
C27: รวมค่าก่อสร้าง | E27: =SUM(E14:E19) -> 19256789
A29: คณะกรรมการกำหนดราคากลาง
B31: ........................................... | D31: ...........................................
B32: (นายฉกาจ เชื่อดี) | D32: (นายเทอดพงษ์ ไชยณรงค์)
B33: ประธานกรรมการ | D33: กรรมการ
B36: ........................................... | D36: ...........................................
B37: (นายรัชชานนท์ ศักดิณากร) | D37: (นายสายันต์ ขอนพุดซา)
B38: กรรมการ | D38: กรรมการและเลขานุการ

Sheet ปร.5(ข)
E1: แบบ ปร. 5 (ข)
A2: แบบสรุปค่าครุภัณฑ์จัดซื้อ
A3: =ชื่อโครงการ!A4 -> กลุ่มงาน : งานก่อสร้าง
A4: =ชื่อโครงการ!A2 -> ชื่อโครงการ : จ้างก่อสร้างอาคารสำนักงานวิทยาเขตร้อยเอ็ด ณ ทุ่งกุลาร้องไห้
A5: =ชื่อโครงการ!A11 -> สถานที่ก่อสร้าง : มหาวิทยาลัยเทคโนโลยีราชมงคลอีสาน วิทยาเขตร้อยเอ็ด ณ ทุ่งกุลาร้องไห้ ต.หินกอง อ.สุวรรณภูมิ จ.ร้อยเอ็ด (พื้นที่ศูนย์เบญจคาม)
A6: แบบเลขที่
A7: =ชื่อโครงการ!A13 -> หน่วยงานเจ้าของโครงการ :มหาวิทยาลัยเทคโนโลยีราชมงคลอีสาน วิทยาเขตร้อยเอ็ด ณ ทุ่งกุลาร้องไห้
A8: ='ปร.5(ก)'!A8 -> แบบ ปร. 4 ที่แนบ มีจำนวน 17 หน้า
A9: =ชื่อโครงการ!A9 -> คำนวณราคากลาง : โดยคณะกรรมการกำหนดราคากลาง เมื่อวันที่ 15 เดือน มีนาคม พ.ศ. 2567
F10: หน่วย : บาท
A11: ลำดับที่ | B11: รายการ | C11: ค่างาน | D11: ภาษี | E11: ค่าก่อสร้าง | F11: หมายเหตุ
D12: มูลค่าเพิ่ม
A13: 1 | B13: กลุ่มงานที่ 2 /งาน..ครุภัณฑ์จัดซื้อจัดจ้าง | C13: =ปร.4!I406 -> 884342.3 | D13: 1.07 | E13: =C13*D13 -> 946246.26
C21: รวมค่าก่อสร้าง | E21: =SUM(E13:E19) -> 946246.26
A23: คณะกรรมการกำหนดราคากลาง
B25: ........................................... | D25: ...........................................
B26: (นายฉกาจ เชื่อดี) | D26: (นายเทอดพงษ์ ไชยณรงค์)
B27: ประธานกรรมการ | D27: กรรมการ
B30: ........................................... | D30: ...........................................
B31: (นายรัชชานนท์ ศักดิณากร) | D31: (นายสายันต์ ขอนพุดซา)
B32: กรรมการ | D32: กรรมการและเลขานุการ

Sheet ปร.6
C1: แบบ ปร.6 แผ่นที่ 1/1
A2: แบบสรุปราคากลางงานก่อสร้างอาคาร
A4: =ชื่อโครงการ!A2 -> ชื่อโครงการ : จ้างก่อสร้างอาคารสำนักงานวิทยาเขตร้อยเอ็ด ณ ทุ่งกุลาร้องไห้
A5: =ชื่อโครงการ!A11 -> สถานที่ก่อสร้าง : มหาวิทยาลัยเทคโนโลยีราชมงคลอีสาน วิทยาเขตร้อยเอ็ด ณ ทุ่งกุลาร้องไห้ ต.หินกอง อ.สุวรรณภูมิ จ.ร้อยเอ็ด (พื้นที่ศูนย์เบญจคาม)
A6: แบบเลขที่
A7: =ชื่อโครงการ!A13 -> หน่วยงานเจ้าของโครงการ :มหาวิทยาลัยเทคโนโลยีราชมงคลอีสาน วิทยาเขตร้อยเอ็ด ณ ทุ่งกุลาร้องไห้
A8: แบบ ปร. 4 และ ปร. 5 ที่แนบ มีจำนวน 1 ชุด
A9: =ชื่อโครงการ!A9 -> คำนวณราคากลาง : โดยคณะกรรมการกำหนดราคากลาง เมื่อวันที่ 15 เดือน มีนาคม พ.ศ. 2567
D10: หน่วย : บาท
A11: ลำดับที่ | B11: รายการ | C11: ค่าก่อสร้าง | D11: หมายเหตุ
A13: 1 | B13: กลุ่มงานที่ 1 /งาน ค่างานก่อสร้าง | C13: ='ปร.5(ก)'!E27 -> 19256789
A14: 2 | B14: กลุ่มงานที่ 2 /งาน..ครุภัณฑ์จัดซื้อจัดจ้าง | C14: ='ปร.5(ข)'!E21 -> 946246.26
A21: สรุป | B21: รวมค่าก่อสร้างทั้งโครงการ/งานก่อสร้าง | C21: =SUM(C13:C20) -> 20203035
B22: ราคากลาง | C22: =C21 -> 20203035
B24: =BAHTTEXT(C22) -> ยี่สิบล้านสองแสนสามพันสามสิบห้าบาทสี่สิบเจ็ดสตางค์
A26: คณะกรรมการกำหนดราคากลาง
B28: ........................................... | C28: ...........................................
B29: (นายฉกาจ เชื่อดี) | C29: (นายเทอดพงษ์ ไชยณรงค์)
B30: ประธานกรรมการ | C30: กรรมการ
B33: ........................................... | C33: ...........................................
B34: (นายรัชชานนท์ ศักดิณากร) | C34: (นายสายันต์ ขอนพุดซา)
B35: กรรมการ | C35: กรรมการและเลขานุการ

Sheet ชื่อโครงการ
A2: ชื่อโครงการ : จ้างก่อสร้างอาคารสำนักงานวิทยาเขตร้อยเอ็ด ณ ทุ่งกุลาร้องไห้
A4: กลุ่มงาน : งานก่อสร้าง | B4: กลุ่มงาน : งานปรับปรุงอาคาร
B5: กลุ่มงาน : งานก่อสร้าง
A7: แบบเลขที่
A9: คำนวณราคากลาง : โดยคณะกรรมการกำหนดราคากลาง เมื่อวันที่ 15 เดือน มีนาคม พ.ศ. 2567
A11: สถานที่ก่อสร้าง : มหาวิทยาลัยเทคโนโลยีราชมงคลอีสาน วิทยาเขตร้อยเอ็ด ณ ทุ่งกุลาร้องไห้ ต.หินกอง อ.สุวรรณภูมิ จ.ร้อยเอ็ด (พื้นที่ศูนย์เบญจคาม) | B11: สถานที่ก่อสร้าง : 744 ถนนสุรนารายณ์ ตำบลในเมือง อำเภอเมืองนครราชสีมา จังหวัดนครราชสีมา | C11: สถานที่ก่อสร้าง : 77 หมู่7 ตำบลหนองระเวียง อำเภอเมืองนครราชสีมา จังหวัดนครราชสีมา
A13: หน่วยงานเจ้าของโครงการ :มหาวิทยาลัยเทคโนโลยีราชมงคลอีสาน วิทยาเขตร้อยเอ็ด ณ ทุ่งกุลาร้องไห้ | B13: หน่วยงานเจ้าของโครงการ : สำนักงานบริหารสินทรัพย์ มหาวิทยาลัยเทคโนโลยีราชมงคลอีสาน | C13: หน่วยงานเจ้าของโครงการ : คณะนวัตกรรมและเทคโนโลยีการเกษตร มหาวิทยาลัยเทคโนโลยีราชมงคลอีสาน
