Workbook
Name \c: #REF!
Name \C.1: #REF!
Name \e: #REF!
Name \i: #REF!
Name \p: #REF!
Name \s: #REF!
Name _: #REF!
Name _\e: #REF!
Name ______________________dig1: #REF!
Name ______________________dig2: #REF!
Name ______________________dig3: #REF!
Name _____________________dig1: #REF!
Name _____________________dig2: #REF!
Name _____________________dig3: #REF!
Name ____________________dig1: #REF!
Name ____________________dig2: #REF!
Name ____________________dig3: #REF!
Name ___________________dig1: #REF!
Name ___________________dig2: #REF!
Name ___________________dig3: #REF!
Name __________________dig1: #REF!
Name __________________dig2: #REF!
Name __________________dig3: #REF!
Name _________________dig1: #REF!
Name _________________dig2: #REF!
Name _________________dig3: #REF!
Name ________________dig1: #REF!
Name ________________dig2: #REF!
Name ________________dig3: #REF!
Name _______________dig1: #REF!
Name _______________dig2: #REF!
Name _______________dig3: #REF!
Name ______________dig1: #REF!
Name ______________dig2: #REF!
Name ______________dig3: #REF!
Name _____________dig1: #REF!
Name _____________dig2: #REF!
Name _____________dig3: #REF!
Name ____________dig1: #REF!
Name ____________dig2: #REF!
Name ____________dig3: #REF!
Name ___________dig1: #REF!
Name ___________dig2: #REF!
Name ___________dig3: #REF!
Name __________dig1: #REF!
Name __________dig2: #REF!
Name __________dig3: #REF!
Name _________dig1: #REF!
Name _________dig2: #REF!
Name _________dig3: #REF!
Name ________dig1: #REF!
Name ________dig2: #REF!
Name ________dig3: #REF!
Name _______dig1: #REF!
Name _______dig2: #REF!
Name _______dig3: #REF!
Name ______dig1: #REF!
Name ______dig2: #REF!
Name ______dig3: #REF!
Name _____dig1: #REF!

Sheet ชื่อโครงการ
A2: ชื่อโครงการ : ปรับปรุงระบบไฟฟ้าอาคารปฏิบัติการคณะวิทยาศาสตร์และศิลปศาสตร์
A4: กลุ่มงาน : งานปรับปรุงอาคาร | B4: กลุ่มงาน : งานปรับปรุงอาคาร
B5: กลุ่มงาน : งานก่อสร้าง
A7: แบบเลขที่
A9: คำนวณราคากลาง : โดยคณะกรรมการกำหนดราคากลาง เมื่อวันที่
A11: สถานที่ก่อสร้าง : 744 ถนนสุรนารายณ์ ตำบลในเมือง อำเภอเมืองนครราชสีมา จังหวัดนครราชสีมา
A13: หน่วยงานเจ้าของโครงการ : คณะวิทยาศาสตร์และศิลปศาสตร์ มหาวิทยาลัยเทคโนโลยีราชมงคลอีสาน

Sheet ตาราง Factor
B1: ตาราง Factor F งานอาคาร | D1: การคำนวณหาค่า Factor-F
B2: เงินล่วงหน้าจ่าย | C2: 0
B3: เงินประกันผลงานหัก | C3: 0 | E3: สูตรต้นทุนต่ำ
B4: ดอกเบี้ยเงินกู้ | C4: 0.07
B5: ค่าภาษีมูลค่าเพิ่ม | C5: 0.07 | D5: Factor F = | E5: D - ((D-E)*(A-B)/(C-B))
B7: ค่างานต้นทุน | C7: Factor F | D7: B | E7: =B11 -> 2000000 | F7: B : ค่างานต้นทุนต่ำ
B8: (บาท) | D8: A | E8: ='ปร.4(ก) รวม9ชั้น'!J13 -> 0 | F8: A : ค่างานต้นทุนที่ประมาณราคาได้(วัสดุ+แรงงาน)
B9: <= 500,000 | C9: 1.3091 | D9: C | E9: =B12 -> 5000000 | F9: C : ค่างานต้นทุนสูง
B10: 1000000 | C10: 1.3067
B11: 2000000 | C11: 1.3051 | D11: D | E11: =C11 -> 1.3051 | F11: D : Factor F ทุนต่ำ
B12: 5000000 | C12: 1.302 | D12: E | E12: =C12 -> 1.302 | F12: E : Factor F ทุนสูง
B13: 10000000 | C13: 1.296 | D13: Factor F = | E13: =ROUND(E11-(((E11-E12)*(E8-E7))/(E9-E7)),4) -> 1.3072 | F13: นำค่านี้ไปใช้ในการคำนวน
B14: 15000000 | C14: 1.2611 | D14: A * Factor F | E14: =SUM(E8*E13) -> 0
B15: 20000000 | C15: 1.2535
B16: 25000000 | C16: 1.2265 | D16: (ให้กรอกข้อมูลลงในช่อง B,C เท่านั้น)
B17: 30000000 | C17: 1.2181
B18: 40000000 | C18: 1.2177
B19: 50000000 | C19: 1.2176
B22: เริ่มใช้ 28 สิงหาคม 2566
B23: หนังสือกรมบัญชีกลาง ด่วนที่สุด ที่ กค ๐๔๓๓.๒ /ว ๔๙๙ ลงวันที่ ๒๘ สิงหาคม ๒๕๖๖

Sheet ปร.6
C1: แบบ ปร.6 แผ่นที่ 1/1
A2: แบบสรุปราคากลางงานก่อสร้างอาคาร
A4: =ชื่อโครงการ!A2 -> ชื่อโครงการ : ปรับปรุงระบบไฟฟ้าอาคารปฏิบัติการคณะวิทยาศาสตร์และศิลปศาสตร์
A5: =ชื่อโครงการ!A11 -> สถานที่ก่อสร้าง : 744 ถนนสุรนารายณ์ ตำบลในเมือง อำเภอเมืองนครราชสีมา จังหวัดนครราชสีมา
A6: แบบเลขที่
A7: =ชื่อโครงการ!A13 -> หน่วยงานเจ้าของโครงการ : คณะวิทยาศาสตร์และศิลปศาสตร์ มหาวิทยาลัยเทคโนโลยีราชมงคลอีสาน
A8: แบบ ปร.4(ก) และ ปร.5(ก) ที่แนบมีจำนวน 1 ชุด
A9: =ชื่อโครงการ!A9 -> คำนวณราคากลาง : โดยคณะกรรมการกำหนดราคากลาง เมื่อวันที่
D10: หน่วย : บาท
A11: ลำดับที่ | B11: รายการ | C11: ค่าก่อสร้าง | D11: หมายเหตุ
A13: 1 | B13: ='ปร.5(ก)'!B13 -> หมวดที่1 งานวิศวกรรมไฟฟ้า | C13: ='ปร.5(ก)'!E27 -> 0
A21: สรุป | B21: รวมค่าก่อสร้างทั้งโครงการ/งานก่อสร้าง | C21: =SUM(C13:C20) -> 0
B22: ราคากลาง | C22: =SUM(C13:C20) -> 0
B24: =BAHTTEXT(C22) -> ศูนย์บาทถ้วน

Sheet ปร.5(ก)
E1: แบบ ปร. 5 (ก) แผ่นที่ 1/1
A2: แบบสรุปค่าก่อสร้าง
A3: =ชื่อโครงการ!A4 -> กลุ่มงาน : งานปรับปรุงอาคาร
A4: =ชื่อโครงการ!A2 -> ชื่อโครงการ : ปรับปรุงระบบไฟฟ้าอาคารปฏิบัติการคณะวิทยาศาสตร์และศิลปศาสตร์
A5: =ชื่อโครงการ!A11 -> สถานที่ก่อสร้าง : 744 ถนนสุรนารายณ์ ตำบลในเมือง อำเภอเมืองนครราชสีมา จังหวัดนครราชสีมา
A6: =[7]ชื่อโครงการ!B5 -> แบบเลขที่
A7: =ชื่อโครงการ!A13 -> หน่วยงานเจ้าของโครงการ : คณะวิทยาศาสตร์และศิลปศาสตร์ มหาวิทยาลัยเทคโนโลยีราชมงคลอีสาน
A8: แบบ ปร.4(ก) ที่แนบมีจำนวน 3 หน้า
A9: =ชื่อโครงการ!A9 -> คำนวณราคากลาง : โดยคณะกรรมการกำหนดราคากลาง เมื่อวันที่
F10: หน่วย : บาท
A11: ลำดับที่ | B11: รายการ | C11: ค่างานต้นทุน | D11: Factor F | E11: ค่าก่อสร้าง | F11: หมายเหตุ
B13: หมวดที่1 งานวิศวกรรมไฟฟ้า
A14: 1 | B14: หมวดงานไฟฟ้ากำลังสำหรับเครื่องปรับอากาศ | C14: ='ปร.4(ก) รวม9ชั้น'!J13 -> 0 | D14: ='ตาราง Factor'!E13 -> 1.3072 | E14: =C14*D14 -> 0
B21: รวม
B22: เงื่อนไขการใช้ตาราง Factor F
B23: เงินล่วงหน้าจ่าย........0...…...%
B24: เงินประกันผลงานหัก.....0..….%
B25: ดอกเบี้ยเงินกู้..........7.....……%
B26: ภาษีมูลค่าเพิ่ม..........7....……%
C27: รวมค่าก่อสร้าง | E27: =SUM(E14:E19) -> 0

Sheet ปร.4(ก) รวม9ชั้น
A1: แบบแสดงรายการ ปริมาณงาน และราคา
A2: =ชื่อโครงการ!A2 -> ชื่อโครงการ : ปรับปรุงระบบไฟฟ้าอาคารปฏิบัติการคณะวิทยาศาสตร์และศิลปศาสตร์
A3: =ชื่อโครงการ!A4 -> กลุ่มงาน : งานปรับปรุงอาคาร
A4: =ชื่อโครงการ!A11 -> สถานที่ก่อสร้าง : 744 ถนนสุรนารายณ์ ตำบลในเมือง อำเภอเมืองนครราชสีมา จังหวัดนครราชสีมา | H4: แบบเลขที่
A5: =ชื่อโครงการ!A13 -> หน่วยงานเจ้าของโครงการ : คณะวิทยาศาสตร์และศิลปศาสตร์ มหาวิทยาลัยเทคโนโลยีราชมงคลอีสาน
A6: =ชื่อโครงการ!A9 -> คำนวณราคากลาง : โดยคณะกรรมการกำหนดราคากลาง เมื่อวันที่
K7: หน่วย : บาท
A8: ลำดับ | B8: รายการ | D8: ปริมาณ | E8: หน่วย | F8: ค่าวัสดุ | H8: ค่าแรงงาน | J8: ราคารวม | K8: หมายเหตุ
F9: หน่วยละ | G9: รวมเงิน | H9: หน่วยละ | I9: รวมเงิน
B10: หมวดที่1 งานวิศวกรรมไฟฟ้า
A11: 1 | B11: =B16 -> หมวดงานไฟฟ้ากำลังสำหรับเครื่องปรับอากาศ ชั้นที่1-9 | D11: 1 | E11: งาน | G11: =G62 -> 0 | I11: =I62 -> 0 | J11: =G11+I11 -> 0
B13: ="รวมราคา"&B10 -> รวมราคาหมวดที่1 งานวิศวกรรมไฟฟ้า | G13: =SUM(G11:G12) -> 0 | H13: 0 | I13: =SUM(I11:I12) -> 0 | J13: =SUM(J11:J12) -> 0
A16: 1 | B16: หมวดงานไฟฟ้ากำลังสำหรับเครื่องปรับอากาศ ชั้นที่1-9
A17: 1.1 | B17: ตู้จ่ายไฟฟ้า ตู้โหลด Center
B18: 1.1.1 | C18: ตู้โหลดเซ็นเตอร์ 3 เฟส 4 สาย 100 A 18 ช่อง | D18: =1 -> 1 | E18: ชุด | G18: =F18*D18 -> 0 | I18: =H18*D18 -> 0 | J18: =I18+G18 -> 0
B19: 1.1.2 | C19: ตู้โหลดเซ็นเตอร์ 3 เฟส 4 สาย 100 A 24 ช่อง | D19: =1 -> 1 | E19: ชุด | G19: =F19*D19 -> 0 | I19: =H19*D19 -> 0 | J19: =I19+G19 -> 0
B20: 1.1.3 | C20: ตู้โหลดเซ็นเตอร์ 3 เฟส 4 สาย 100 A 30 ช่อง | D20: 1 | E20: ชุด | G20: =F20*D20 -> 0 | I20: =H20*D20 -> 0 | J20: =I20+G20 -> 0
B21: 1.1.4 | C21: ตู้โหลดเซ็นเตอร์ 3 เฟส 4 สาย 100 A 30 ช่อง แบบกันน้ำ ฝ่า 2 ชั้น ฝาชั้นนอกกระจก | D21: 4 | E21: ชุด | G21: =F21*D21 -> 0 | I21: =H21*D21 -> 0 | J21: =I21+G21 -> 0
B22: 1.1.5 | C22: ตู้โหลดเซ็นเตอร์ 3 เฟส 4 สาย 100 A 36 ช่อง | D22: =7 -> 7 | E22: ชุด | G22: =F22*D22 -> 0 | I22: =H22*D22 -> 0 | J22: =I22+G22 -> 0
B23: 1.1.6 | C23: ตู้โหลดเซ็นเตอร์ 3 เฟส 4 สาย 250 A 36 ช่อง | D23: =3 -> 3 | E23: ชุด | G23: =F23*D23 -> 0 | I23: =H23*D23 -> 0 | J23: =I23+G23 -> 0
B24: 1.1.7 | C24: ตู้โหลดเซ็นเตอร์ 3 เฟส 4 สาย 250 A 42 ช่อง | D24: =1 -> 1 | E24: ชุด | G24: =F24*D24 -> 0 | I24: =H24*D24 -> 0 | J24: =I24+G24 -> 0
B25: 1.1.8 | C25: ตู้โหลดเซ็นเตอร์ 3 เฟส 4 สาย 250 A 48 ช่อง | D25: =2*2 -> 4 | E25: ชุด | G25: =F25*D25 -> 0 | I25: =H25*D25 -> 0 | J25: =I25+G25 -> 0
B26: 1.1.9 | C26: ตู้ DB 4 วงจร 200 A เฟส 4 ช่อง + Energy meter (ติดตั้งชั้น8 อาคารA) | D26: 1 | E26: ชุด | G26: =F26*D26 -> 0 | I26: =H26*D26 -> 0 | J26: =I26+G26 -> 0
B27: 1.1.10 | C27: แผงไฟฟ้าพลาสติก ขนาดไม่น้อยกว่า 6"x8" (ใช้สำหรับเก็บสายไฟฟ้าในห้องรอติดตั้งเบรคเกอร์แอร์) | D27: 249 | E27: ตัว | G27: =F27*D27 -> 0 | I27: =H27*D27 -> 0 | J27: =I27+G27 -> 0
B28: 1.1.11 | C28: Circuit Breaker 1 Pole 16AT, IC≥6kA (ติดตั้งในตู้โหลดเซ็นเตอร์) | D28: 4 | E28: ตัว | G28: =F28*D28 -> 0 | I28: =H28*D28 -> 0 | J28: =I28+G28 -> 0
B29: 1.1.12 | C29: Circuit Breaker 1 Pole 20AT,IC≥6kA (ติดตั้งในตู้โหลดเซ็นเตอร์) | D29: 50 | E29: ตัว | G29: =F29*D29 -> 0 | I29: =H29*D29 -> 0 | J29: =I29+G29 -> 0
B30: 1.1.13 | C30: Circuit Breaker 3 Pole16AT, IC≥6kA (ติดตั้งในตู้โหลดเซ็นเตอร์) | D30: 195 | E30: ตัว | G30: =F30*D30 -> 0 | I30: =H30*D30 -> 0 | J30: =I30+G30 -> 0
B31: 1.1.14 | C31: MCCB 3P 63AT/100AF IC≥30 (ติดตั้งในตู้โหลดเซ็นเตอร์) | D31: =1 -> 1 | E31: ตัว | G31: =F31*D31 -> 0 | I31: =H31*D31 -> 0 | J31: =I31+G31 -> 0
B32: 1.1.15 | C32: MCCB 3P 80AT/100AF IC≥30 (ติดตั้งในตู้โหลดเซ็นเตอร์) | D32: =8 -> 8 | E32: ตัว | G32: =F32*D32 -> 0 | I32: =H32*D32 -> 0 | J32: =I32+G32 -> 0
B33: 1.1.16 | C33: MCCB 3P 100AT/250AF IC≥30 (ติดตั้งในตู้โหลดเซ็นเตอร์) | D33: =5 -> 5 | E33: ตัว | G33: =F33*D33 -> 0 | I33: =H33*D33 -> 0 | J33: =I33+G33 -> 0
B34: 1.1.17 | C34: MCCB 3P 125AT/250AF IC≥35 (ติดตั้งในตู้โหลดเซ็นเตอร์) | D34: =3 -> 3 | E34: ตัว | G34: =F34*D34 -> 0 | I34: =H34*D34 -> 0 | J34: =I34+G34 -> 0
B35: 1.1.18 | C35: MCCB 3P 150AT/250AF IC≥35 (ติดตั้งในตู้โหลดเซ็นเตอร์) | D35: =3 -> 3 | E35: ตัว | G35: =F35*D35 -> 0 | I35: =H35*D35 -> 0 | J35: =I35+G35 -> 0
B36: 1.1.19 | C36: MCCB 3P 63AT/100AF IC≥30 (ติดตั้งในตู้ DBXA,B) | D36: =1 -> 1 | E36: ตัว | G36: =F36*D36 -> 0 | I36: =H36*D36 -> 0 | J36: =I36+G36 -> 0
B37: 1.1.20 | C37: MCCB 3P 80AT/100AF IC≥30 (ติดตั้งในตู้ DBXA,B) | D37: =8 -> 8 | E37: ตัว | G37: =F37*D37 -> 0 | I37: =H37*D37 -> 0 | J37: =I37+G37 -> 0
B38: 1.1.21 | C38: MCCB 3P 100AT/250AF IC≥30 (ติดตั้งในตู้ DBXA,B) | D38: =5 -> 5 | E38: ตัว | G38: =F38*D38 -> 0 | I38: =H38*D38 -> 0 | J38: =I38+G38 -> 0
B39: 1.1.22 | C39: MCCB 3P 125AT/250AF IC≥35 (ติดตั้งในตู้ DBXA,B) | D39: =3 -> 3 | E39: ตัว | G39: =F39*D39 -> 0 | I39: =H39*D39 -> 0 | J39: =I39+G39 -> 0
B40: 1.1.23 | C40: MCCB 3P 150AT/250AF IC≥35 (ติดตั้งในตู้ DBXA,B) | D40: =3 -> 3 | E40: ตัว | G40: =F40*D40 -> 0 | I40: =H40*D40 -> 0 | J40: =I40+G40 -> 0
B41: 1.1.24 | C41: MCCB 3P 175AT/250AF IC≥25 (ติดตั้งในตู้ DB) | D41: 2 | E41: ตัว | G41: =F41*D41 -> 0 | I41: =H41*D41 -> 0 | J41: =I41+G41 -> 0
A42: 1.2 | B42: งานเดินสายไฟฟ้า
B43: 1.2.1 | C43: สายไฟฟ้า THW (IEC 01) ขนาด 120 ตร.มม. | D43: =24 -> 24 | E43: เมตร | G43: =F43*D43 -> 0 | I43: =H43*D43 -> 0 | J43: =I43+G43 -> 0
...
