Workbook

Sheet ปร.6
A1: แบบ ปร.6 แผ่นที่ 1/1
A2: แบบสรุปราคากลางงานก่อสร้างอาคาร
A4: ชื่อโครงการ | B4: อาคารศูนย์ปฏิบัติการศึกษาด้านระบบรางและอากาศยาน ตำบลหนองระเวียง อำเภอเมืองนครราชสีมา จังหวัดนครราชสีมา
A5: สถานที่ก่อสร้าง | B5: มหาวิทยาลัยเทคโนโลยีราชมงคลอีสาน ตำบลหนองระเวียง อำเภอเมืองนครราชสีมา จังหวัดนครราชสีมา
A6: แบบเลขที่ | B6: -
A7: เจ้าของโครงการ | B7: มหาวิทยาลัยเทคโนโลยีราชมงคลอีสาน
A8: แบบ ปร.4 และ ปร.5(ก),ปร.5(ข) ที่แนบ | C8: มีจำนวนทั้งหมด 72 แผ่น
A9: ประมาณราคากลางโดย คณะกรรมการกำหนดราคากลาง เมื่อวันที่
A11: ลำดับที่ | B11: รายการ | D11: ค่าก่อสร้าง | E11: หมายเหตุ
A14: 1 | B14: กลุ่มงาน/งาน. ค่างานก่อสร้าง
A15: 2 | B15: กลุ่มงาน/งาน. ครุภัณฑ์จัดซื้อ
A20: สรุป | B20: รวมค่าก่อสร้างทั้งโครงการ / งานก่อสร้าง
B21: ราคากลาง
B22: ราคากลาง

Sheet ปร.5(ก)
A1: แบบ ปร. 5 (ก) แผ่นที่ 1/1
A2: แบบสรุปค่าก่อสร้าง
A3: ชื่อโครงการ | B3: =ปร.6!B4 -> อาคารศูนย์ปฏิบัติการศึกษาด้านระบบรางและอากาศยาน ตำบลหนองระเวียง อำเภอเมืองนครราชสีมา จังหวัดนครราชสีมา
A4: สถานที่ก่อสร้าง | B4: =ปร.6!B5 -> มหาวิทยาลัยเทคโนโลยีราชมงคลอีสาน ตำบลหนองระเวียง อำเภอเมืองนครราชสีมา จังหวัดนครราชสีมา
A5: แบบเลขที่ | B5: -
A6: เจ้าของโครงการ | B6: =ปร.6!B7 -> มหาวิทยาลัยเทคโนโลยีราชมงคลอีสาน
A7: แบบ ปร.4 ที่แนบ | C7: มีจำนวน 70 แผ่น
A8: ประมาณราคากลางโดย คณะกรรมการกำหนดราคากลาง เมื่อวันที่
G9: หน่วย : บาท
A10: ลำดับที่ | B10: รายการ | D10: ค่างานต้นทุน | E10: Factor F | F10: ค่าก่อสร้าง | G10: หมายเหตุ
A11: 1 | B11: งานโครงสร้างวิศวกรรม
A12: 2 | B12: งานสถาปัตยกรรม
A13: 3 | B13: งานระบบสุขาภิบาล ดับเพลิง และป้องกันอัคคีภัย
A14: 4 | B14: งานระบบไฟฟ้าและสื่อสาร
A15: 5 | B15: งานระบบปรับอากาศและระบายอากาศ
A16: 6 | B16: งานสาธารณูปโภค
B20: รวม
B22: เงื่อนไขการใช้ตาราง Factor F
B23: เงินล่วงหน้า จ่าย 15 %
B24: เงินประกันผลงานหัก 5 %
B25: ดอกเบี้ยเงินกู้ 5 %
B26: ภาษีมูลค่าเพิ่ม 7 %
D27: รวมค่าก่อสร้าง

Sheet ปร.5(ข)
A1: แบบ ปร. 5 (ข) แผ่นที่ 1/1
A2: แบบสรุปค่าครุภัณฑ์จัดซื้อ
A3: กลุ่มงาน / งาน | B3: อาคาร
A4: ชื่อโครงการ | B4: =ปร.6!B4 -> อาคารศูนย์ปฏิบัติการศึกษาด้านระบบรางและอากาศยาน ตำบลหนองระเวียง อำเภอเมืองนครราชสีมา จังหวัดนครราชสีมา
A5: สถานที่ก่อสร้าง | B5: =ปร.6!B5 -> มหาวิทยาลัยเทคโนโลยีราชมงคลอีสาน ตำบลหนองระเวียง อำเภอเมืองนครราชสีมา จังหวัดนครราชสีมา
A6: แบบเลขที่ | C6: -
A7: เจ้าของโครงการ | C7: =ปร.6!B7 -> มหาวิทยาลัยเทคโนโลยีราชมงคลอีสาน
A8: แบบ ปร.4 ที่แนบ | C8: มีจำนวน 70 แผ่น
A9: ประมาณราคากลางโดย คณะกรรมการกำหนดราคากลาง เมื่อวันที่
G10: หน่วย : บาท
A11: ลำดับที่ | B11: รายการ | D11: ค่างาน | E11: ภาษีมูลค่าเพิ่ม | F11: ค่าก่อสร้าง | G11: หมายเหตุ
A12: 1 | B12: งานระบบลิฟท์
A13: 2 | B13: งานครุภัณฑ์
D18: รวมค่าก่อสร้าง

Sheet Structure
A1: Home 3 Story
A2: THANAPAT 360 PROJECT
A4: Item | B4: DESCRIPTION | G4: Quantity | I4: Round Bars (SR.24) | L4: Deform Bars (SD.40) | P4: Total | Q4: Bending | R4: Concrete | T4: Form | V4: Nails | W4: Sand | X4: Earth | Z4: เสาเข็ม | AA4: HC Slap | AB4: Wire Mesh
G5: amount | H5: unit | P5: Weigth | Q5: Wire | R5: Lean | S5: Structure | T5: Work | X5: Excavation | Y5: Filling | Z5: คอร. | AA5: 500 Kg./Sq.m.
B6: อาคารส่วนกลาง | I6: RB.6 | J6: RB.9 | K6: RB.19 | L6: DB.12 | M6: DB.16 | N6: DB.20 | O6: DB.25 | R6: 1.3.5 | S6: Cube Strength | Z6: 0.40 x 0.40 m.
I7: 6 mm. | J7: 9 mm. | K7: 19 mm. | L7: 12 mm. | M7: 16 mm. | N7: 20 mm. | O7: 25 mm. | S7: 240 KSC.
D8: wide | E8: long | F8: high | I8: 0.222 | J8: 0.499 | K8: 2.226 | L8: 0.888 | M8: 1.578 | N8: 2.466 | O8: 3.853
D9: (m.) | E9: (m.) | F9: (m.) | I9: (Kg.) | J9: (Kg.) | K9: (Kg.) | L9: (Kg.) | M9: (Kg.) | N9: (Kg.) | O9: (Kg.) | P9: (Kg.) | Q9: (Nos) | R9: (Cu.m.) | S9: (Cu.m.) | T9: (Sq.m.) | U9: (ft2.) | V9: (Kg.) | W9: (Cu.m.) | X9: (Cu.m.) | Y9: (Cu.m.) | Z9: (Nos) | AA9: (Sq.m.) | AB9: (Sq.m.)
B10: งานฐานรากเสาเข็ม
B11: Footing (F.1) | D11: 1.3 | E11: 1.3 | F11: 1.5 | G11: 8 | H11: Nos. | L11: =((F11+D11+F11)*8+(F11+E11+F11)*8)*G11*L8+((D11*2+E11*2)*2*G11)*L8 -> 562.6368 | O11: =(F11+D11+F11)*E11/0.2+(10*E11)*G11*O8 -> 428.662 | P11: =SUM(I11:O11) -> 991.2988 | Q11: =(P11*0.03) -> 29.738964 | R11: =D11*E11*0.1*G11 -> 1.352 | S11: =D11*E11*F11*G11 -> 20.28 | T11: =((D11*F11)*2+(E11*F11)*2)*G11 -> 62.4 | U11: =(T11*0.03)*10.764 -> 20.150208 | V11: =T11*0.25 -> 15.6 | W11: =(D11*E11*0.1)*G11 -> 1.352 | X11: =((D11*E11)*F11)*G11 -> 20.28 | Y11: 0 | Z11: =G11*1 -> 8 | AA11: 0 | AB11: 0
B12: Footing (F.3) | D12: 2.4 | E12: 2.4 | F12: 1.1 | G12: 8 | H12: Nos. | O12: =(F12+D12+F12)*E12/0.2+(10*E12)*G12*O8 -> 794.976 | P12: =SUM(I12:O12) -> 794.976 | Q12: =(P12*0.03) -> 23.84928 | R12: =D12*E12*0.1*G12 -> 4.608 | S12: =D12*E12*F12*G12 -> 50.688 | T12: =((D12*F12)*2+(E12*F12)*2)*G12 -> 84.48 | U12: =(T12*0.03)*10.764 -> 27.280282 | V12: =T12*0.25 -> 21.12 | W12: =(D12*E12*0.1)*G12 -> 4.608 | X12: =((D12*E12)*F12)*G12 -> 50.688 | Z12: =G12*3 -> 24 | AA12: 0 | AB12: 0
B13: Footing (F.4) | D13: 2.8 | E13: 2.8 | F13: 1.6 | G13: 8 | H13: Nos. | O13: =(F13+D13+F13)*E13/0.2+(10*E13)*G13*O8 -> 947.072 | P13: =SUM(I13:O13) -> 947.072 | Q13: =(P13*0.03) -> 28.41216 | R13: =D13*E13*0.1*G13 -> 6.272 | S13: =D13*E13*F13*G13 -> 100.352 | T13: =((D13*F13)*2+(E13*F13)*2)*G13 -> 143.36 | U13: =(T13*0.03)*10.764 -> 46.293811 | V13: =T13*0.25 -> 35.84 | W13: =(D13*E13*0.1)*G13 -> 6.272 | X13: =((D13*E13)*F13)*G13 -> 100.352 | Z13: =G13*4 -> 32 | AA13: 0 | AB13: 0
B14: Footing (F.5) | D14: 3.1 | E14: 3.1 | F14: 1.7 | G14: 3 | H14: Nos. | O14: =(F14+D14+F14)*E14/0.2+(10*E14)*G14*O8 -> 459.079 | P14: =SUM(I14:O14) -> 459.079 | Q14: =(P14*0.03) -> 13.77237 | R14: =D14*E14*0.1*G14 -> 2.883 | S14: =D14*E14*F14*G14 -> 49.011 | T14: =((D14*F14)*2+(E14*F14)*2)*G14 -> 63.24 | U14: =(T14*0.03)*10.764 -> 20.421461 | V14: =T14*0.25 -> 15.81 | W14: =(D14*E14*0.1)*G14 -> 2.883 | X14: =((D14*E14)*F14)*G14 -> 49.011 | Z14: =G14*5 -> 15 | AA14: 0 | AB14: 0
B15: Footing (F.6) | D15: 3.3 | E15: 3.3 | F15: 1 | G15: 3 | H15: Nos. | O15: =(F15+D15+F15)*E15/0.2+(10*E15)*G15*O8 -> 468.897 | P15: =SUM(I15:O15) -> 468.897 | Q15: =(P15*0.03) -> 14.06691 | R15: =D15*E15*0.1*G15 -> 3.267 | S15: =D15*E15*F15*G15 -> 32.67 | T15: =((D15*F15)*2+(E15*F15)*2)*G15 -> 39.6 | U15: =(T15*0.03)*10.764 -> 12.787632 | V15: =T15*0.25 -> 9.9 | W15: =(D15*E15*0.1)*G15 -> 3.267 | X15: =((D15*E15)*F15)*G15 -> 32.67 | Z15: =G15*6 -> 18 | AA15: 0 | AB15: 0
B16: หมวดงานโครงสร้างเสา ชั้น ตอม่อ
B17: C1 | D17: 0.2 | E17: 0.2 | F17: 1 | G17: 11 | H17: Nos. | I17: =(((D17+E17+D17+E17)*F17/0.2)*G17)*I8 -> 9.768 | O17: =(G17*4)*O8 -> 169.532 | P17: =SUM(I17:O17) -> 179.3 | Q17: =(P17*0.03) -> 5.379 | S17: =(D17*E17*F17)*G17 -> 0.44 | T17: =(D17+E17+E17+D17)*G17 -> 8.8 | U17: =(T17*0.03)*10.764 -> 2.841696 | V17: =(T17+U17)*0.25 -> 2.910424 | X17: 0 | Y17: 0 | Z17: 0 | AA17: 0 | AB17: 0
B18: C3 | D18: 0.4 | E18: 0.6 | F18: 1 | G18: 9 | H18: Nos. | I18: =(((D18+E18+D18+E18)*F18/0.29)*G18)*4*I8 -> 55.117241 | O18: =(G18*12)*O8 -> 416.124 | P18: =SUM(I18:O18) -> 471.24124 | Q18: =(P18*0.03) -> 14.137237 | S18: =(D18*E18*F18)*G18 -> 2.16 | T18: =(D18+E18+E18+D18)*G18 -> 18 | U18: =(T18*0.03)*10.764 -> 5.81256 | V18: =(T18+U18)*0.25 -> 5.95314 | X18: 0 | Y18: 0 | Z18: 0 | AA18: 0 | AB18: 0
B19: C3A | D19: 0.4 | E19: 0.6 | F19: 1 | G19: 3 | H19: Nos. | I19: =(((D19+E19+D19+E19)*F19/0.29)*G19)*4*I8 -> 18.372414 | O19: =(G19*12)*O8 -> 138.708 | P19: =SUM(I19:O19) -> 157.08041 | Q19: =(P19*0.03) -> 4.7124124 | S19: =(D19*E19*F19)*G19 -> 0.72 | T19: =(D19+E19+E19+D19)*G19 -> 6 | U19: =(T19*0.03)*10.764 -> 1.93752 | V19: =(T19+U19)*0.25 -> 1.98438 | X19: 0 | Y19: 0 | Z19: 0 | AA19: 0 | AB19: 0
B20: C4 | D20: 0.4 | E20: 0.6 | F20: 1 | G20: 24 | H20: Nos. | I20: =(((D20+E20+D20+E20)*F20/0.29)*G20)*4*I8 -> 146.97931 | O20: =(G20*14)*O8 -> 1294.608 | P20: =SUM(I20:O20) -> 1441.5873 | Q20: =(P20*0.03) -> 43.247619 | S20: =(D20*E20*F20)*G20 -> 5.76 | T20: =(D20+E20+E20+D20)*G20 -> 48 | U20: =(T20*0.03)*10.764 -> 15.50016 | V20: =(T20+U20)*0.25 -> 15.87504 | X20: 0 | Y20: 0 | Z20: 0 | AA20: 0 | AB20: 0
B21: C4A | D21: 0.4 | E21: 0.6 | F21: 1 | G21: 12 | H21: Nos. | I21: =(((D21+E21+D21+E21)*F21/0.29)*G21)*4*I8 -> 73.489655 | O21: =(G21*12)*O8 -> 554.832 | P21: =SUM(I21:O21) -> 628.32166 | Q21: =(P21*0.03) -> 18.84965 | S21: =(D21*E21*F21)*G21 -> 2.88 | T21: =(D21+E21+E21+D21)*G21 -> 24 | U21: =(T21*0.03)*10.764 -> 7.75008 | V21: =(T21+U21)*0.25 -> 7.93752 | X21: 0 | Y21: 0 | Z21: 0 | AA21: 0 | AB21: 0
B22: C5 | D22: 0.4 | E22: 0.6 | F22: 1 | G22: 34 | H22: Nos. | I22: =(((D22+E22+D22+E22)*F22/0.29)*G22)*4*I8 -> 208.22069 | O22: =(G22*14)*O8 -> 1834.028 | P22: =SUM(I22:O22) -> 2042.2487 | Q22: =(P22*0.03) -> 61.267461 | S22: =(D22*E22*F22)*G22 -> 8.16 | T22: =(D22+E22+E22+D22)*G22 -> 68 | U22: =(T22*0.03)*10.764 -> 21.95856 | V22: =(T22+U22)*0.25 -> 22.48964 | X22: 0 | Y22: 0 | Z22: 0 | AA22: 0 | AB22: 0
B23: C6 | D23: 0.4 | E23: 0.6 | F23: 1 | G23: 3 | H23: Nos. | I23: =(((D23+E23+D23+E23)*F23/0.29)*G23)*4*I8 -> 18.372414 | O23: =(G23*14)*O8 -> 161.826 | P23: =SUM(I23:O23) -> 180.19841 | Q23: =(P23*0.03) -> 5.4059524 | S23: =(D23*E23*F23)*G23 -> 0.72 | T23: =(D23+E23+E23+D23)*G23 -> 6 | U23: =(T23*0.03)*10.764 -> 1.93752 | V23: =(T23+U23)*0.25 -> 1.98438 | X23: 0 | Y23: 0 | Z23: 0 | AA23: 0 | AB23: 0
B24: หมวดงานโครงสร้างคาน,เสาชั้น 1
B25: B.1 | D25: 0.15 | E25: 0.4 | G25: 24.72 | H25: m. | I25: =((D25+E25+D25+E25)*G25/0.175)*I8 -> 34.494994 | L25: =(G25*4)*L8 -> 87.80544 | P25: =SUM(I25:O25) -> 122.30043 | Q25: =(P25*0.03) -> 3.669013 | S25: =D25*E25*G25 -> 1.4832 | T25: =(D25+E25+E25)*G25 -> 23.484 | U25: =(T25*0.03)*10.764 -> 7.5834533 | V25: =(T25+U25)*0.25 -> 7.7668633 | X25: 0 | Y25: 0 | Z25: 0 | AA25: 0 | AB25: 0
B26: B.2 | D26: 0.2 | E26: 0.4 | G26: 13.81 | H26: m. | I26: =((D26+E26+D26+E26)*G26/0.15)*I8 -> 24.52656 | L26: =(G26*4)*L8 -> 49.05312 | O26: =(G26*2)/0.75*O8 -> 141.89315 | P26: =SUM(I26:O26) -> 215.47283 | Q26: =(P26*0.03) -> 6.4641848 | S26: =D26*E26*G26 -> 1.1048 | T26: =(D26+E26+E26)*G26 -> 13.81 | U26: =(T26*0.03)*10.764 -> 4.4595252 | V26: =(T26+U26)*0.25 -> 4.5673813 | X26: 0 | Y26: 0 | Z26: 0 | AA26: 0 | AB26: 0
B27: B.3 | D27: 0.3 | E27: 0.5 | G27: 104.04 | H27: m. | J27: =((D27+E27+D27+E27)*G27/0.2)*J8 -> 415.32768 | L27: =(G27*4)*L8 -> 369.55008 | O27: =((G27*2)/0.75)+(G27)*O8 -> 678.30612 | P27: =SUM(I27:O27) -> 1463.1839 | Q27: =(P27*0.03) -> 43.895516 | S27: =D27*E27*G27 -> 15.606 | T27: =(D27+E27+E27)*G27 -> 135.252 | U27: =(T27*0.03)*10.764 -> 43.675576 | V27: =(T27+U27)*0.25 -> 44.731894 | X27: 0 | Y27: 0 | Z27: 0 | AA27: 0 | AB27: 0
B28: B.4 | D28: 0.2 | E28: 0.7 | G28: 8.2 | H28: m. | J28: =((D28+E28+D28+E28)*G28/0.3)*J8 -> 24.5508 | L28: =(G28*4)*L8 -> 29.1264 | O28: =((G28*2)/0.75)+(G28)*O8 -> 53.461267 | P28: =SUM(I28:O28) -> 107.13847 | Q28: =(P28*0.03) -> 3.214154 | S28: =D28*E28*G28 -> 1.148 | T28: =(D28+E28+E28)*G28 -> 13.12 | U28: =(T28*0.03)*10.764 -> 4.2367104 | V28: =(T28+U28)*0.25 -> 4.3391776 | X28: 0 | Y28: 0 | Z28: 0 | AA28: 0 | AB28: 0
B29: B.5 | D29: 0.2 | E29: 0.5 | G29: 117.53 | H29: m. | J29: =((D29+E29+D29+E29)*G29/0.3)*J8 -> 273.68819 | L29: =(G29*4)+((G29*2)/0.75)*L8 -> 748.43104 | M29: =2*(G29/4)*M8 -> 92.73117 | P29: =SUM(I29:O29) -> 1114.8504 | Q29: =(P29*0.03) -> 33.445512 | S29: =D29*E29*G29 -> 11.753 | T29: =(D29+E29+E29)*G29 -> 141.036 | U29: =(T29*0.03)*10.764 -> 45.543345 | V29: =(T29+U29)*0.25 -> 46.644836 | X29: 0 | Y29: 0 | Z29: 0 | AA29: 0 | AB29: 0
B30: B.6 | D30: 0.2 | E30: 0.4 | G30: 20.56 | H30: m. | I30: =((D30+E30+D30+E30)*G30/0.15)*I8 -> 36.51456 | L30: =(G30*4)+((G30*2)/0.75)+(1*(G30/4))*L8 -> 141.63099 | M30: =2*(G30/4)*M8 -> 16.22184 | P30: =SUM(I30:O30) -> 194.36739 | Q30: =(P30*0.03) -> 5.8310216 | S30: =D30*E30*G30 -> 1.6448 | T30: =(D30+E30+E30)*G30 -> 20.56 | U30: =(T30*0.03)*10.764 -> 6.6392352 | V30: =(T30+U30)*0.25 -> 6.7998088 | X30: 0 | Y30: 0 | Z30: 0 | AA30: 0 | AB30: 0
B31: B.6A | D31: 0.2 | E31: 0.7 | G31: 2.9 | H31: m. | J31: =((D31+E31+D31+E31)*G31/0.3)*J8 -> 8.6826 | L31: =(G31*4)+((G31*2)/0.75)+(1*(G31/4))*L8 -> 19.977133 | M31: =2*(G31/4)*M8 -> 2.2881 | P31: =SUM(I31:O31) -> 30.947833 | Q31: =(P31*0.03) -> 0.928435 | S31: =D31*E31*G31 -> 0.406 | T31: =(D31+E31+E31)*G31 -> 4.64 | U31: =(T31*0.03)*10.764 -> 1.4983488 | V31: =(T31+U31)*0.25 -> 1.5345872 | X31: 0 | Y31: 0 | Z31: 0 | AA31: 0 | AB31: 0
B32: B.7 | D32: 0.3 | E32: 0.5 | G32: 45.39 | H32: m. | J32: =((D32+E32+D32+E32)*G32/0.225)*2*J8 -> 322.12779 | O32: =(G32*4)+(3*(G32/4))*O8 -> 312.72575 | P32: =SUM(I32:O32) -> 634.85354 | Q32: =(P32*0.03) -> 19.045606 | S32: =D32*E32*G32 -> 6.8085 | T32: =(D32+E32+E32)*G32 -> 59.007 | U32: =(T32*0.03)*10.764 -> 19.05454 | V32: =(T32+U32)*0.25 -> 19.515385 | X32: 0 | Y32: 0 | Z32: 0 | AA32: 0 | AB32: 0
B33: B.8 | D33: 0.3 | E33: 0.7 | G33: 128.34 | H33: m. | J33: =((D33+E33+D33+E33)*G33/0.3)*2*J8 -> 853.8888 | O33: =(G33/0.75)*2+(2*(G33/4))*O8 -> 589.48701 | P33: =SUM(I33:O33) -> 1443.3758 | Q33: =(P33*0.03) -> 43.301274 | S33: =D33*E33*G33 -> 26.9514 | T33: =(D33+E33+E33)*G33 -> 218.178 | U33: =(T33*0.03)*10.764 -> 70.45404 | V33: =(T33+U33)*0.25 -> 72.15801 | X33: 0 | Y33: 0 | Z33: 0 | AA33: 0 | AB33: 0
B34: B.9 | D34: 0.3 | E34: 0.8 | G34: 211.77 | H34: m. | J34: =((D34+E34+D34+E34)*G34/0.225)*2*J8 -> 2066.4987 | O34: =(G34*4)+(6*(G34/4))+((G34*3)/0.75)*O8 -> 4428.5342 | P34: =SUM(I34:O34) -> 6495.033 | Q34: =(P34*0.03) -> 194.85099 | S34: =D34*E34*G34 -> 50.8248 | T34: =(D34+E34+E34)*G34 -> 402.363 | U34: =(T34*0.03)*10.764 -> 129.93106 | V34: =(T34+U34)*0.25 -> 133.07351 | X34: 0 | Y34: 0 | Z34: 0 | AA34: 0 | AB34: 0
B35: B.12 | D35: 0.2 | E35: 0.6 | G35: 34.23 | H35: m. | J35: =((D35+E35+D35+E35)*G35/0.25)*J8 -> 109.31693 | L35: =(G35*4)*L8 -> 121.58496 | O35: =(2*(G35/4))+((G35*2)/0.75)*O8 -> 368.81684 | P35: =SUM(I35:O35) -> 599.71873 | Q35: =(P35*0.03) -> 17.991562 | S35: =D35*E35*G35 -> 4.1076 | T35: =(D35+E35+E35)*G35 -> 47.922 | U35: =(T35*0.03)*10.764 -> 15.474972 | V35: =(T35+U35)*0.25 -> 15.849243 | X35: 0 | Y35: 0 | Z35: 0 | AA35: 0 | AB35: 0
B36: B.13 | D36: 0.2 | E36: 0.6 | G36: 7.37 | H36: m. | J36: =((D36+E36+D36+E36)*G36/0.25)*J8 -> 23.536832 | L36: =(G36*4)+((G36*2)/0.75)*L8 -> 46.93216 | O36: =(G36*2)/0.75*O8 -> 75.724293 | P36: =SUM(I36:O36) -> 146.19329 | Q36: =(P36*0.03) -> 4.3857986 | S36: =D36*E36*G36 -> 0.8844 | T36: =(D36+E36+E36)*G36 -> 10.318 | U36: =(T36*0.03)*10.764 -> 3.3318886 | V36: =(T36+U36)*0.25 -> 3.4124721 | X36: 0 | Y36: 0 | Z36: 0 | AA36: 0 | AB36: 0
B37: B.14 | D37: 0.3 | E37: 0.7 | G37: 10.43 | H37: m. | J37: =((D37+E37+D37+E37)*G37/0.25)*J8 -> 41.63656 | O37: =(G37*7)*O8 -> 281.30753 | P37: =SUM(I37:O37) -> 322.94409 | Q37: =(P37*0.03) -> 9.6883227 | S37: =D37*E37*G37 -> 2.1903 | T37: =(D37+E37+E37)*G37 -> 17.731 | U37: =(T37*0.03)*10.764 -> 5.7256945 | V37: =(T37+U37)*0.25 -> 5.8641736 | X37: 0 | Y37: 0 | Z37: 0 | AA37: 0 | AB37: 0
B38: B.15 | D38: 0.3 | E38: 0.7 | G38: 205.04 | H38: m. | J38: =((D38+E38+D38+E38)*G38/0.3)*2*J8 -> 1364.1995 | O38: =(G38*4)+(2*(G38/4))+((G38*2)/0.75)*O8 -> 3029.3977 | P38: =SUM(I38:O38) -> 4393.5971 | Q38: =(P38*0.03) -> 131.80791 | S38: =D38*E38*G38 -> 43.0584 | T38: =(D38+E38+E38)*G38 -> 348.568 | U38: =(T38*0.03)*10.764 -> 112.55958 | V38: =(T38+U38)*0.25 -> 115.28189 | X38: 0 | Y38: 0 | Z38: 0 | AA38: 0 | AB38: 0
B39: B.18 | D39: 0.3 | E39: 0.6 | G39: 9.6 | H39: m. | J39: =((D39+E39+D39+E39)*G39/0.25)*J8 -> 34.49088 | O39: =(G39*8)*O8 -> 295.9104 | P39: =SUM(I39:O39) -> 330.40128 | Q39: =(P39*0.03) -> 9.9120384 | S39: =D39*E39*G39 -> 1.728 | T39: =(D39+E39+E39)*G39 -> 14.4 | U39: =(T39*0.03)*10.764 -> 4.650048 | V39: =(T39+U39)*0.25 -> 4.762512 | X39: 0 | Y39: 0 | Z39: 0 | AA39: 0 | AB39: 0
B40: 1,C3 | D40: 0.4 | E40: 0.6 | F40: 4 | G40: 9 | H40: m. | I40: =(((D40+E40+D40+E40)*F40/0.29)*G40)*4*I8 -> 220.46897 | O40: =(G40*12*F40)*O8 -> 1664.496 | P40: =SUM(I40:O40) -> 1884.965 | Q40: =(P40*0.03) -> 56.548949 | S40: =(D40*E40*F40)*G40 -> 8.64 | T40: =(D40+E40+E40+D40)*G40 -> 18 | U40: =(T40*0.03)*10.764 -> 5.81256 | V40: =(T40+U40)*0.25 -> 5.95314 | X40: 0 | Y40: 0 | Z40: 0 | AA40: 0 | AB40: 0
B41: 1,C4 | D41: 0.4 | E41: 0.6 | F41: 4 | G41: 24 | H41: m. | I41: =(((D41+E41+D41+E41)*F41/0.29)*G41)*4*I8 -> 587.91724 | O41: =(G41*14*F41)*O8 -> 5178.432 | P41: =SUM(I41:O41) -> 5766.3492 | Q41: =(P41*0.03) -> 172.99048 | S41: =(D41*E41*F41)*G41 -> 23.04 | T41: =(D41+E41+E41+D41)*G41 -> 48 | U41: =(T41*0.03)*10.764 -> 15.50016 | V41: =(T41+U41)*0.25 -> 15.87504 | X41: 0 | Y41: 0 | Z41: 0 | AA41: 0 | AB41: 0
B42: 1,C4A | D42: 0.4 | E42: 0.6 | F42: 4 | G42: 12 | H42: m. | I42: =(((D42+E42+D42+E42)*F42/0.29)*G42)*4*I8 -> 293.95862 | O42: =(G42*12*F42)*O8 -> 2219.328 | P42: =SUM(I42:O42) -> 2513.2866 | Q42: =(P42*0.03) -> 75.398599 | S42: =(D42*E42*F42)*G42 -> 11.52 | T42: =(D42+E42+E42+D42)*G42 -> 24 | U42: =(T42*0.03)*10.764 -> 7.75008 | V42: =(T42+U42)*0.25 -> 7.93752 | X42: 0 | Y42: 0 | Z42: 0 | AA42: 0 | AB42: 0
B43: 1,C5 | D43: 0.4 | E43: 0.6 | F43: 4 | G43: 34 | H43: m. | I43: =(((D43+E43+D43+E43)*F43/0.29)*G43)*4*I8 -> 832.88276 | O43: =(G43*14*F43)*O8 -> 7336.112 | P43: =SUM(I43:O43) -> 8168.9948 | Q43: =(P43*0.03) -> 245.06984 | S43: =(D43*E43*F43)*G43 -> 32.64 | T43: =(D43+E43+E43+D43)*G43 -> 68 | U43: =(T43*0.03)*10.764 -> 21.95856 | V43: =(T43+U43)*0.25 -> 22.48964 | X43: 0 | Y43: 0 | Z43: 0 | AA43: 0 | AB43: 0
B44: 1,C6 | D44: 0.4 | E44: 0.6 | F44: 4 | G44: 3 | H44: m. | I44: =(((D44+E44+D44+E44)*F44/0.29)*G44)*4*I8 -> 73.489655 | O44: =(G44*14*F44)*O8 -> 647.304 | P44: =SUM(I44:O44) -> 720.79366 | Q44: =(P44*0.03) -> 21.62381 | S44: =(D44*E44*F44)*G44 -> 2.88 | T44: =(D44+E44+E44+D44)*G44 -> 6 | U44: =(T44*0.03)*10.764 -> 1.93752 | V44: =(T44+U44)*0.25 -> 1.98438 | X44: 0 | Y44: 0 | Z44: 0 | AA44: 0 | AB44: 0
B45: หมวดงานโครงสร้างคาน,เสาและพื้นชั้น 2
B46: 2,B2 | D46: 0.2 | E46: 0.4 | G46: 7.12 | H46: m. | I46: =((D46+E46+D46+E46)*G46/0.15)*I8 -> 12.64512 | L46: =(G46*4)*L8 -> 25.29024 | O46: =(G46*2)/0.75*O8 -> 73.155627 | P46: =SUM(I46:O46) -> 111.09099 | Q46: =(P46*0.03) -> 3.3327296 | S46: =D46*E46*G46 -> 0.5696 | T46: =(D46+E46+E46)*G46 -> 7.12 | U46: =(T46*0.03)*10.764 -> 2.2991904 | V46: =(T46+U46)*0.25 -> 2.3547976 | W46: =+D46*G46*0.1 -> 0.1424 | X46: 0 | Y46: 0 | Z46: 0 | AA46: 0 | AB46: 0
B47: 2,B19 | D47: 0.3 | E47: 0.4 | G47: 69.88 | H47: m. | J47: =((D47+E47+D47+E47)*G47/0.15)*J8 -> 325.45445 | L47: =(G47*4)*L8 -> 248.21376 | O47: =(G47/0.75)*2+(2*(G47/4))*O8 -> 320.97049 | P47: =SUM(I47:O47) -> 894.6387 | Q47: =(P47*0.03) -> 26.839161 | S47: =D47*E47*G47 -> 8.3856 | T47: =(D47+E47+E47)*G47 -> 76.868 | U47: =(T47*0.03)*10.764 -> 24.822215 | V47: =(T47+U47)*0.25 -> 25.422554 | W47: =+D47*G47*0.1 -> 2.0964 | X47: 0 | Y47: 0 | Z47: 0 | AA47: 0 | AB47: 0
B48: 2,B20 | D48: 0.3 | E48: 0.6 | G48: 185.9 | H48: m. | J48: =((D48+E48+D48+E48)*G48/0.2)*J8 -> 834.8769 | O48: =(G48/0.75)*3+(3*(G48/4))+(3*G48)*O8 -> 3031.8431 | P48: =SUM(I48:O48) -> 3866.72 | Q48: =(P48*0.03) -> 116.0016 | S48: =D48*E48*G48 -> 33.462 | T48: =(D48+E48+E48)*G48 -> 278.85 | U48: =(T48*0.03)*10.764 -> 90.046242 | V48: =(T48+U48)*0.25 -> 92.224061 | W48: =+D48*G48*0.1 -> 5.577 | X48: 0 | Y48: 0 | Z48: 0 | AA48: 0 | AB48: 0
B49: 2,B20A | D49: 0.2 | E49: 0.6 | G49: 110.72 | H49: m. | J49: =((D49+E49+D49+E49)*G49/0.2)*J8 -> 441.99424 | O49: =((G49/0.75)*1+1*(G49/4)+(4*G49)+3*(G49/4))*O8 -> 2701.8263 | P49: =SUM(I49:O49) -> 3143.8206 | Q49: =(P49*0.03) -> 94.314618 | S49: =D49*E49*G49 -> 13.2864 | T49: =(D49+E49+E49)*G49 -> 155.008 | U49: =(T49*0.03)*10.764 -> 50.055183 | V49: =(T49+U49)*0.25 -> 51.265796 | W49: =+D49*G49*0.1 -> 2.2144 | X49: 0 | Y49: 0 | Z49: 0 | AA49: 0 | AB49: 0
B50: 2,B20B | D50: 0.3 | E50: 0.6 | G50: 23 | H50: m. | J50: =((D50+E50+D50+E50)*G50/0.125)*2*J8 -> 330.5376 | O50: =((G50/0.75)*2+2*(G50/4)+(6*G50)+3*(G50/4)+3*(G50/0.75))*O8 -> 1233.2811 | P50: =SUM(I50:O50) -> 1563.8187 | Q50: =(P50*0.03) -> 46.914561 | S50: =D50*E50*G50 -> 4.14 | T50: =(D50+E50+E50)*G50 -> 34.5 | U50: =(T50*0.03)*10.764 -> 11.14074 | V50: =(T50+U50)*0.25 -> 11.410185 | W50: =+D50*G50*0.1 -> 0.69 | X50: 0 | Y50: 0 | Z50: 0 | AA50: 0 | AB50: 0
B51: 2,B21 | D51: 0.3 | E51: 0.6 | G51: 19.38 | H51: m. | J51: =((D51+E51+D51+E51)*G51/0.2)*J8 -> 87.03558 | O51: =(((4/G51)*1)*(G51*4)+(3*(G51/4)))*O8 -> 117.65136 | P51: =SUM(I51:O51) -> 204.68694 | Q51: =(P51*0.03) -> 6.140608 | S51: =D51*E51*G51 -> 3.4884 | T51: =(D51+E51+E51)*G51 -> 29.07 | U51: =(T51*0.03)*10.764 -> 9.3872844 | V51: =(T51+U51)*0.25 -> 9.6143211 | W51: =+D51*G51*0.1 -> 0.5814 | X51: 0 | Y51: 0 | Z51: 0 | AA51: 0 | AB51: 0
B52: 2,B21A | D52: 0.2 | E52: 0.6 | G52: 22.44 | H52: m. | J52: =((D52+E52+D52+E52)*G52/0.2)*J8 -> 89.58048 | O52: =((1*(G52/4))*(G52*4)+(3*(G52/4)))*O8 -> 2005.038 | P52: =SUM(I52:O52) -> 2094.6185 | Q52: =(P52*0.03) -> 62.838555 | S52: =D52*E52*G52 -> 2.6928 | T52: =(D52+E52+E52)*G52 -> 31.416 | U52: =(T52*0.03)*10.764 -> 10.144855 | V52: =(T52+U52)*0.25 -> 10.390214 | W52: =+D52*G52*0.1 -> 0.4488 | X52: 0 | Y52: 0 | Z52: 0 | AA52: 0 | AB52: 0
B53: 2,B22 | D53: 0.2 | E53: 0.6 | G53: 16.39 | H53: m. | J53: =((D53+E53+D53+E53)*G53/0.2)*2*J8 -> 130.85776 | O53: =(6*G53)*O8 -> 378.90402 | P53: =SUM(I53:O53) -> 509.76178 | Q53: =(P53*0.03) -> 15.292853 | S53: =D53*E53*G53 -> 1.9668 | T53: =(D53+E53+E53)*G53 -> 22.946 | U53: =(T53*0.03)*10.764 -> 7.4097223 | V53: =(T53+U53)*0.25 -> 7.5889306 | W53: =+D53*G53*0.1 -> 0.3278 | X53: 0 | Y53: 0 | Z53: 0 | AA53: 0 | AB53: 0
B54: 2,B23 | D54: 0.4 | E54: 0.6 | G54: 58.76 | H54: m. | J54: =((D54+E54+D54+E54)*G54/0.15)*2*J8 -> 781.89973 | O54: =(4*G54)+(6*G54/4)+(3*G54/0.75)*O8 -> 1228.7891 | P54: =SUM(I54:O54) -> 2010.6889 | Q54: =(P54*0.03) -> 60.320666 | S54: =D54*E54*G54 -> 14.1024 | T54: =(D54+E54+E54)*G54 -> 94.016 | U54: =(T54*0.03)*10.764 -> 30.359647 | V54: =(T54+U54)*0.25 -> 31.093912 | W54: =+D54*G54*0.1 -> 2.3504 | X54: 0 | Y54: 0 | Z54: 0 | AA54: 0 | AB54: 0
B55: 2,B23A | D55: 0.4 | E55: 0.6 | G55: 47.14 | H55: m. | J55: =((D55+E55+D55+E55)*G55/0.15)*2*J8 -> 627.27627 | O55: =(4*G55)+(6*G55/4)*O8 -> 461.00563 | P55: =SUM(I55:O55) -> 1088.2819 | Q55: =(P55*0.03) -> 32.648457 | S55: =D55*E55*G55 -> 11.3136 | T55: =(D55+E55+E55)*G55 -> 75.424 | U55: =(T55*0.03)*10.764 -> 24.355918 | V55: =(T55+U55)*0.25 -> 24.94498 | W55: =+D55*G55*0.1 -> 1.8856 | X55: 0 | Y55: 0 | Z55: 0 | AA55: 0 | AB55: 0
B56: 2,B25A | D56: 0.4 | E56: 0.6 | G56: 32.4 | H56: m. | J56: =((D56+E56+D56+E56)*G56/0.15)*2*J8 -> 431.136 | O56: =(20*G56)*O8 -> 2496.744 | P56: =SUM(I56:O56) -> 2927.88 | Q56: =(P56*0.03) -> 87.8364 | S56: =D56*E56*G56 -> 7.776 | T56: =(D56+E56+E56)*G56 -> 51.84 | U56: =(T56*0.03)*10.764 -> 16.740173 | V56: =(T56+U56)*0.25 -> 17.145043 | W56: =+D56*G56*0.1 -> 1.296 | X56: 0 | Y56: 0 | Z56: 0 | AA56: 0 | AB56: 0
B57: 2,B26 | D57: 0.2 | E57: 0.6 | G57: 66 | H57: m. | J57: =((D57+E57+D57+E57)*G57/0.25)*2*J8 -> 421.5552 | O57: =(4*G57)+(G57/4)+(G57/0.75)*O8 -> 619.564 | P57: =SUM(I57:O57) -> 1041.1192 | Q57: =(P57*0.03) -> 31.233576 | S57: =D57*E57*G57 -> 7.92 | T57: =(D57+E57+E57)*G57 -> 92.4 | U57: =(T57*0.03)*10.764 -> 29.837808 | V57: =(T57+U57)*0.25 -> 30.559452 | W57: =+D57*G57*0.1 -> 1.32 | X57: 0 | Y57: 0 | Z57: 0 | AA57: 0 | AB57: 0
B58: 2,B27 | D58: 0.2 | E58: 0.6 | G58: 12.28 | H58: m. | J58: =((D58+E58+D58+E58)*G58/0.25)*J8 -> 39.217408 | O58: =(4*G58)+(2*G58/4)*O8 -> 72.77742 | P58: =SUM(I58:O58) -> 111.99483 | Q58: =(P58*0.03) -> 3.3598448 | S58: =D58*E58*G58 -> 1.4736 | T58: =(D58+E58+E58)*G58 -> 17.192 | U58: =(T58*0.03)*10.764 -> 5.5516406 | V58: =(T58+U58)*0.25 -> 5.6859102 | W58: =+D58*G58*0.1 -> 0.2456 | X58: 0 | Y58: 0 | Z58: 0 | AA58: 0 | AB58: 0
B59: 2,B28 | D59: 0.2 | E59: 0.6 | G59: 40.31 | H59: m. | J59: =((D59+E59+D59+E59)*G59/0.25)*2*J8 -> 257.46803 | O59: =(4*G59)+(2*G59/4)+(2*G59/0.75)*O8 -> 595.56681 | P59: =SUM(I59:O59) -> 853.03485 | Q59: =(P59*0.03) -> 25.591045 | S59: =D59*E59*G59 -> 4.8372 | T59: =(D59+E59+E59)*G59 -> 56.434 | U59: =(T59*0.03)*10.764 -> 18.223667 | V59: =(T59+U59)*0.25 -> 18.664417 | W59: =+D59*G59*0.1 -> 0.8062 | X59: 0 | Y59: 0 | Z59: 0 | AA59: 0 | AB59: 0
B60: 2,C3 | D60: 0.4 | E60: 0.6 | F60: 4 | G60: 9 | H60: m. | I60: =(((D60+E60+D60+E60)*F60/0.29)*G60)*2*I8 -> 110.23448 | O60: =(G60*8*F60)*O8 -> 1109.664 | P60: =SUM(I60:O60) -> 1219.8985 | Q60: =(P60*0.03) -> 36.596954 | S60: =(D60*E60*F60)*G60 -> 8.64 | T60: =(D60+E60+E60+D60)*G60 -> 18 | U60: =(T60*0.03)*10.764 -> 5.81256 | V60: =(T60+U60)*0.25 -> 5.95314 | W60: =+D60*G60*0.1 -> 0.36 | X60: 0 | Y60: 0 | Z60: 0 | AA60: 0 | AB60: 0
B61: 2,C4 | D61: 0.4 | E61: 0.6 | F61: 4 | G61: 24 | H61: m. | I61: =(((D61+E61+D61+E61)*F61/0.29)*G61)*2*I8 -> 293.95862 | O61: =(G61*8*F61)*O8 -> 2959.104 | P61: =SUM(I61:O61) -> 3253.0626 | Q61: =(P61*0.03) -> 97.591879 | S61: =(D61*E61*F61)*G61 -> 23.04 | T61: =(D61+E61+E61+D61)*G61 -> 48 | U61: =(T61*0.03)*10.764 -> 15.50016 | V61: =(T61+U61)*0.25 -> 15.87504 | W61: =+D61*G61*0.1 -> 0.96 | X61: 0 | Y61: 0 | Z61: 0 | AA61: 0 | AB61: 0
B62: 2,C5 | D62: 0.4 | E62: 0.6 | F62: 4 | G62: 34 | H62: m. | I62: =(((D62+E62+D62+E62)*F62/0.29)*G62)*2*I8 -> 416.44138 | O62: =(G62*8*F62)*O8 -> 4192.064 | P62: =SUM(I62:O62) -> 4608.5054 | Q62: =(P62*0.03) -> 138.25516 | S62: =(D62*E62*F62)*G62 -> 32.64 | T62: =(D62+E62+E62+D62)*G62 -> 68 | U62: =(T62*0.03)*10.764 -> 21.95856 | V62: =(T62+U62)*0.25 -> 22.48964 | W62: =+D62*G62*0.1 -> 1.36 | X62: 0 | Y62: 0 | Z62: 0 | AA62: 0 | AB62: 0
B63: 2,C6 | D63: 0.4 | E63: 0.6 | F63: 4 | G63: 3 | H63: m. | I63: =(((D63+E63+D63+E63)*F63/0.29)*G63)*2*I8 -> 36.744828 | O63: =(G63*8*F63)*O8 -> 369.888 | P63: =SUM(I63:O63) -> 406.63283 | Q63: =(P63*0.03) -> 12.198985 | S63: =(D63*E63*F63)*G63 -> 2.88 | T63: =(D63+E63+E63+D63)*G63 -> 6 | U63: =(T63*0.03)*10.764 -> 1.93752 | V63: =(T63+U63)*0.25 -> 1.98438 | W63: =+D63*G63*0.1 -> 0.12 | X63: 0 | Y63: 0 | Z63: 0 | AA63: 0 | AB63: 0
B64: 2,HCS.1 | F64: 0.05 | G64: =25.5*85.3 -> 2175.15 | H64: Sq.m. | I64: Wire Mesh Dia 4 mm. @ 0.20 m. | P64: =SUM(I64:O64) -> 0 | Q64: =(P64*0.03) -> 0 | S64: =+F64*G64 -> 108.7575 | T64: =G64 -> 2175.15 | U64: =(T64*0.03)*10.764 -> 702.39944 | V64: =(T64+U64)*0.25 -> 719.38736 | W64: =+D64*G64*0.1 -> 0 | X64: 0 | Y64: 0 | Z64: 0 | AA64: 0 | AB64: 0
B65: หมวดงานโครงสร้าง ชั้น หลังคา ระดับ +13.30 ม.
B66: Truss 1 | P66: =SUM(I66:O66) -> 0 | Q66: =(P66*0.03) -> 0 | R66: =D66*G66*0.05 -> 0 | S66: =D66*E66*G66 -> 0 | T66: =(D66+E66+E66)*G66 -> 0 | U66: =T66*30% -> 0 | V66: =(T66+U66)*0.25 -> 0 | W66: =+D66*G66*0.1 -> 0
B67: (A) OD 216.3 x 6 mm. x 31.10 Kg/M. | G67: 33087.91 | H67: kg. | P67: =SUM(I67:O67) -> 0 | Q67: =(P67*0.03) -> 0 | R67: =D67*G67*0.05 -> 0 | S67: =D67*E67*G67 -> 0 | T67: =(D67+E67+E67)*G67 -> 0 | U67: =T67*30% -> 0 | V67: =(T67+U67)*0.25 -> 0 | W67: =+D67*G67*0.1 -> 0
B68: (B) OD 139.8 x 6 mm. x 19.80 Kg/M. | G68: 3043.26 | H68: kg. | P68: =SUM(I68:O68) -> 0 | Q68: =(P68*0.03) -> 0 | R68: =D68*G68*0.05 -> 0 | S68: =D68*E68*G68 -> 0 | T68: =(D68+E68+E68)*G68 -> 0 | U68: =T68*30% -> 0 | V68: =(T68+U68)*0.25 -> 0 | W68: =+D68*G68*0.1 -> 0
B69: Steel Purlin C- 150 x 75 x 25 x 3.2 mm. 8.01 Kg/M. | G69: 15142.1 | H69: kg. | P69: =SUM(I69:O69) -> 0 | Q69: =(P69*0.03) -> 0 | R69: =D69*G69*0.05 -> 0 | S69: =D69*E69*G69 -> 0 | T69: =(D69+E69+E69)*G69 -> 0 | U69: =T69*30% -> 0 | V69: =(T69+U69)*0.25 -> 0 | W69: =+D69*G69*0.1 -> 0
B70: Truss 2 | P70: =SUM(I70:O70) -> 0 | Q70: =(P70*0.03) -> 0 | R70: =D70*G70*0.05 -> 0 | S70: =D70*E70*G70 -> 0 | T70: =(D70+E70+E70)*G70 -> 0 | U70: =T70*30% -> 0 | V70: =(T70+U70)*0.25 -> 0 | W70: =+D70*G70*0.1 -> 0
B71: (A) OD 60.5 x 3.2 mm. x 3.30 Kg/M. | G71: 5273.73 | H71: kg. | P71: =SUM(I71:O71) -> 0 | Q71: =(P71*0.03) -> 0 | R71: =D71*G71*0.05 -> 0 | S71: =D71*E71*G71 -> 0 | T71: =(D71+E71+E71)*G71 -> 0 | U71: =T71*30% -> 0 | V71: =(T71+U71)*0.25 -> 0 | W71: =+D71*G71*0.1 -> 0
B72: (B) OD 27.2 x 2 mm. x 1.24 Kg/M. | G72: 1897.45 | H72: kg. | P72: =SUM(I72:O72) -> 0 | Q72: =(P72*0.03) -> 0 | R72: =D72*G72*0.05 -> 0 | S72: =D72*E72*G72 -> 0 | T72: =(D72+E72+E72)*G72 -> 0 | U72: =T72*30% -> 0 | V72: =(T72+U72)*0.25 -> 0 | W72: =+D72*G72*0.1 -> 0
B73: หมวดงานโครงสร้างบันได | P73: =SUM(I73:O73) -> 0 | Q73: =(P73*0.03) -> 0 | S73: =D73*E73*G73 -> 0 | T73: =(D73+E73+E73)*G73 -> 0 | U73: =T73*30% -> 0 | V73: =(T73+U73)*0.25 -> 0 | W73: =+D73*G73*0.1 -> 0
B74: R-01 | D74: 6 | E74: 78.05 | F74: 0.3 | G74: 1 | H74: set | I74: =(8.2*7)+(2.35*8.2/0.25)*I8 -> 74.51176 | J74: =(11*8.2/0.25)*J8 -> 180.0392 | L74: =(4.55*8.2/0.25)*L8 -> 132.52512 | P74: =SUM(I74:O74) -> 387.07608 | Q74: =(P74*0.03) -> 11.612282 | S74: =(D74*E74*F74)*G74 -> 140.49 | T74: =(D74+E74+E74)*G74 -> 162.1 | U74: =(T74*0.03)*10.764 -> 52.345332 | V74: =(T74+U74)*0.25 -> 53.611333
B78: Sum Total | I78: =SUM(I11:I77) -> 3579.1093 | J78: =SUM(J11:J77) -> 10516.874 | L78: =SUM(L11:L77) -> 2582.7572 | M78: =SUM(M11:M77) -> 111.24111 | N78: =SUM(N11:N77) -> 0 | O78: =SUM(O11:O77) -> 58937.417 | P78: =SUM(P11:P77) -> 75727.399 | Q78: =SUM(Q11:Q77) -> 2271.822 | R78: =SUM(R11:R77) -> 18.382 | S78: =SUM(S11:S77) -> 954.1221 | ... AB78: =SUM(AB11:AB77) -> 0
A82: Item | B82: DESCRIPTION | G82: Quantity | I82: Round Bars (SR.24) | L82: Deform Bars (SD.30) | P82: Total | Q82: Bending | R82: Concrete | T82: Form | V82: Nails | W82: Sand | X82: Earth | Z82: เสาเข็ม | AA82: HC Slap | AB82: Wire Mesh
G83: amount | H83: unit | P83: Weigth | Q83: Wire | R83: Lean | S83: Structure | T83: Work | X83: Excavation | Y83: Filling | Z83: คอร. | AA83: 500 Kg./Sq.m.
B84: อาคารอุตสาหกรรมการบิน | I84: RB.6 | J84: RB.9 | K84: RB.19 | L84: DB.12 | M84: DB.16 | N84: DB.20 | O84: DB.25 | R84: 1.3.5 | S84: Cube Strength | Z84: 0.40 x 0.40 m.
I85: 6 mm. | J85: 9 mm. | K85: 19 mm. | L85: 12 mm. | M85: 16 mm. | N85: 20 mm. | O85: 25 mm. | S85: 240 KSC.
D86: wide | E86: long | F86: high | I86: 0.222 | J86: 0.499 | K86: 2.226 | L86: 0.888 | M86: 1.578 | N86: 2.466 | O86: 3.853
D87: (m.) | E87: (m.) | F87: (m.) | I87: (Kg.) | J87: (Kg.) | K87: (Kg.) | L87: (Kg.) | M87: (Kg.) | N87: (Kg.) | O87: (Kg.) | P87: (Kg.) | Q87: (Nos) | R87: (Cu.m.) | S87: (Cu.m.) | T87: (Sq.m.) | U87: (ft2.) | V87: (Kg.) | W87: (Cu.m.) | X87: (Cu.m.) | Y87: (Cu.m.) | Z87: (Nos) | AA87: (Sq.m.) | AB87: (Sq.m.)
B88: งานฐานรากเสาเข็ม
B89: Footing (F.1) | D89: 1.25 | E89: 1.25 | F89: 0.4 | G89: 104 | H89: Nos. | L89: =((F89+D89+F89)*8+(F89+E89+F89)*8)*G89*L86+((D89*2+E89*2)*2*G89)*L86 -> 3952.6656 | P89: =SUM(I89:O89) -> 3952.6656 | Q89: =(P89*0.03) -> 118.57997 | R89: =D89*E89*0.05*G89 -> 8.125 | S89: =D89*E89*F89*G89 -> 65 | T89: =((D89*F89)*2+(E89*F89)*2)*G89 -> 208 | U89: =T89*30% -> 62.4 | V89: =(T89+U89)*0.25 -> 67.6 | W89: =(D89*E89*0.05)*G89 -> 8.125 | X89: =((D89*E89)*2)*G89 -> 325 | Y89: 0 | Z89: =G89*1 -> 104 | AA89: 0 | AB89: 0
B90: Footing (F.1A) | D90: 1 | E90: 3 | F90: 0.6 | G90: 2 | H90: Nos. | L90: =((D90*2+E90*2)*2*G90)*L86 -> 28.416 | N90: =((D90+E90+F90)*5+(D90+E90+F90)*11)*N86+((F90*2+G90*2)*N86) -> 194.3208 | P90: =SUM(I90:O90) -> 222.7368 | Q90: =(P90*0.03) -> 6.682104 | R90: =D90*E90*0.05*G90 -> 0.3 | S90: =D90*E90*F90*G90 -> 3.6 | T90: =((D90*F90)*2+(E90*F90)*2)*G90 -> 9.6 | U90: =T90*30% -> 2.88 | V90: =(T90+U90)*0.25 -> 3.12 | W90: =(D90*E90*0.05)*G90 -> 0.3 | X90: =((D90*E90)*2)*G90 -> 12 | Z90: =G90*1 -> 2 | AA90: 0 | AB90: 0
B91: Footing (F.2) | D91: 1.7 | E91: 1.7 | F91: 0.45 | G91: 12 | H91: Nos. | L91: =((D91*2+E91*2)*2*G91)*L86 -> 144.9216 | M91: =((F91+E91+F91)*8+(F91+D91+F91)*8)*G91*$M$8 -> 787.7376 | P91: =SUM(I91:O91) -> 932.6592 | Q91: =(P91*0.03) -> 27.979776 | R91: =D91*E91*0.05*G91 -> 1.734 | S91: =D91*E91*F91*G91 -> 15.606 | T91: =((D91*F91)*2+(E91*F91)*2)*G91 -> 36.72 | U91: =T91*30% -> 11.016 | V91: =(T91+U91)*0.25 -> 11.934 | W91: =(D91*E91*0.05)*G91 -> 1.734 | X91: =((D91*E91)*2)*G91 -> 69.36 | Z91: =G91*1 -> 12 | AA91: 0 | AB91: 0
B92: Footing (F.3) | D92: 1.9 | E92: 1.9 | F92: 0.5 | G92: 22 | H92: Nos. | L92: =((D92*2+E92*2)*2*G92)*L86 -> 296.9472 | M92: =((F92+E92+F92)*10+(F92+D92+F92)*10)*G92*M86 -> 2013.528 | P92: =SUM(I92:O92) -> 2310.4752 | Q92: =(P92*0.03) -> 69.314256 | R92: =D92*E92*0.05*G92 -> 3.971 | S92: =D92*E92*F92*G92 -> 39.71 | T92: =((D92*F92)*2+(E92*F92)*2)*G92 -> 83.6 | U92: =T92*30% -> 25.08 | V92: =(T92+U92)*0.25 -> 27.17 | W92: =(D92*E92*0.05)*G92 -> 3.971 | X92: =((D92*E92)*2)*G92 -> 158.84 | Z92: =G92*1 -> 22 | AA92: 0 | AB92: 0
B93: Footing (F.4) | D93: 2.5 | E93: 2.5 | F93: 0.6 | G93: 40 | H93: Nos. | L93: =((D93*2+E93*2)*2*G93)*L86 -> 710.4 | N93: =((D93+E93+F93)*13+(D93+E93+F93)*13)*G93*N86 -> 14361.984 | P93: =SUM(I93:O93) -> 15072.384 | Q93: =(P93*0.03) -> 452.17152 | R93: =D93*E93*0.05*G93 -> 12.5 | S93: =D93*E93*F93*G93 -> 150 | T93: =((D93*F93)*2+(E93*F93)*2)*G93 -> 240 | U93: =T93*30% -> 72 | V93: =(T93+U93)*0.25 -> 78 | W93: =(D93*E93*0.05)*G93 -> 12.5 | X93: =((D93*E93)*2)*G93 -> 500 | Z93: =G93*1 -> 40 | AA93: 0 | AB93: 0
B94: Footing (F.4A) | D94: 2 | E94: 3 | F94: 0.6 | G94: 2 | H94: Nos. | L94: =((D94*2+E94*2)*2*G94)*L86 -> 35.52 | N94: =(D94+E94+F94)*13*G94*N86 -> 359.0496 | O94: =(D94+E94+F94)*13*G94*O86 -> 560.9968 | P94: =SUM(I94:O94) -> 955.5664 | Q94: =(P94*0.03) -> 28.666992 | R94: =D94*E94*0.05*G94 -> 0.6 | S94: =D94*E94*F94*G94 -> 7.2 | T94: =((D94*F94)*2+(E94*F94)*2)*G94 -> 12 | U94: =T94*30% -> 3.6 | V94: =(T94+U94)*0.25 -> 3.9 | W94: =(D94*E94*0.05)*G94 -> 0.6 | X94: =((D94*E94)*2)*G94 -> 24 | Z94: =G94*1 -> 2 | AA94: 0 | AB94: 0
B95: Footing (F.5) | D95: 2.8 | E95: 2.8 | F95: 0.8 | G95: 56 | H95: Nos. | L95: =((D95*2+E95*2)*2*G95)*L86 -> 1113.9072 | N95: =((D95+E95+F95)*14+(D95+E95+F95)*14)*G95*N86 -> 24746.803 | P95: =SUM(I95:O95) -> 25860.71 | Q95: =(P95*0.03) -> 775.82131 | R95: =D95*E95*0.05*G95 -> 21.952 | S95: =D95*E95*F95*G95 -> 351.232 | T95: =((D95*F95)*2+(E95*F95)*2)*G95 -> 501.76 | U95: =T95*30% -> 150.528 | V95: =(T95+U95)*0.25 -> 163.072 | W95: =(D95*E95*0.05)*G95 -> 21.952 | X95: =((D95*E95)*2)*G95 -> 878.08 | Z95: =G95*1 -> 56 | AA95: 0 | AB95: 0
B96: Footing (F.6) | D96: 3.8 | E96: 2.5 | F96: 0.7 | G96: 2 | H96: Nos. | L96: =((D96*2+E96*2)*2*G96)*L86 -> 44.7552 | N96: =((D96+E96+F96)*14+(D96+E96+F96)*16)*G96*N86 -> 1035.72 | P96: =SUM(I96:O96) -> 1080.4752 | Q96: =(P96*0.03) -> 32.414256 | R96: =D96*E96*0.05*G96 -> 0.95 | S96: =D96*E96*F96*G96 -> 13.3 | T96: =((D96*F96)*2+(E96*F96)*2)*G96 -> 17.64 | U96: =T96*30% -> 5.292 | V96: =(T96+U96)*0.25 -> 5.733 | W96: =(D96*E96*0.05)*G96 -> 0.95 | X96: =((D96*E96)*2)*G96 -> 38 | Z96: =G96*1 -> 2 | AA96: 0 | AB96: 0
B97: Footing (F.12A) | D97: 3.2 | E97: 3.8 | F97: 0.7 | G97: 1 | H97: Nos. | L97: =((D97*2+E97*2)*2*G97)*L86 -> 24.864 | O97: =((D97+E97+F97)*25+(D97+E97+F97)*35)*G97*O86 -> 1780.086 | P97: =SUM(I97:O97) -> 1804.95 | Q97: =(P97*0.03) -> 54.1485 | R97: =D97*E97*0.05*G97 -> 0.608 | S97: =D97*E97*F97*G97 -> 8.512 | T97: =((D97*F97)*2+(E97*F97)*2)*G97 -> 9.8 | U97: =T97*30% -> 2.94 | V97: =(T97+U97)*0.25 -> 3.185 | W97: =(D97*E97*0.05)*G97 -> 0.608 | X97: =((D97*E97)*2)*G97 -> 24.32 | Z97: =G97*1 -> 1 | AA97: 0 | AB97: 0
B98: Footing (F.12B) | D98: 3.3 | E98: 4.75 | F98: 0.7 | G98: 1 | H98: Nos. | L98: =((D98*2+E98*2)*2*G98)*L86 -> 28.5936 | O98: =((D98+E98+F98)*40+(D98+E98+F98)*40)*G98*O86 -> 2697.1 | P98: =SUM(I98:O98) -> 2725.6936 | Q98: =(P98*0.03) -> 81.770808 | R98: =D98*E98*0.05*G98 -> 0.78375 | S98: =D98*E98*F98*G98 -> 10.9725 | T98: =((D98*F98)*2+(E98*F98)*2)*G98 -> 11.27 | U98: =T98*30% -> 3.381 | V98: =(T98+U98)*0.25 -> 3.66275 | W98: =(D98*E98*0.05)*G98 -> 0.78375 | X98: =((D98*E98)*2)*G98 -> 31.35 | Z98: =G98*1 -> 1 | AA98: 0 | AB98: 0
B99: หมวดงานโครงสร้างคาน,เสาและพื้นชั้น 1
B100: GB.1 | D100: 0.4 | E100: 0.8 | G100: 482.45 | H100: m. | J100: =((D100+E100+D100+E100)*G100/0.1)*2*J86 -> 11555.642 | L100: =(G100*2)*L86 -> 856.8312 | O100: =(G100*12+1)*O86 -> 22310.411 | P100: =SUM(I100:O100) -> 34722.885 | Q100: =(P100*0.03) -> 1041.6865 | S100: =D100*E100*G100 -> 154.384 | T100: =(D100+E100+E100)*G100 -> 964.9 | U100: =T100*30% -> 289.47 | V100: =(T100+U100)*0.25 -> 313.5925 | X100: 0 | Y100: 0 | Z100: 0 | AA100: 0 | AB100: 0
B101: GB.2 | D101: 0.2 | E101: 0.5 | G101: 9.5 | H101: m. | J101: =((D101+E101+D101+E101)*G101/0.2)*J86 -> 33.1835 | N101: =(G101*4)*N86 -> 93.708 | P101: =SUM(I101:O101) -> 126.8915 | Q101: =(P101*0.03) -> 3.806745 | S101: =D101*E101*G101 -> 0.95 | T101: =(D101+E101+E101)*G101 -> 11.4 | U101: =T101*30% -> 3.42 | V101: =(T101+U101)*0.25 -> 3.705 | X101: 0 | Y101: 0 | Z101: 0 | AA101: 0 | AB101: 0
B102: GB.3 | D102: 0.3 | E102: 0.6 | G102: 18 | H102: m. | J102: =((D102+E102+D102+E102)*G102/0.1)*J86 -> 161.676 | O102: =(G102*8)*O86 -> 554.832 | P102: =SUM(I102:O102) -> 716.508 | Q102: =(P102*0.03) -> 21.49524 | S102: =D102*E102*G102 -> 3.24 | T102: =(D102+E102+E102)*G102 -> 27 | U102: =T102*30% -> 8.1 | V102: =(T102+U102)*0.25 -> 8.775 | X102: 0 | Y102: 0 | Z102: 0 | AA102: 0 | AB102: 0
B103: GB.4 | D103: 0.2 | E103: 0.5 | G103: 46.75 | H103: m. | J103: =((D103+E103+D103+E103)*G103/0.2)*J86 -> 163.29775 | N103: =(G103*6)*N86 -> 691.713 | P103: =SUM(I103:O103) -> 855.01075 | Q103: =(P103*0.03) -> 25.650323 | S103: =D103*E103*G103 -> 4.675 | T103: =(D103+E103+E103)*G103 -> 56.1 | U103: =T103*30% -> 16.83 | V103: =(T103+U103)*0.25 -> 18.2325 | X103: 0 | Y103: 0 | Z103: 0 | AA103: 0 | AB103: 0
B104: GB.5 | D104: 0.3 | E104: 0.6 | G104: 133 | H104: m. | J104: =((D104+E104+D104+E104)*G104/0.2)*J86 -> 597.303 | O104: =(G104*6)*O86 -> 3074.694 | P104: =SUM(I104:O104) -> 3671.997 | Q104: =(P104*0.03) -> 110.15991 | S104: =D104*E104*G104 -> 23.94 | T104: =(D104+E104+E104)*G104 -> 199.5 | U104: =T104*30% -> 59.85 | V104: =(T104+U104)*0.25 -> 64.8375 | X104: 0 | Y104: 0 | Z104: 0 | AA104: 0 | AB104: 0
B105: GB.6 | D105: 0.2 | E105: 0.4 | G105: 19 | H105: m. | J105: =((D105+E105+D105+E105)*G105/0.2)*J86 -> 56.886 | M105: =(G105*4)*M86 -> 119.928 | P105: =SUM(I105:O105) -> 176.814 | Q105: =(P105*0.03) -> 5.30442 | S105: =D105*E105*G105 -> 1.52 | T105: =(D105+E105+E105)*G105 -> 19 | U105: =T105*30% -> 5.7 | V105: =(T105+U105)*0.25 -> 6.175 | X105: 0 | Y105: 0 | Z105: 0 | AA105: 0 | AB105: 0
B106: GB.7 | D106: 0.45 | E106: 0.9 | G106: 170.35 | H106: m. | J106: =((D106+E106+D106+E106)*G106/0.2)*2*J86 -> 2295.1255 | L106: =(G106*2)*L86 -> 302.5416 | O106: =(G106*10)*O86 -> 6563.5855 | P106: =SUM(I106:O106) -> 9161.2527 | Q106: =(P106*0.03) -> 274.83758 | S106: =D106*E106*G106 -> 68.99175 | T106: =(D106+E106+E106)*G106 -> 383.2875 | U106: =T106*30% -> 114.98625 | V106: =(T106+U106)*0.25 -> 124.56844 | X106: 0 | Y106: 0 | Z106: 0 | AA106: 0 | AB106: 0
B107: 1,C1 | D107: 0.3 | E107: 0.3 | G107: 52 | H107: m. | J107: =((D107+E107+D107+E107)*G107/0.19)*J86 -> 163.88211 | L107: =(G107*8)*L86 -> 369.408 | P107: =SUM(I107:O107) -> 533.29011 | Q107: =(P107*0.03) -> 15.998703 | S107: =D107*E107*G107 -> 4.68 | T107: =(D107+E107+E107+D107)*G107 -> 62.4 | U107: =T107*30% -> 18.72 | V107: =(T107+U107)*0.25 -> 20.28 | X107: 0 | Y107: 0 | Z107: 0 | AA107: 0 | AB107: 0
...

Sheet ปร.4 old
A1: บัญชีแสดงปริมาณและราคา
A2: อาคารศูนย์ปฏิบัติการศึกษาด้านระบบรางและอากาศยาน มหาวิทยาลัยเทคโนโลยีราชมงคลอีสาน | J2: แบบ ปร.4
A3: เจ้าของโครงการ : มหาวิทยาลัยเทคโนโรยีราชมงคลอีสาน
A4: สถานที่ : มหาวิทยาลัยเทคโนโลยีราชมงคลอีสาน ตำบลหนองระเวียง อำเภอเมืองนครราชสีมา จังหวัดนครราชสีมา
A5: รายการแสดงราคา : งานก่อสร้างอาคาร | H5: =ปร.6!C9 -> 0
A7: ลำดับที่ | B7: รายการ | C7: จำนวน | D7: หน่วย | E7: ค่าวัสดุ | G7: ค่าแรงงาน | I7: รวมค่าวัสดุและค่าแรงงาน | J7: หมายเหตุ
E8: ราคาต่อหน่วย | F8: จำนวนเงิน | G8: ราคาต่อหน่วย | H8: จำนวนเงิน
B10: สรุปปริมาณงานทั้งหมด
A11: 1 | B11: หมวดงานสาธารณูปโภค | C11: 1 | D11: งาน | E11: 0 | F11: =F91 -> 9949100 | G11: 0 | H11: =H91 -> 3832391 | I11: =I91 -> 13781491
A12: 2 | B12: หมวดงานโครงสร้าง | C12: 1 | D12: งาน | E12: 0 | F12: =F344 -> 1.0616939e+08 | G12: 0 | H12: =H344 -> 31249102 | I12: =I344 -> 1.3741849e+08
A13: 3 | B13: หมวดงานสถาปัตยกรรม | C13: 1 | D13: งาน | E13: 0 | F13: =F1362 -> 96091887 | G13: 0 | H13: =H1362 -> 25931432 | I13: =I1362 -> 1.2202332e+08
A14: 4 | B14: หมวดงานระบบสุขาภิบาล | C14: 1 | D14: งาน | E14: 0 | F14: =F2221 -> 17366570 | G14: 0 | H14: =H2221 -> 5429354.8 | I14: =I2221 -> 22795925
A15: 5 | B15: หมวดงานระบบไฟฟ้าและสื่อสาร | C15: 1 | D15: งาน | E15: 0 | F15: =F2842 -> 31249382 | G15: 0 | H15: =H2842 -> 5360628 | I15: =I2842 -> 36610010
A16: 6 | B16: หมวดงานระบบปรับอากาศและระบายอากาศ | C16: 1 | D16: งาน | E16: 0 | F16: =F2968 -> 2931348.5 | G16: 0 | H16: =H2968 -> 758217.25 | I16: =I2968 -> 3689565.8
A17: 7 | B17: หมวดงานครุภัณฑ์ | C17: 1 | D17: งาน | E17: 0 | F17: =F3176 -> 22165050 | G17: 0 | H17: =H3176 -> 588450 | I17: =I3176 -> 35253500
B21: ราคารวม ( 1 - 7 ) | F21: =SUM(F11:F20) -> 2.8592272e+08 | H21: =SUM(H11:H20) -> 73149575 | I21: =SUM(I10:I20) -> 3.715723e+08
A23: 1 | B23: หมวดงานสาธารณูปโภค
A24: 1.1 | B24: งานเตรียมพื้นที่ก่อสร้าง
B25: - สำรวจระดับพื้นที่ วางผังอาคาร | C25: 10656 | D25: ม. | E25: 70 | F25: =E25*C25 -> 745920 | G25: 50 | H25: =G25*C25 -> 532800 | I25: =F25+H25 -> 1278720
B26: - เครียพื้นที่ ปรับเกี่ยววัชพืช ตัดตันไม้ | C26: 1 | D26: เหมา | E26: 30000 | F26: =E26*C26 -> 30000 | G26: 20000 | H26: =G26*C26 -> 20000 | I26: =F26+H26 -> 50000
B27: - งานดินปรับระดับ | C27: =ROUNDUP(18000*0.2,0) -> 3600 | D27: ลบ.ม | E27: 350 | F27: =E27*C27 -> 1260000 | G27: 100 | H27: =G27*C27 -> 360000 | I27: =F27+H27 -> 1620000
A28: 1.2 | B28: งานระบบสุขาภิบาลและระบายน้ำทั้งโครงการ
A29: 1.2.1 | B29: ระบบน้ำประปา
B30: PIPE PB CLASS 160
B31: DIA. 4" | C31: 200 | D31: ม. | E31: 746 | F31: =C31*E31 -> 149200 | G31: 150 | H31: =C31*G31 -> 30000 | I31: =F31+H31 -> 179200
B32: ข้อต่อ อุปกรณ์ท่อ | C32: 1 | D32: เหมา | E32: =FLOOR(SUM(F31:F31)*0.5,10) -> 74600 | F32: =E32*C32 -> 74600 | G32: =E32*0.3 -> 22380 | H32: =G32*C32 -> 22380 | I32: =F32+H32 -> 96980
B33: เหล็กยึดท่อ | C33: 1 | D33: เหมา | E33: =FLOOR(SUM(F31:F31)*0.2,10) -> 29840 | F33: =E33*C33 -> 29840 | G33: =E33*0.3 -> 8952 | H33: =G33*C33 -> 8952 | I33: =F33+H33 -> 38792
B34: ทดสอบ ทำความสะอาด ทาสีทำสัญลักษณ์ท่อ | C34: 1 | D34: เหมา | E34: =FLOOR(SUM(F31:F31)*0.1,10) -> 14920 | F34: =E34*C34 -> 14920 | G34: =E34*0.3 -> 4476 | H34: =G34*C34 -> 4476 | I34: =F34+H34 -> 19396
B35: GATE VALVE
B36: DIA. 4" | C36: 5 | D36: ชุด | E36: 7070 | F36: =C36*E36 -> 35350 | G36: 800 | H36: =C36*G36 -> 4000 | I36: =F36+H36 -> 39350
B37: CHECK VALVE
B38: DIA. 4" | C38: 4 | D38: ชุด | E38: 12250 | F38: =C38*E38 -> 49000 | G38: 800 | H38: =C38*G38 -> 3200 | I38: =F38+H38 -> 52200
B39: STRAINER
B40: DIA. 4" | C40: 4 | D40: ชุด | E40: 6060 | F40: =C40*E40 -> 24240 | G40: 800 | H40: =C40*G40 -> 3200 | I40: =F40+H40 -> 27440
B41: FIEXIBLE CONNECTION (STRAINLESS STEEL)
B42: DIA. 4" | C42: 8 | D42: ชุด | E42: 4200 | F42: =C42*E42 -> 33600 | G42: 800 | H42: =C42*G42 -> 6400 | I42: =F42+H42 -> 40000
B43: FAUCET OR HOSE BIBB, ANGLE STOP VALVE (FAU, HB, ASV)
B44: DIA. 1/2" | C44: 5 | D44: ชุด | E44: 700 | F44: =C44*E44 -> 3500 | G44: 50 | H44: =C44*G44 -> 250 | I44: =F44+H44 -> 3750
B45: มิเตอร์น้ำ 4" | C45: 1 | D45: ชุด | E45: 23490 | F45: =C45*E45 -> 23490 | G45: 800 | H45: =C45*G45 -> 800 | I45: =F45+H45 -> 24290
A46: 1.2.2 | B46: เครื่องสูบน้ำขึ้นถังสูง พร้อมติดตั้ง
B47: - VERTICAL MULTISTAGE PUMP
B48: - FLOW 35 CU.M.
B49: - HEAD 40 M.
B50: - CONTROL PANEL
B51: FLOAT VALVE DIA. 4" | C51: 4 | D51: ชุด | E51: 38000 | F51: =C51*E51 -> 152000 | G51: 600 | H51: =C51*G51 -> 2400 | I51: =F51+H51 -> 154400
B52: FOOT VALVE DIA. 4" | C52: 4 | D52: ชุด | E52: 32000 | F52: =C52*E52 -> 128000 | G52: 600 | H52: =C52*G52 -> 2400 | I52: =F52+H52 -> 130400
A53: 1.3 | B53: งานระบายน้ำ
B54: ท่อ PB Pipe ,Class 160 PSI ขนาด Dia. 6" (DN.) | C54: 50 | D54: ม. | E54: 1624 | F54: =C54*E54 -> 81200 | G54: 250 | H54: =C54*G54 -> 12500 | I54: =F54+H54 -> 93700
B55: ข้อต่อข้องอต่างๆ | C55: 1 | D55: เหมา | E55: =FLOOR(SUM(F54)*0.5,1) -> 40600 | F55: =E55*C55 -> 40600 | G55: =E55*0.3 -> 12180 | H55: =G55*C55 -> 12180 | I55: =H55+F55 -> 52780
B56: ค่าอุปกรณ์ยึดและรองรับท่อ | C56: 1 | D56: เหมา | E56: =FLOOR(SUM(F54)*0.2,1) -> 16240 | F56: =E56*C56 -> 16240 | G56: =E56*0.3 -> 4872 | H56: =G56*C56 -> 4872 | I56: =H56+F56 -> 21112
B57: ค่าทดสอบ ทำความสะอาด ทาสี ทำสัญลักษณ์ | C57: 1 | D57: เหมา | E57: =FLOOR(SUM(F54:F54)*0.1,1) -> 8120 | F57: =E57*C57 -> 8120 | G57: =E57*0.3 -> 2436 | H57: =G57*C57 -> 2436 | I57: =H57+F57 -> 10556
B58: งานวางท่อ คสล. (รวมทรายถมกลับหลังท่อ)
B59: - ท่อขนาด dia. 0.60 m. | C59: 350 | D59: ม. | E59: 430 | F59: =C59*E59 -> 150500 | G59: 550 | H59: =SUM(C59*G59) -> 192500 | I59: =SUM(F59,H59) -> 343000
B60: - ท่อขนาด dia. 1.00 m. | C60: 500 | D60: ม. | E60: 1100 | F60: =C60*E60 -> 550000 | G60: 551 | H60: =SUM(C60*G60) -> 275500 | I60: =SUM(F60,H60) -> 825500
B61: - ท่อขนาด dia. 1.20 m. | C61: 750 | D61: ม. | E61: 1450 | F61: =C61*E61 -> 1087500 | G61: 552 | H61: =SUM(C61*G61) -> 414000 | I61: =SUM(F61,H61) -> 1501500
A62: 1.3.1 | B62: งานบ่อพักน้ำสำหรับท่อ คสล.พร้อมฝาตะแกรงสำเร็จรูป
B63: - ขนาด dia. 1.00 m. | C63: 45 | D63: ชุด | E63: 2900 | F63: =C63*E63 -> 130500 | G63: 5800 | H63: =SUM(C63*G63) -> 261000 | I63: =SUM(F63,H63) -> 391500
B64: - ขนาด dia. 1.50 m. | C64: 65 | D64: ชุด | E64: 7100 | F64: =C64*E64 -> 461500 | G64: 5801 | H64: =SUM(C64*G64) -> 377065 | I64: =SUM(F64,H64) -> 838565
B65: - ขนาด dia. 1.90 m. | C65: 100 | D65: ชุด | E65: 12000 | F65: =C65*E65 -> 1200000 | G65: 5802 | H65: =SUM(C65*G65) -> 580200 | I65: =SUM(F65,H65) -> 1780200
A66: 1.4 | B66: ระบบท่อระบายน้ำฝน
B67: ท่อระบายน้ำฝนในดิน (RL.PIPE) PVC 13.5
B68: DIA. 6" | C68: 450 | D68: ม. | E68: 440 | F68: =E68*C68 -> 198000 | G68: 100 | H68: =G68*C68 -> 45000 | I68: =H68+F68 -> 243000
B69: - อุปกรณ์ข้อต่อท่อ | C69: 1 | D69: เหมา | E69: =FLOOR(SUM(F68)*0.4,10) -> 79200 | F69: =E69*C69 -> 79200 | G69: =E69*0.3 -> 23760 | H69: =G69*C69 -> 23760 | I69: =H69+F69 -> 102960
B70: - ที่แขวนและยึดท่อ | C70: 1 | D70: เหมา | E70: =FLOOR(SUM(F68)*0.3,10) -> 59400 | F70: =E70*C70 -> 59400 | G70: =E70*0.3 -> 17820 | H70: =G70*C70 -> 17820 | I70: =H70+F70 -> 77220
B71: งานทดสอบ ทำความสะอาด และทาสี | C71: 1 | D71: เหมา | E71: =FLOOR(SUM(F68)*0.1,10) -> 19800 | F71: =E71*C71 -> 19800 | G71: =E71*0.3 -> 5940 | H71: =G71*C71 -> 5940 | I71: =H71+F71 -> 25740
A72: 1.5 | B72: ระบบดับเพลิง
B73: FIRE HYDRANT
B74: - 6"X2-1/2X21/2" | C74: 5 | D74: PCS | E74: =18600+2800 -> 21400 | F74: =C74*E74 -> 107000 | G74: 900 | H74: =C74*G74 -> 4500 | I74: =F74+H74 -> 111500
A75: 1.6 | B75: งานระบบไฟฟ้า
B76: ระบบไฟฟ้าแรงสูงและหม้อแปลงไฟฟ้า
B77: CONCRETE FOUNDATION AND WIRE MESH FERCE | C77: 1 | D77: ชุด | E77: 50000 | F77: =E77*C77 -> 50000 | G77: 20000 | H77: =G77*C77 -> 20000 | I77: =F77+H77 -> 70000
B78: 12 M. CONCRETE POLE | C78: 1 | D78: ชุด | E78: 8000 | F78: =E78*C78 -> 8000 | G78: 2000 | H78: =G78*C78 -> 2000 | I78: =F78+H78 -> 10000
B79: OUTDOOR OPEN DROP FUSE | C79: 12 | D79: ชุด | E79: 5000 | F79: =E79*C79 -> 60000 | G79: 1000 | H79: =G79*C79 -> 12000 | I79: =F79+H79 -> 72000
B80: LIGHTNING ARRESTER | C80: 6 | D80: ชุด | E80: 4500 | F80: =E80*C80 -> 27000 | G80: 1000 | H80: =G80*C80 -> 6000 | I80: =F80+H80 -> 33000
B81: SUSPENSION INSULATOR | C81: 6 | D81: ชุด | E81: 1000 | F81: =E81*C81 -> 6000 | G81: 500 | H81: =G81*C81 -> 3000 | I81: =F81+H81 -> 9000
B82: PIN TYPE INSULATOR | C82: 12 | D82: ชุด | E82: 700 | F82: =E82*C82 -> 8400 | G82: 200 | H82: =G82*C82 -> 2400 | I82: =F82+H82 -> 10800
B83: 70 SQ.MM. XLPE CU 24 KV | C83: 2460 | D83: เมตร | E83: 620 | F83: =E83*C83 -> 1525200 | G83: 70 | H83: =G83*C83 -> 172200 | I83: =F83+H83 -> 1697400
B84: TERMINATOR KIT 70 SQ.MM. (OUTDOOR) | C84: 12 | D84: ชุด | E84: 6000 | F84: =E84*C84 -> 72000 | G84: 2000 | H84: =G84*C84 -> 24000 | I84: =F84+H84 -> 96000
B85: DUCT BANK (2x1) | C85: 400 | D85: เมตร | E85: 1500 | F85: =E85*C85 -> 600000 | G85: 500 | H85: =G85*C85 -> 200000 | I85: =F85+H85 -> 800000
B86: IMC. DIA. 4" | C86: 40 | D86: เมตร | E86: 546 | F86: =E86*C86 -> 21840 | G86: 85 | H86: =G86*C86 -> 3400 | I86: =F86+H86 -> 25240
B87: MANHOLE | C87: 6 | D87: ชุด | E87: 80000 | F87: =E87*C87 -> 480000 | G87: 20000 | H87: =G87*C87 -> 120000 | I87: =F87+H87 -> 600000
B88: GROUNDING SYSTEM | C88: 1 | D88: ชุด | E88: 10000 | F88: =E88*C88 -> 10000 | G88: 2500 | H88: =G88*C88 -> 2500 | I88: =F88+H88 -> 12500
B89: ACCESSORIES | C89: 1 | D89: เหมา | E89: =I89*0.8 -> 137440 | F89: =C89*E89 -> 137440 | G89: =I89*0.2 -> 34360 | H89: =C89*G89 -> 34360 | I89: =ROUNDUP(SUM(I77:I88)*5%,-2) -> 171800
B91: รวมราคาหมวดงานสาธารณูปโภค | F91: =SUM(F24:F90) -> 9949100 | H91: =SUM(H24:H90) -> 3832391 | I91: =SUM(I24:I90) -> 13781491
A93: 2 | B93: หมวดงานโครงสร้าง
A94: 2.1 | B94: งานทดสอบการรับน้ำหนักเสาเข็ม
B95: - ค่าทดสอบความสามารถรับน้ำหนักบรรทุกของพื้นดิน วิธี PLATE BEARING | C95: 3 | D95: จุด | E95: 13400 | F95: =E95*C95 -> 40200 | G95: 0 | H95: =G95*C95 -> 0 | I95: =H95+F95 -> 40200
A96: 2.2 | B96: อาคาร A,C,D
A97: 2.2.1 | B97: งานฐานราก
B98: เสาเข็มสี่เหลี่ยมตันขนาด 0.40 x 0.40 x L (L ประมาณ 6.00 เมตร) | C98: 1235 | D98: ต้น | E98: 3925 | F98: =C98*E98 -> 4847375 | G98: 591 | H98: =G98*C98 -> 729885 | I98: =F98+H98 -> 5577260
B99: ค่าทดสอบการรับน้ำหนักเสาเข็มด้วยวิธี Dynamic Load Test | C99: 12 | D99: ต้น | E99: 0 | F99: =C99*E99 -> 0 | G99: 26500 | H99: =G99*C99 -> 318000 | I99: =F99+H99 -> 318000
B100: ค่าทดสอบความสมบูรณ์ของเสาเข็มด้วยวิธี Seismic Test | C100: 1230 | D100: ต้น | E100: 0 | F100: =C100*E100 -> 0 | G100: 350 | H100: =G100*C100 -> 430500 | I100: =F100+H100 -> 430500
B101: งานตัดหัวเสาเข็ม | C101: 1230 | D101: ต้น | E101: 0 | F101: =C101*E101 -> 0 | G101: 350 | H101: =G101*C101 -> 430500 | I101: =F101+H101 -> 430500
B102: ขุดดิน | C102: 4184.8682 | D102: ลบ.ม. | E102: 0 | F102: =C102*E102 -> 0 | G102: 125 | H102: =G102*C102 -> 523108.53 | I102: =F102+H102 -> 523108.53
B103: กลบดิน | C103: 1856.8579 | D103: ลบ.ม. | E103: 0 | F103: =C103*E103 -> 0 | G103: 99 | H103: =G103*C103 -> 183828.94 | I103: =F103+H103 -> 183828.94
B104: คอนกรีตโครงสร้าง (fc' 280 ksc) | C104: 1780.2519 | D104: ลบ.ม. | E104: 2287 | F104: =C104*E104 -> 4071436.1 | G104: 485 | H104: =G104*C104 -> 863422.16 | I104: =F104+H104 -> 4934858.2
B105: งานไม้แบบ | C105: 4850.9774 | D105: ลบ.ฟ. | E105: 0 | F105: =C105*E105 -> 0 | G105: 115 | H105: =G105*C105 -> 557862.4 | I105: =F105+H105 -> 557862.4
B106: ไม้แบบ | C106: 2910.5864 | D106: ลบ.ฟ. | E106: 400 | F106: =C106*E106 -> 1164234.6 | G106: 0 | H106: =G106*C106 -> 0 | I106: =F106+H106 -> 1164234.6
B107: ไม้เคร่า | C107: 873.17593 | D107: ลบ.ฟ. | E107: 400 | F107: =C107*E107 -> 349270.37 | G107: 0 | H107: =G107*C107 -> 0 | I107: =F107+H107 -> 349270.37
B108: ตะปู | C108: 1455.2932 | D108: กก. | E108: 56.07 | F108: =C108*E108 -> 81598.291 | G108: 0 | H108: =G108*C108 -> 0 | I108: =F108+H108 -> 81598.291
...

Sheet ปร.4
A1: บัญชีแสดงรายการ ปริมาณ และราคา
A2: ชื่อโครงการ/งานก่อสร้าง อาคารศูนย์ปฏิบัติการศึกษาด้านระบบรางและอากาศยาน ตำบลหนองระเวียง อำเภอเมืองนครราชสีมา จังหวัดนครราชสีมา
A3: สถานที่ก่อสร้าง : มหาวิทยาลัยเทคโนโลยีราชมงคลอีสาน ตำบลหนองระเวียง อำเภอเมืองนครราชสีมา จังหวัดนครราชสีมา
A4: เจ้าของโครงการ : มหาวิทยาลัยเทคโนโลยีราชมงคลอีสาน
A5: ประมาณราคากลางโดย คณะกรรมการกำหนดราคากลาง เมื่อวันที่
A7: ลำดับที่ | B7: รายการ | C7: จำนวน | D7: หน่วย | E7: ค่าวัสดุ | G7: ค่าแรงงาน | I7: รวมค่าวัสดุและค่าแรงงาน | J7: หมายเหตุ
E8: ราคาต่อหน่วย | F8: จำนวนเงิน | G8: ราคาต่อหน่วย | H8: จำนวนเงิน
B9: สรุปปริมาณงานก่อสร้าง
A10: 1 | B10: งานโครงสร้างวิศวกรรม | D10: งาน
A11: 2 | B11: งานสถาปัตยกรรม | D11: งาน
A12: 3 | B12: งานระบบสุขาภิบาล ดับเพลิง และป้องกันอัคคีภัย | D12: งาน
A13: 4 | B13: งานระบบไฟฟ้าและสื่อสาร | D13: งาน
A14: 5 | B14: งานระบบปรับอากาศและระบายอากาศ | D14: งาน
A15: 6 | B15: งานสาธารณูปโภค | D15: งาน
A16: 7 | B16: งานระบบลิฟต์ | D16: งาน
A17: 8 | B17: งานครุภัณฑ์ | D17: งาน
B18: ราคารวมทั้งหมด ( 1-8 )
A20: 1 | B20: งานโครงสร้างวิศวกรรม
A21: 1.1 | B21: งานเจาะสำรวจดิน
B22: - ค่าทดสอบความสามารถรับน้ำหนักบรรทุกของพื้นดิน วิธี BORING TEST | D22: จุด
A23: 1.2 | B23: ขุดดิน (เครื่องจักรกล) | D23: ลบ.ม.
A24: 1.3 | B24: กลบดิน | D24: ลบ.ม.
A25: 1.4 | B25: คอนกรีตหยาบรองก้นฐานราก (fc' 180 ksc, Cylinder) | D25: ลบ.ม.
A26: 1.5 | B26: ทรายหยาบบดอัดแน่น | D26: ลบ.ม.
A27: 1.6 | B27: งานเสาเข็ม
B28: - เสาเข็มสี่เหลี่ยมตันขนาด 0.40 x 0.40 x L (L = 6.00 เมตร) | D28: ต้น
B29: - ค่าทดสอบการรับน้ำหนักเสาเข็มด้วยวิธี Static Load Test | D29: ต้น
B30: - ค่าทดสอบการรับน้ำหนักเสาเข็มด้วยวิธี Dynamic Load Test | D30: ต้น
B31: - ค่าทดสอบความสมบูรณ์ของเสาเข็มด้วยวิธี Seismic Test | D31: ต้น
B32: - งานตัดหัวเสาเข็ม | D32: ต้น
A33: 1.7 | B33: งานไม้แบบ | D33: ตร.ม.
B34: - ไม้แบบ | D34: ลบ.ฟ.
B35: - ไม้เคร่า | D35: ลบ.ฟ.
B36: - ตะปู | D36: กก.
A37: 1.8 | B37: งานเหล็กเสริมคอนกรีต
B38: เหล็กเส้นกลม SR24
B39: - RB6 | D39: กก.
B40: - RB9 | D40: กก.
B41: - RB12 | D41: กก.
B42: - RB15 | D42: กก.
B43: - RB19 | D43: กก.
B44: เหล็กข้ออ้อย SD40
B45: - DB12 | D45: กก.
B46: - DB16 | D46: กก.
B47: - DB20 | D47: กก.
B48: - DB25 | D48: กก.
B49: - DB28 | D49: กก.
B50: - DB32 | D50: กก.
B51: ลวดผูกเหล็ก | D51: กก.
A52: 1.9 | B52: งานคอนกรีต
B53: - คอนกรีตหยาบ (fc' 180 ksc, Cylinder) | D53: ลบ.ม.
B54: - คอนกรีตโครงสร้าง (fc' 280 ksc, Cylinder) | D54: ลบ.ม.
B55: - คอนกรีตโครงสร้าง (fc' 320 ksc, Cylinder) | D55: ลบ.ม.
A56: 1.1 | B56: Water Stop 8" | D56: ม.
A57: 1.11 | B57: Water Proof Membrean | D57: ตร.ม.
A58: 1.12 | B58: แผ่นป้องกัน Water Proof Membrean | D58: ตร.ม.
A59: 1.13 | B59: งานพื้น POST-TENSIONED SYSTEM | D59: ตร.ม.
A60: 1.14 | B60: งานโครงสร้างเหล็กรูปพรรณ
B61: H-150x150x7x10 | D61: กก.
B62: H-200x200x8x12 | D62: กก.
B63: H-250x125x6x9 | D63: กก.
B64: H-250x250x9x14 | D64: กก.
B65: H-300x150x6.5x9 | D65: กก.
B66: H-300x200x8x12 | D66: กก.
B67: H-300x300x10x15 | D67: กก.
B68: H-350x350x12x19 | D68: กก.
B69: H-400x200x8x13 | D69: กก.
B70: H-500x300x11x18 | D70: กก.
B71: [-150x75x25x3.2 | D71: กก.
B72: []-100x50x3.2 | D72: กก.
... B82: สีกันไฟ | D82: ตร.ม.
B83: รวมราคางานโครงสร้างวิศวกรรม
A85: 2 | B85: งานสถาปัตยกรรม
A86: 2.1 | B86: งานผิวพื้น
B87: - F1 พื้น คสล. ขัดมันเรียบ | D87: ตร.ม.
B88: - F2 พื้น คสล. ผิวพื้นหินขัด สีเทา | D88: ตร.ม.
B89: - F3 พื้น คสล. กระเบื้อง 60 x 60 ซม. สีเทา ชนิดด้าน | D89: ตร.ม.
B90: - F4 พื้น คสล. ทรายล้าง สีเทาเข้ม | D90: ตร.ม.
B91: - F5 พื้น คสล. ทำผิวหินแกร่ง (Floor Hardener) | D91: ตร.ม.
B92: - F6 พื้น คสล. ขัดหยาบ ผสมน้ำยากันซึม | D92: ตร.ม.
B93: - ทำระบบกันซึม CEMENT BASE (ห้องน้ำ) | D93: ตร.ม.
A94: 2.2 | B94: งานผนังและผิวผนัง
B95: งานผนัง
B96: - งานก่ออิฐมอญครึ่งแผ่น (A) | D96: ตร.ม.
B97: - งานก่ออิฐมอญครึ่งแผ่น (B) | D97: ตร.ม.
B98: - งานผนังโครงคร่าวเหล็กกรุทับด้วยแผ่นไฟเบอร์ซีเมนต์ (D6) | D98: ตร.ม.
B99: - งานผนังโครงคร่าวเหล็กกรุคอนกรีตเสริมใยแก้ว (D) | D99: ตร.ม.
B100: - งานผนังทรายล้าง (SD7) | D100: ตร.ม.
B101: - งานผนังโครงคร่าวเหล็ก (D) | D101: ตร.ม.
B102: - เสาเอ็น+ทับหลัง | D102: ม.
B103: งานผิวผนัง
B104: - งานฉาบปูนเรียบขัดมัน ภายนอก (1) | D104: ตร.ม.
B105: - งานฉาบปูนเรียบขัดมัน ภายใน (2) | D105: ตร.ม.
B106: - งานฉาบผนัง คสล. (C) | D106: ตร.ม.
B107: - กรุกระเบื้อง (CT-03) | D107: ตร.ม.
B108: - งานผนังพ่นลายหินธรรมชาติ สีดำ (PT-05) | D108: ตร.ม.
B109: - งานผนังกรุแผ่นซีเมนต์บอร์ด หนา 10 มม .ทาสีเคลืยบขัดมัน (D6) | D109: ตร.ม.
A110: 2.3 | B110: งานทาสีผนัง
B111: - ทาสีขัดมันสำเร็จรูป ภายนอก ทาสีเคลืยบผิว (PT-01) | D111: ตร.ม.
B112: - ทาสีขัดมันสำเร็จรูป ภายใน (PT-02) | D112: ตร.ม.
...

Sheet Structure Unit Rate
A1: โครงการอาคารศูนย์ปฏิบัติการศึกษาด้านระบบรางและอากาศยาน ตำบลหนองระเวียง อำเภอเมืองนครราชสีมา จังหวัดนครราชสีมา
A2: ลำดับ
A3: รายละเอียดปริมาณงาน | B3: ค่าวัสดุ | C3: ค่าแรงงาน | D3: หมายเหตุ
A4: งานเสาเข็ม | B4: ราคาพาณิชย์จังหวัด ปี63 | C4: บัชญีราคาค่าแรงปี 63
A5: 0.40 x 0.40 x L (45 ton/pile) | B5: 3700.92 | C5: 591 | D5: บัชญีราคาค่าวัสดุและราคาค่าแรงปี 63 | E5: *คิด 6 เมตร*
A6: ค่าทดสอบการรับน้ำหนักเสาเข็มด้วยวิธี Dynamic Load Test | C6: 28500 | D6: บัชญีราคาค่าวัสดุและราคาค่าแรงปี 63
A7: ค่าทดสอบการรับน้ำหนักเสาเข็มด้วยวิธี Seismic Load Test | C7: 300 | D7: บัชญีราคาค่าวัสดุและราคาค่าแรงปี 63
A8: งานตัดหัวเสาเข็ม | B8: 0 | C8: 320 | D8: บัชญีราคาค่าวัสดุและราคาค่าแรงปี 63
A9: ขุดดิน | B9: 0 | C9: 125 | D9: บัชญีราคาค่าวัสดุและราคาค่าแรงปี 63
A10: กลบดิน | B10: 0 | C10: 99 | D10: บัชญีราคาค่าวัสดุและราคาค่าแรงปี 63
A11: คอนกรีตโครงสร้าง (fc' 280 ksc) | B11: 1836.22 | C11: 485 | D11: บัชญีราคาค่าวัสดุและราคาค่าแรงปี 63
A12: คอนกรีตพื้น POSTENSION (fc' 320 ksc) | B12: 1915.89 | C12: 485 | D12: บัชญีราคาค่าวัสดุและราคาค่าแรงปี 63
A13: Post-Tensioned system | B13: 250 | C13: 100
A14: งานไม้แบบ | B14: 0 | C14: 115 | D14: บัชญีราคาค่าวัสดุและราคาค่าแรงปี 63
A15: ไม้แบบ | B15: 400 | C15: 0 | D15: บัชญีราคาค่าวัสดุและราคาค่าแรงปี 63
A16: ไม้เคร่า | B16: 400 | C16: 0 | D16: บัชญีราคาค่าวัสดุและราคาค่าแรงปี 63
A17: ตะปู | B17: 60 | C17: 0
A18: คอนกรีตหยาบ | B18: 1989 | C18: 398 | D18: บัชญีราคาค่าวัสดุและราคาค่าแรงปี 63
A19: ทรายหยาบบดอัดแน่น | B19: 435 | C19: 91 | D19: บัชญีราคาค่าวัสดุและราคาค่าแรงปี 63
A20: งานเหล็กเสริมโครงสร้าง
A21: RB6 | B21: 19.03 | C21: 4.1 | D21: บัชญีราคาค่าวัสดุและราคาค่าแรงปี 63
A22: RB9 | B22: 18.2 | C22: 4.1 | D22: บัชญีราคาค่าวัสดุและราคาค่าแรงปี 63
A23: DB12 | B23: 17.76 | C23: 3.3 | D23: บัชญีราคาค่าวัสดุและราคาค่าแรงปี 63
A24: DB16 | B24: 17.56 | C24: 3.3 | D24: บัชญีราคาค่าวัสดุและราคาค่าแรงปี 63
A25: DB20 | B25: 17.56 | C25: 2.9 | D25: บัชญีราคาค่าวัสดุและราคาค่าแรงปี 63
A26: DB25 | B26: 17.56 | C26: 2.9 | D26: บัชญีราคาค่าวัสดุและราคาค่าแรงปี 63
A27: DB28 | B27: 17.56 | C27: 2.9 | D27: บัชญีราคาค่าวัสดุและราคาค่าแรงปี 63
A28: DB32 | B28: 17.56 | C28: 2.9 | D28: บัชญีราคาค่าวัสดุและราคาค่าแรงปี 63
A29: ลวดผูกเหล็ก | B29: 53.27 | C29: 0
A30: 8" Water Stop | B30: 280 | C30: 35
A31: waterproof membrane | B31: 270 | C31: 87
A32: แผ่นป้องกัน waterproof membrane | B32: 100 | C32: 30
A33: งานโครงสร้างเหล็ก
A34: H-200x200x8x12 | B34: 23.5 | C34: 14
A35: H-300x300x10x15 | B35: 23.5 | C35: 14
A36: H300x200x8x12 | B36: 23.5 | C36: 14
A37: H-400x200x8x13 | B37: 23.5 | C37: 14
A38: H-250x250x9x14 | B38: 23.5 | C38: 14
A39: H-300x200x8x12 | B39: 23.5 | C39: 14
A40: H-150x150x7x10 | B40: 23.5 | C40: 14
A41: H-300x150x6.5x9 | B41: 23.5 | C41: 14
A42: H-250x125x6x9 | B42: 23.5 | C42: 14
A43: H-500x300x11x18 | B43: 23.5 | C43: 14
A44: []-100x50x3.2 | B44: 18.3 | C44: 14
A45: []-150x75x3.2 | B45: 18.3 | C45: 14
... A56: M25 | B56: 310 | C56: 100
A57: สีกันสนิม | B57: 30 | C57: 30 | D57: ราคาทั่วไปท้องตลาด
A58: สีกันไฟ | B58: 280 | C58: 30
A62: โคราช | B62: Primoc
A63: กทม

Sheet Factor F
A1: วิธีคำนวณเทียบอัตราส่วนเพื่อหาค่า FACTOR F
A3: กรณีค่างานอยู่ระหว่างช่วงของค่างานต้นทุนที่กำหนดในตาราง Factor F ให้เทียบอัตราส่วน เพื่อหา Factor F ดังนี้ | U3: old
A4: สูตร | B4: ต้องการหาค่า Factor F ของค่างานต้นทุน | L4: = | P4: A | S4: บาท
A5: สูตร | B5: ค่า Factor F | C5: = | D5: D | E5: - | G5: ( | H5: D | I5: - | J5: E | K5: ) | M5: ( | N5: A | O5: - | P5: B | Q5: )
I6: ( | J6: C | L6: - | N6: B | O6: )
A8: ค่างานต้นทุน | B8: ค่าวัสดุและค่าแรงงาน | L8: = | O8: ='ปร.5(ก)'!D20 -> 0 | S8: บาท
B11: รวมเป็นเงินประมาณ | L11: = | O11: =O8 -> 0 | S11: บาท
A13: เงื่อนไข | B13: เงินล่วงหน้าจ่าย | F13: 0 | J13: ดอกเบี้ยเงินกู้ | P13: 0.05 | Q13: ต่อปี
B14: เงินประกันผลงานหัก | F14: 0.05 | J14: ภาษีมูลค่าเพิ่ม | P14: 0.07
A16: เมื่อ | B16: ต้องการหาค่า Factor F ของค่างานต้นทุน | I16: = | J16: A | M16: = | O16: =O8 -> 0 | S16: บาท
B17: ค่างานต้นทุนตัวต่ำกว่าค่างานต้นทุน A | I17: = | J17: B | M17: = | O17: 300000000 | S17: บาท
B18: ค่างานต้นทุนตัวสูงกว่าค่างานต้นทุน A | I18: = | J18: C | M18: = | O18: 350000000 | S18: บาท
B19: ค่า Factor F ของค่างานต้นทุน B | I19: = | J19: D | M19: = | O19: 1.1965
B20: ค่า Factor F ของค่างานต้นทุน C | I20: = | J20: E | M20: = | O20: 1.1881
A22: แทนค่าสูตร | B22: ค่า Factor F | C22: = | D22: =O19 -> 1.1965 | E22: - | G22: ="("&O19&"-"&O20&")" -> (1.1965-1.1881) | K22: x | L22: ="("&TEXT(O16,"#,##0.00")&"-"&TEXT(O17,"#,##0.00")&")" -> (0.00-300,000,000.00)
I23: ="("&TEXT(O18,"#,##0.00")&"-"&TEXT(O17,"#,##0.00")&")" -> (350,000,000.00-300,000,000.00)
B25: ค่าFactor F | C25: = | D25: =D22 -> 1.1965 | F25: =(((O19-O20)*(O16-O17))/(O18-O17)) -> -0.0504 | O25: =FLOOR(W25,0.0001) -> 1.2469 | W25: =O19-F25 -> 1.2469
A28: วิธีคำนวณเทียบอัตราส่วนเพื่อหาค่า FACTOR F | U28: New
A30: กรณีค่างานอยู่ระหว่างช่วงของค่างานต้นทุนที่กำหนดในตาราง Factor F ให้เทียบอัตราส่วน เพื่อหา Factor F ดังนี้
A31: สูตร | B31: ต้องการหาค่า Factor F ของค่างานต้นทุน | L31: = | P31: A | S31: บาท
A32: สูตร | B32: ค่า Factor F | C32: = | D32: D | E32: - | G32: ( | H32: D | I32: - | J32: E | K32: ) | M32: ( | N32: A | O32: - | P32: B | Q32: )
I33: ( | J33: C | L33: - | N33: B | O33: )
A35: ค่างานต้นทุน | B35: ค่าวัสดุและค่าแรงงาน | L35: = | O35: ='ปร.5(ก)'!D20 -> 0 | S35: บาท
B38: รวมเป็นเงินประมาณ | L38: = | O38: =O35 -> 0 | S38: บาท
A40: เงื่อนไข | B40: เงินล่วงหน้าจ่าย | F40: 0.15 | J40: ดอกเบี้ยเงินกู้ | P40: 0.05 | Q40: ต่อปี
B41: เงินประกันผลงานหัก | F41: 0.05 | J41: ภาษีมูลค่าเพิ่ม | P41: 0.07
A43: เมื่อ | B43: ต้องการหาค่า Factor F ของค่างานต้นทุน | I43: = | J43: A | M43: = | O43: =O35 -> 0 | S43: บาท
B44: ค่างานต้นทุนตัวต่ำกว่าค่างานต้นทุน A | I44: = | J44: B | M44: = | O44: 300000000 | S44: บาท
B45: ค่างานต้นทุนตัวสูงกว่าค่างานต้นทุน A | I45: = | J45: C | M45: = | O45: 350000000 | S45: บาท
B46: ค่า Factor F ของค่างานต้นทุน B | I46: = | J46: D | M46: = | O46: 1.1858
B47: ค่า Factor F ของค่างานต้นทุน C | I47: = | J47: E | M47: = | O47: 1.177
A49: แทนค่าสูตร | B49: ค่า Factor F | C49: = | D49: =O46 -> 1.1858 | E49: - | G49: ="("&O46&"-"&O47&")" -> (1.1858-1.177) | K49: x | L49: ="("&TEXT(O43,"#,##0.00")&"-"&TEXT(O44,"#,##0.00")&")" -> (0.00-300,000,000.00)
I50: ="("&TEXT(O45,"#,##0.00")&"-"&TEXT(O44,"#,##0.00")&")" -> (350,000,000.00-300,000,000.00)
B52: ค่าFactor F | C52: = | D52: =D49 -> 1.1858 | F52: =(((O46-O47)*(O43-O44))/(O45-O44)) -> -0.0528 | O52: =FLOOR(W52,0.0001) -> 1.2386 | W52: =O46-F52 -> 1.2386

Sheet Architecture 
D2: ส่วน A | E2: =C173+D173+E173+F173+H173 -> 9711 | G2: ส่วน C | H2: =C292+D292+F292+H292 -> 4041 | J2: ส่วน E | K2: =C534+D534+E534+F534+G534+H534 -> 912
D3: ส่วน B | E3: =C227+E227 -> 1501 | G3: ส่วน D | H3: =C492+D492+E492+F492+G492+H492 -> 13906 | M3: sum | N3: =E2+E3+H2+H3+K2 -> 30071
A5: ลำดับ | B5: รายการ | C5: งานผิวพื้น | U5: งานผนังและผิวผนัง | AQ5: เสาเอ็น | AT5: ทับหลัง | AU5: งานฝ้าเพดาน | AZ5: งานทาสี | BD5: งานประตู+หน้าต่าง | DF5: หลังคา
C6: F1 | D6: F2 | E6: F3 | F6: F4 | G6: F5 | H6: F6 | I6: F7 | J6: F8 | K6: F9 | L6: F10 | M6: F11 | N6: F12 | O6: F13 | P6: F14 | Q6: F15 | R6: F16 | S6: F17 | T6: ปูนทราย | U6: ก่ออิฐมอญ | W6: ผนัง คสล. | X6: ก่ออิฐมวลเบา | Y6: ผนังยิปซั่ม | Z6: ผนังGRC | AA6: ผนังซีเมนต์ | AB6: ทรายล้าง | AC6: ฉาบปูนเรียบอิฐมอญ | AE6: ฉาบปูนเรียบ | AF6: ฉาบปูนเรียบ | AG6: กรุกระเบื้อง | AH6: ผนังตกแต่ง | AI6: ผนังตกแต่ง | AJ6: ผนังตกแต่ง | AK6: กรุกระเบื้อง | AL6: กรุกระเบื้อง | AM6: ฉาบปูนเรียบ | AN6: ฉาบปูนเรียบ | AO6: ผนังตกแต่ง | AP6: ฉาบยิปซั่ม | AQ6: 0.10 ม. | AR6: 0.20 ม. | AS6: 0.30 ม. | AU6: C1 | AV6: C2 | AW6: C3 | AX6: C4 | AY6: C5 | AZ6: สีทาภายใน | BA6: สีทาภายนอก | BB6: สีขัดมัน | BC6: สีทาฝ้าเพดาน | BD6: D1 | BE6: D2 | BF6: D3 | BG6: D4 | BH6: D5 | BI6: D6 | BJ6: D6.1 | BK6: D7 | BL6: D8 | BM6: D9 | BN6: D9.1 | BO6: D10 | BP6: D11 | BQ6: D12 | BR6: D13 | BS6: D14 | BT6: D15 | BV6: D16 | BW6: D17 | CB6: W1 | CC6: W1.1 | CD6: W2 | CE6: W3 | CF6: W4 | CG6: W4.1 | CH6: W5 | CI6: W5.1 | CJ6: W6 | CK6: W6.1 | CL6: W7 | CM6: W7.1 | CN6: W8 | CO6: W9 | CP6: W10 | CQ6: W10.1 | CR6: W10.2 | CS6: W11 | CT6: W12 | CU6: W13 | CV6: W14 | CW6: W15 | CX6: W16 | CY6: W17 | DF6: metal sheet | DG6: ครอบ | DH6: ครอบ | DI6: siding | DJ6: ครอบ | DK6: ครอบ | DL6: ฉนวน | DM6: ราง | DN6: sky light | DO6: คอมโพสิต
C7: คสล. | D7: คสล. | E7: ก/บ | F7: ทรายล้าง | G7: FLOOR | H7: คสล. | S7: cheker plat | T7: ปรับระดับ | U7: ครึ่งแผ่น | V7: เต็มแผ่น | AA7: บอร์ด | AC7: 1 | AD7: 2 | AE7: คสล. | AF7: อิฐมวลเบา | AG7: CT3 | AH7: Texture | AI7: Fiber 10 mm | AU7: ฝ้ายิบซัมบอร์ด | AV7: ฝ้ายิบซัมบอร์ด | AW7: ฉาบปูนเรียบ | AZ7: PT2 | BA7: PT1 | BB7: PT6 | BD7: =4.15*2.85 -> 11.8275 | BE7: =5.4*2.85 -> 15.39 | BF7: =5.4*2.85 -> 15.39 | BG7: =2.1*2.85 -> 5.985 | BH7: =0.8*2.05 -> 1.64 | BI7: =2.1*2.85 -> 5.985 | BJ7: =2.1*2.5 -> 5.25 | BK7: =1.9*2.05 -> 3.895 | BL7: =7.4*2.85 -> 21.09 | BM7: =2.1*2.85 -> 5.985 | BN7: =2.1*2.5 -> 5.25 | BO7: =1.1*2.05 -> 2.255 | BP7: =1.1*2.5 -> 2.75 | BQ7: =1*2.5 -> 2.5 | BR7: =1.1*2.05 -> 2.255 | BS7: =1.1*2.5 -> 2.75 | BT7: =(2*2.85) -> 5.7 | BV7: =7*2.5 -> 17.5 | BW7: =41.4*2.85 -> 117.99 | CB7: =1.65*5.1 -> 8.415 | CC7: =5.1*3.75 -> 19.125 | CD7: =5.4*2.35 -> 12.69 | CE7: =2.6*2.35 -> 6.11 | CF7: =5.1*0.5 -> 2.55 | CG7: =5.1*1.65 -> 8.415 | CH7: =1.75*1.65 -> 2.8875 | CI7: =1.75*3.75 -> 6.5625 | CJ7: =0.65*2.3 -> 1.495 | CK7: =0.85*2.3 -> 1.955 | CL7: =1.7*0.65 -> 1.105 | CM7: =1.7*0.85 -> 1.445 | CN7: =3.42*1.65 -> 5.643 | CO7: =3.8*0.5 -> 1.9 | CP7: =1.9*3.75 -> 7.125 | CQ7: =1.9*1.65 -> 3.135 | CR7: =1.9*1.05 -> 1.995 | CS7: =5.4*0.5 -> 2.7 | CT7: =7.5*2.85 -> 21.375 | CU7: =4.26*1.65 -> 7.029 | CV7: =2*1.65 -> 3.3 | CW7: =7.4*2.1 -> 15.54 | CX7: =7.2*2.35 -> 16.92 | CY7: =0.89*1.65 -> 1.4685 | DG7: จั่ว | DH7: ข้าง | DJ7: มุม | DK7: ชายล่าง | DL7: PU
C8: ขัดมันเรียบ | D8: หินขัด | E8: 60 x 60 | G8: HARDENER | H8: ขัดหยาบ | U8: A | V8: B | AA8: D | AC8: ภายนอก | AD8: ภายใน | AH8: 5 | AI8: 6 | AV8: กันชื้น | AW8: คสล. | BD8: 4.15 | BE8: 5.4 | BF8: 6.4 | BG8: 2.1 | BH8: 0.8 | BI8: 2.1 | BJ8: 2.1 | BK8: 1.9 | BL8: 7.4 | BM8: 2.1 | BN8: 2.1 | BO8: 1.1 | BP8: 2.1 | BQ8: 1 | BR8: 1.1 | BS8: 1.1 | BT8: 2 | BV8: 7 | BW8: 41.4 | CB8: =5.1*2 -> 10.2 | CC8: =5.1*2 -> 10.2 | CD8: =5.4*2 -> 10.8 | CE8: =2.6*2 -> 5.2 | CF8: =5.1*2 -> 10.2 | CG8: =5.1*2 -> 10.2 | CH8: =1.75*2 -> 3.5 | CI8: =1.75*2 -> 3.5 | CJ8: =2.3*2 -> 4.6 | CK8: =2.3*2 -> 4.6 | CL8: =1.7*2 -> 3.4 | CM8: =1.7*2 -> 3.4 | CN8: =3.42*2 -> 6.84 | CO8: =3.8*2 -> 7.6 | CP8: =1.9*2 -> 3.8 | CQ8: =1.9*2 -> 3.8 | CR8: =1.9*2 -> 3.8 | CS8: =5.4*2 -> 10.8 | CT8: =7.5*2 -> 15 | CU8: =4.26*2 -> 8.52 | CV8: =2*2 -> 4 | CW8: =7.4*2 -> 14.8 | CX8: =7.2*2 -> 14.4 | CY8: =0.89*2 -> 1.78 | DH8: ชนผนัง
BD9: =2.85*2 -> 5.7 | BE9: =2.85*2 -> 5.7 | BF9: =2.85*2 -> 5.7 | BG9: =2.85*2 -> 5.7 | BH9: =2.05*2 -> 4.1 | BI9: =2.85*2 -> 5.7 | BJ9: =2.5*2 -> 5 | BK9: =2.05*2 -> 4.1 | BL9: =2.85*2 -> 5.7 | BM9: =2.85*2 -> 5.7 | BN9: =2.5*2 -> 5 | BO9: =2.05*2 -> 4.1 | BP9: =2.5*2 -> 5 | BQ9: =2.5*2 -> 5 | BR9: =2.05*2 -> 4.1 | BS9: =2.5*2 -> 5 | BT9: =2.85*2 -> 5.7 | BV9: =2.5*2 -> 5 | BW9: =2.85*2 -> 5.7 | CB9: =1.65*2 -> 3.3 | CC9: =3.75*2 -> 7.5 | CD9: =2.35*2 -> 4.7 | CE9: =2.35*2 -> 4.7 | CF9: =0.5*2 -> 1 | CG9: =0.4*2 -> 0.8 | CH9: =1.65*2 -> 3.3 | CI9: =3.75*2 -> 7.5 | CJ9: =0.65*2 -> 1.3 | CK9: =0.85*2 -> 1.7 | CL9: =0.65*2 -> 1.3 | CM9: =0.85*2 -> 1.7 | CN9: =1.65*2 -> 3.3 | CO9: =0.5*2 -> 1 | CP9: =3.75*2 -> 7.5 | CQ9: =1.65*2 -> 3.3 | CR9: =1.05*2 -> 2.1 | CS9: =0.5*2 -> 1 | CT9: =2.85*2 -> 5.7 | CU9: =1.65*2 -> 3.3 | CV9: =1.65*2 -> 3.3 | CW9: =2.1*2 -> 4.2 | CX9: =2.35*2 -> 4.7 | CY9: =1.65*2 -> 3.3
B10: อาคา (A) | C10: (ตร.ม.) | D10: (ตร.ม.) | E10: (ตร.ม.) | F10: (ตร.ม.) | G10: (ตร.ม.) | H10: (ตร.ม.) | I10: (ตร.ม.) | J10: (ตร.ม.) | K10: (ตร.ม.) | L10: (ตร.ม.) | M10: (ตร.ม.) | N10: (ตร.ม.) | O10: (ตร.ม.) | P10: (ตร.ม.) | Q10: (ตร.ม.) | R10: (ตร.ม.) | S10: (ตร.ม.) | T10: (ตร.ม.) | U10: (ตร.ม.) | V10: (ตร.ม.) | W10: (ตร.ม.) | X10: (ตร.ม.) | Y10: (ตร.ม.) | Z10: (ตร.ม.) | AA10: (ตร.ม.) | AB10: (ตร.ม.) | AC10: (ตร.ม.) | AD10: (ตร.ม.) | AE10: (ตร.ม.) | AF10: (ตร.ม.) | AG10: (ตร.ม.) | AH10: (ตร.ม.) | AI10: (ตร.ม.) | AJ10: (ตร.ม.) | AK10: (ตร.ม.) | AL10: (ตร.ม.) | AM10: (ตร.ม.) | AN10: (ตร.ม.) | AO10: (ตร.ม.) | AP10: (ตร.ม.) | AQ10: (ม.) | AR10: (ม.) | AS10: (ม.) | AT10: (ม.) | AU10: (ตร.ม.) | AV10: (ตร.ม.) | AW10: (ตร.ม.) | AX10: (ตร.ม.) | AY10: (ตร.ม.) | AZ10: (ตร.ม.) | BA10: (ตร.ม.) | BC10: (ตร.ม.) | BD10: (ชุด) | BE10: (ชุด) | BF10: (ชุด) | BG10: (ชุด) | BH10: (ชุด) | BI10: (ชุด) | BJ10: (ชุด) | BK10: (ชุด) | BL10: (ชุด) | BM10: (ชุด) | BN10: (ชุด) | BO10: (ชุด) | BP10: (ชุด) | BQ10: (ชุด) | BR10: (ชุด) | BS10: (ชุด) | BT10: (ชุด) | BU10: (ชุด) | BV10: (ชุด) | BW10: (ชุด) | CB10: (ชุด) | CC10: (ชุด) | CD10: (ชุด) | CE10: (ชุด) | CF10: (ชุด) | CG10: (ชุด) | CH10: (ชุด) | CI10: (ชุด) | CJ10: (ชุด) | CK10: (ชุด) | CL10: (ชุด) | CM10: (ชุด) | CN10: (ชุด) | CO10: (ชุด) | CP10: (ชุด) | CQ10: (ชุด) | CR10: (ชุด) | CS10: (ชุด) | CT10: (ชุด) | CU10: (ชุด) | CV10: (ชุด) | CW10: (ชุด) | CX10: (ชุด) | CY10: (ชุด) | DF10: (ตร.ม.) | DG10: (ม.) | DH10: (ม.) | DI10: (ตร.ม.) | DJ10: (ม.) | DL10: (ม.) | DM10: (ม.) | DN10: (ตร.ม.) | DO10: (ตร.ม.)
B12: งานชั้นที่ 1
B13: ทางเดินรอบอาคาร | C13: 200 | H13: =20+200+76 -> 296 | AW13: =C13+H13 -> 496 | BC13: =SUM(AU13:AW13) -> 496 | DP13: fl1 | DQ13: fl2 | DR13: fl3 | DS13: roof
B14: เฉลียง | F14: =ROUNDUP(26+19,0) -> 45 | H14: 9 | AW14: =F14 -> 45 | BC14: =SUM(AU14:AW14) -> 45 | BD14: 1 | BL14: 1 | BM14: 1 | BW14: 1 | DP14: =BD66 -> 1 | DQ14: =BD99 -> 0 | DR14: =BD153 -> 0 | DS14: =BD165 -> 0 | DU14: =SUM(DP14:DT14) -> 1 | DV14: - A.D1 ประตูบานเปิดสวิงคู่พร้อมช่องแสงติดตาย วงกบ 2"x4" อบสีดำ ลูกฟัก กระจกลามิเนตเขียวใสตัดแสง 6 มม. ขนาด 4.15 x 2.85 มม. | DX14: =ROUNDUP(BD7*4000,0) -> 47310
B15: ลานอเนกประสงค์ | D15: =ROUNDUP(10.4*54.4,0) -> 566 | H15: =ROUNDUP(5*42.4,0) -> 212 | AW15: =H15 -> 212 | BC15: =SUM(AU15:AW15) -> 212 | CT15: 1 | CW15: 1 | DP15: =BE66 -> 3 | DQ15: =BE99 -> 3 | DR15: =BE153 -> 1 | DS15: =BE165 -> 0 | DU15: =SUM(DP15:DT15) -> 7 | DV15: - A.D2 ประตูบานเปิดสวิงคู่พร้อมช่องแสงติดตาย วงกบ 2"x4" อบสีดำ ลูกฟัก กระจกลามิเนตใสตัดแสง 6 มม. ขนาด 5.40 x 2.85 มม. | DX15: =ROUNDUP(BE7*4000,0) -> 61560
B16: โถงบันได ST-03/1 | C16: =ROUNDUP(25.78,0) -> 26 | U16: =ROUNDUP((3.1*6.9),0) -> 22 | V16: =ROUNDUP((23*6.9)-BO7,0) -> 157 | AC16: =ROUNDUP((11.3*4.7)-(BO7+CH7),0) -> 48 | AD16: =ROUNDUP((U16/2)+(V16*2),0) -> 325 | AQ16: =ROUNDUP((3*6.9)+BO9,0) -> 25 | AR16: =6.9*2 -> 13.8 | AT16: =BO8 -> 1.1 | AW16: =C16 -> 26 | AZ16: =AD16 -> 325 | BA16: =AC16 -> 48 | BC16: =SUM(AU16:AW16) -> 26 | BO16: 1 | DP16: =BF66 -> 1 | DQ16: =BF99 -> 1 | DR16: =BF153 -> 1 | DS16: =BF165 -> 0 | DU16: =SUM(DP16:DT16) -> 3 | DV16: - A.D3 ประตูบานเปิดสวิงคู่พร้อมช่องแสงติดตาย วงกบ 2"x4" อบสีดำ ลูกฟัก กระจกลามิเนตใสตัดแสง 6 มม. ขนาด 5.40 x 2.85 มม. | DX16: =ROUNDUP(BF7*4000,0) -> 61560
B17: HALL CORRIDOR | D17: =ROUNDUP(1335.83+73.44,0)-566 -> 844 | AD17: =ROUNDUP(((257*4.7)+((2.4*4.8)*8))-(BD7+(BE7*3)+BF7+BG7+BI7+BL7+(BM7*2)+(BP7*4)+BQ7+BR7+BW7+(CC7*2)+(CD7*5)+CE7+(CF7*2)+CI7+CT7),0) -> 908 | AW17: =D17 -> 844 | AZ17: =AD17 -> 908 | BA17: =AC17 -> 0 | BC17: =SUM(AU17:AW17) -> 844 | CC17: 2 | CI17: 1 | DP17: =BG66 -> 1 | DQ17: =BG99 -> 1 | DR17: =BG153 -> 0 | DS17: =BG165 -> 0 | DU17: =SUM(DP17:DT17) -> 2 | DV17: - A.D4 ประตูบานเปิดสวิงคู่พร้อมช่องแสงติดตาย วงกบ 2"x4" อบสีดำ ลูกฟัก กระจกลามิเนตใสตัดแสง 6 มม. ขนาด 2.10 x 2.85 มม. | DX17: =ROUNDUP(BG7*4000,0) -> 23940
B18: ห้องวางโมเดลจำลอง | D18: =ROUNDUP(8.6*24.05,0) -> 207 | U18: =ROUNDUP((74*4.7)-((BE7*2)+BG7+(CB7*6)+(CD7*2)),0) -> 236 | Z18: =ROUNDUP((15*6)+((0.4*14)*6),0) -> 124 | AC18: =ROUNDUP(((6+8.8+36.4+8.7)*4.7)-((BE7*2)+BG7+(CB7*6)+(CD7*2)),0) -> 169 | AD18: =ROUNDUP((74*4.7)-((BE7*2)+(CC7*4)+(CD7*2)+CX7),0) -> 199 | AQ18: =ROUNDUP((BE9*2)+BG9+(CB8*6)+(CD8*2),0) -> 100 | AT18: =ROUNDUP((BE8*2)+BG8+(CB8*6)+(CD8*2),0) -> 96 | AW18: =D18 -> 207 | AZ18: =AD18+Z18 -> 323 | BA18: =AC18 -> 169 | BC18: =SUM(AU18:AW18) -> 207 | BE18: 2 | CC18: 4 | CD18: 2 | DP18: =BH66 -> 1 | DQ18: =BH99 -> 1 | DR18: =BH153 -> 1 | DS18: =BH165 -> 0 | DU18: =SUM(DP18:DT18) -> 3 | DV18: - A.D5 ประตูบานเปิดเดี่ยวพร้อมเกล็ดระบายอากาศด้านล่าง วงกบ ขนาด 2"x5" ทำสีตามตัวอย่าง ขนาด 0.80 x 2.05 มม. | DX18: =ROUNDUP(BH7*5000,0) -> 8200
B19: ห้องสังเกตุการณ์ | D19: =ROUNDUP(8.6*12.05,0) -> 104 | U19: =ROUNDUP((42*4.7)-(BF7+(CB7*2)+CD7),0) -> 153 | AC19: =ROUNDUP(((5.82+12.25)*4.8)-(CB7*2),0) -> 70 | AD19: =ROUNDUP((42*4.7)-(BG7+(CC7*2)+CX7),0) -> 137 | AQ19: =ROUNDUP((BF9+(CB9*2)+CD9),0) -> 17 | AT19: =ROUNDUP((BF8+(CB8*2)+CD8),0) -> 38 | AW19: =D19 -> 104 | AZ19: =AD19 -> 137 | BA19: =AC19 -> 70 | BC19: =SUM(AU19:AW19) -> 104 | BG19: 1 | CC19: 2 | CX19: 1 | DP19: =BI66 -> 2 | DQ19: =BI99 -> 0 | DR19: =BI153 -> 0 | DS19: =BI165 -> 0 | DU19: =SUM(DP19:DT19) -> 2 | DV19: - A.D6 ประตูบานเปิดคู่พร้อมช่องแสงติดตาย วงกบ ขนาด 2"x4" ทำสีตามตัวอย่าง ลูกฟัก กระจกลามิเนตใสตัดแสง 6 มม. ขนาด 2.10 x 2.85 มม. | DX19: =ROUNDUP(BI7*3000,0) -> 17955
B20: SIMULATAION ROOM | D20: =ROUNDUP(8.6*12.05,0) -> 104 | U20: =ROUNDUP((37*4.7)-(BF7+(CC7*2)+CD7),0) -> 108 | AD20: =ROUNDUP((37*4.7)-(BF7+(CC7*2)+CD7),0) -> 108 | AQ20: =ROUND(10*4.7,0) -> 47 | AT20: =BE8+(CC8*3)+(CD8*2)+CE8 -> 62.8 | AW20: =D20 -> 104 | AZ20: =AD20 -> 108 | BC20: =SUM(AU20:AW20) -> 104 | BF20: 1 | CC20: 2 | CD20: 1 | DP20: =BJ66 -> 0 | DQ20: =BJ99 -> 1 | DR20: =BJ153 -> 1 | DS20: =BJ165 -> 0 | DU20: =SUM(DP20:DT20) -> 2 | DV20: - A.D6.1 ประตูบานเปิดคู่พร้อมช่องแสงติดตาย วงกบ ขนาด 2"x4" ทำสีตามตัวอย่าง ลูกฟัก กระจกลามิเนตใสตัดแสง 6 มม. ขนาด 2.10 x 2.50 มม. | DX20: =BJ7*3000 -> 15750
B21: ห้องสำนักงาน | D21: =ROUNDUP(114.99,0) -> 115 | U21: =ROUNDUP((52*4.7)-(BE7+(CC7*3)+(CD7*2)+CE7),0) -> 141 | AC21: =ROUNDUP(((6.01+19.25)*4.8)-(CB7*3),0) -> 97 | AD21: =U21 -> 141 | AQ21: =ROUNDUP(BE9+(CC9*3)+(CD9*2)+CE9,0) -> 43 | AT21: =ROUNDUP(BE8+(CC8*3)+(CD8*2)+CE8,0) -> 63 | AW21: =D21 -> 115 | AZ21: =AD21 -> 141 | BA21: =AC21 -> 97 | BC21: =SUM(AU21:AW21) -> 115 | BE21: 1 | CC21: 3 | CD21: 2 | CE21: 1 | DP21: =BK66 -> 2 | DQ21: =BK99 -> 0 | DR21: =BK153 -> 0 | DS21: =BK165 -> 1 | DU21: =SUM(DP21:DT21) -> 3 | DV21: - A.D7 ประตูบานเปิดคู่ ประตูเหล็กทนไฟตามมาตรฐาน มอก. ทนไฟไม่น้อยกว่า 2 ชม. วงกบเหล็ก มียางกันควันติดที่วงกบ 2''x4'' อบสี ขนาด 1.90 x 2.05 มม. | DX21: =ROUNDUP(BK7*5000,0) -> 19475
B22: ห้องระบบ 1 | C22: 11 | U22: =ROUNDUP((14*4.7)-BR7,0) -> 64 | AC22: =ROUNDUP(((6+3.3)*4.7)-CB7,0) -> 36 | AD22: =U22 -> 64 | AQ22: =ROUNDUP(BK9+CB9,0) -> 8 | AT22: =ROUNDUP(BK8+CB8,0) -> 13 | AW22: =C22 -> 11 | AZ22: =AD22 -> 64 | BA22: =AC22 -> 36 | BC22: =SUM(AU22:AW22) -> 11 | BR22: 1 | DP22: =BL66 -> 1 | DQ22: =BL99 -> 0 | DR22: =BL153 -> 0 | DS22: =BL165 -> 0 | DU22: =SUM(DP22:DT22) -> 1 | DV22: - A.D8 ประตูบานเปิดสวิงคู่พร้อมช่องแสงติดตาย วงกบ 2"x4" อบสีดำ ลูกฟัก กระจกลามิเนตเขียวใสตัดแสง 6 มม. ขนาด 7.40 x 2.85 มม. | DX22: =ROUNDUP(BL7*4000,0) -> 84360
B23: ห้องระบบ 2 | C23: =ROUNDUP(35.76,0) -> 36 | U23: =ROUNDUP((21.05*4.7)-(BK7+CF7),0) -> 93 | V23: =ROUNDUP((4.25*4.7),0) -> 20 | AD23: =ROUNDUP((25.3*4.7)-(BI7+CF7),0) -> 111 | AQ23: =ROUNDUP(BI9+CF9,0) -> 7 | AR23: =4.7*2 -> 9.4 | AT23: =ROUNDUP(BI8+CF8,0) -> 13 | AW23: =C23 -> 36 | AZ23: =AD23 -> 111 | BC23: =SUM(AU23:AW23) -> 36 | BI23: 1 | CF23: 1 | DP23: =BM66 -> 2 | DQ23: =BM99 -> 0 | DR23: =BM153 -> 0 | DS23: =BM165 -> 0 | DU23: =SUM(DP23:DT23) -> 2 | DV23: - A.D9 ประตูบานเปิดสวิงคู่พร้อมช่องแสงติดตาย วงกบ 2"x4" อบสีดำ ลูกฟัก กระจกลามิเนตใสตัดแสง 6 มม. ขนาด 2.10 x 2.50 มม. | DX23: =ROUNDUP(BM7*4000,0) -> 23940
B24: ห้องระบบ 5 | C24: 30 | U24: =ROUNDUP((21.8*4.7)-(BI7+CC7),0) -> 78 | AD24: =U24 -> 78 | AQ24: =ROUND((BI9+CC9)+4.7,0) -> 18 | AT24: =BI8+CC8 -> 12.3 | AW24: =C24 -> 30 | AZ24: =AD24 -> 78 | BC24: =SUM(AU24:AW24) -> 30 | BI24: 1 | CC24: 1 | DP24: =BN66 -> 0 | DQ24: =BN99 -> 1 | DR24: =BN153 -> 1 | DS24: =BN165 -> 0 | DU24: =SUM(DP24:DT24) -> 2 | DV24: - A.D9.1 ประตูบานเปิดสวิงคู่พร้อมช่องแสงติดตาย วงกบ 2"x4" อบสีดำ ลูกฟัก กระจกลามิเนตใสตัดแสง 6 มม. ขนาด 2.10 x 2.85 มม. | DX24: =ROUNDUP(BN7*4000,0) -> 21000
B25: ห้องระบบ 3 | C25: 37 | U25: =ROUNDUP((21.98*4.7)-BK7,0) -> 100 | V25: =ROUNDUP((3.55*4.7),0) -> 17 | AC25: =ROUNDUP((6*4.7)-BK7,0) -> 25 | AD25: =ROUNDUP((25.53*4.7)-BK7,0) -> 117 | AQ25: =BK9 -> 4.1 | AR25: 4.7 | AT25: =BK8 -> 1.9 | AW25: =C25 -> 37 | AZ25: =AD25 -> 117 | BA25: =AC25 -> 25 | BC25: =SUM(AU25:AW25) -> 37 | BK25: 1 | DP25: =BO66 -> 1 | DQ25: =BO99 -> 1 | DR25: =BO153 -> 1 | DS25: =BO165 -> 1 | DU25: 3 | DV25: - A.D10 ประตูบานเปิดคู่สวิง ประตูเหล็กทนไฟตามมาตรฐาน มอก. ทนไฟไม่น้อยกว่า 2 ชม. วงกบเหล็ก มียางกันควันติดที่วงกบ 2''x4'' อบสี ขนาด 1.10 x 2.05 มม. | DX25: =ROUNDUP(BO7*9000,0) -> 20295
B26: ห้องระบบ 4 | C26: =ROUNDUP(30.45,0) -> 31 | U26: =ROUNDUP((22.2*4.7)-(BK7+CF7),0) -> 98 | AC26: =ROUNDUP((7.2*4.7)+(BK7*2),0) -> 42 | AD26: =U26 -> 98 | AQ26: =ROUNDUP((BK9+CF9)+(4.7*2),0) -> 15 | AT26: =ROUNDUP(BK8+CF8,0) -> 13 | AW26: =C26 -> 31 | AZ26: =AD26 -> 98 | BA26: =AC26 -> 42 | BC26: =SUM(AU26:AW26) -> 31 | BK26: 1 | CF26: 1 | DP26: =BP66 -> 4 | DQ26: =BP99 -> 4 | DR26: =BP153 -> 4 | DS26: =BP165 -> 0 | DU26: 12 | DV26: - A.D11 ประตูบานเปิดเดี่ยวพร้อมเกล็ดระบายอากาศด้านล่าง วงกบ ขนาด 2"x5" ทำสีตามตัวอย่าง ลูกฟัก กระจกฝ้า 6 มม. ขนาด 1.10 x 2.50 มม. | DX26: =ROUNDUP(BP7*5000,0) -> 13750
B27: ห้องน้ำชาย 1 | E27: =ROUNDUP(29.72,0) -> 30 | T27: =SUM(C27:O27) -> 30 | U27: =ROUNDUP((26.5*4.7)-(BP7+(CJ7*2)),0) -> 119 | AD27: =ROUNDUP((32*4.7)-(BP7+(CJ7*2)),0) -> 145 | AG27: =ROUNDUP((32*2.7)-(BP7+(CJ7*2)),0) -> 81 | AQ27: =ROUNDUP((5*4.7)+BP9+(CJ9*2),0) -> 32 | AT27: =ROUNDUP(BP8+(CJ8*2),0) -> 12 | AV27: =E27 -> 30 | BC27: =SUM(AU27:AW27) -> 30 | BP27: 1 | CJ27: 2 | DP27: =BQ66 -> 1 | DQ27: =BQ99 -> 1 | DR27: =BQ153 -> 1 | DS27: =BQ165 -> 0 | DU27: 3 | DV27: - A.D12 ประตูบานเลื่อนสำเร็จรูป สีเทา (หรือเทียบเท่า) ขนาด 1.00 x 2.50 มม. | DX27: =ROUNDUP(BQ7*5800,0) -> 14500
B28: ห้องน้ำหญิง 1 | E28: =ROUNDUP(29.65,0) -> 30 | T28: =SUM(C28:O28) -> 30 | U28: =ROUNDUP((22.4*4.7)-(BP7+(CJ7*2)),0) -> 100 | AD28: =ROUNDUP((22.4*4.7)-(BP7+(CJ7*2)),0) -> 100 | AG28: =ROUNDUP((24*2.7)-(BP7+(CJ7*2)),0) -> 60 | AQ28: =ROUNDUP((4*4.7)+BP9+(CJ9*2),0) -> 27 | AT28: =ROUNDUP(BP8+(CJ8*2),0) -> 12 | AV28: =E28 -> 30 | BC28: =SUM(AU28:AW28) -> 30 | BP28: 1 | CJ28: 2 | DP28: =BR66 -> 1 | DQ28: =BR99 -> 2 | DR28: =BR153 -> 2 | DS28: =BR165 -> 0 | DU28: 13 | DV28: - A.D13 ประตูบานเปิดเดี่ยว ประตูเหล็กทนไฟตามมาตรฐาน มอก. ทนไฟไม่น้อยกว่า 2 ชม. วงกบเหล็ก มียางกันควันติดที่วงกบ 2''x4'' อบสี ขนาด 1.10 x 2.05 มม. | DX28: =ROUNDUP(BR7*6000,0) -> 13530
B29: ห้องน้ำผู้พิการ | E29: =ROUNDUP(7.8,0) -> 8 | T29: =SUM(C29:O29) -> 8 | U29: =ROUNDUP((5*4.7)-BQ7,0) -> 21 | AD29: =ROUNDUP((12.83*4.7)-BQ7,0) -> 58 | AG29: =ROUNDUP((12.83*2.7)-BQ7,0) -> 33 | AQ29: =BQ9 -> 5 | AT29: =BQ8 -> 1 | AV29: =E29 -> 8 | BC29: =SUM(AU29:AW29) -> 8 | BQ29: 1 | DP29: =BS66 -> 0 | DQ29: =BS99 -> 16 | DR29: =BS153 -> 28 | DS29: =BS165 -> 0 | DU29: 44 | DV29: - A.D14 ประตูบานเปิดเดี่ยวพร้อมช่องแสงติดตาย วงกบ ขนาด 2"x4" ทำสีตามตัวอย่าง ลูกฟัก กระจกลามิเนตใส 6 มม. ขนาด 1.10 x 2.50 มม. | DX29: =ROUNDUP(BS7*4500,0) -> 12375
B30: ห้องน้ำชาย 2 | E30: =ROUNDUP(27.98,0) -> 28 | T30: =SUM(C30:O30) -> 28 | U30: =ROUNDUP((23*4.7)-(BH7+BP7),0) -> 104 | AD30: =ROUNDUP((23*4.7)-(BH7+BP7),0) -> 104 | AG30: =ROUNDUP((23*2.7)-(BH7+BP7),0) -> 58 | AQ30: =ROUNDUP((8*4.7)+BH9+BP9,0) -> 47 | AT30: =ROUNDUP(BH8+BP8,0) -> 3 | AV30: =E30 -> 28 | BC30: =SUM(AU30:AW30) -> 28 | BP30: 1 | DP30: =BT66 -> 0 | DQ30: =BT99 -> 1 | DR30: =BT153 -> 0 | DS30: =BT165 -> 0 | DU30: 1 | DV30: - A.D15 ประตูบานเปิดคู่พร้อมช่องแสงติดตาย วงกบ 2"x4" อบสีดำ ลูกฟัก กระจกลามิเนตใส 6 มม. ขนาด 5.40 x 2.50 มม. | DX30: =ROUNDUP(BT7*3500,0) -> 19950
B31: ห้องเก็บของ (ห้องน้ำชาย 2) | E31: =ROUNDUP(7.7,0) -> 8 | T31: =SUM(C31:O31) -> 8 | U31: =ROUNDUP((12*4.7)-(BH7+CL7),0) -> 54 | AD31: =ROUNDUP((12*4.7)-(BH7+CL7),0) -> 54 | AG31: =ROUNDUP((12*2.7)-(BH7+CL7),0) -> 30 | AQ31: =(BH9+CL9)+(4.7*3) -> 19.5 | AT31: =BH8+CL8 -> 4.2 | AV31: =E31 -> 8 | BA31: =AC31 -> 0 | BC31: =SUM(AU31:AW31) -> 8 | BH31: 1 | CL31: 1 | DP31: =BU66 -> 0 | DQ31: =BU99 -> 0 | DR31: =BU153 -> 0 | DS31: =BT165 -> 0 | DU31: 1 | DV31: - A.D16 ประตูบานเปิดคู่พร้อมช่องแสงติดตาย วงกบ 2"x4" อบสีดำ ลูกฟัก กระจกลามิเนตใส 6 มม. ขนาด 7.00 x 2.50 มม. | DX31: =ROUNDUP(BV7*3500,0) -> 61250
B32: ห้องน้ำหญิง 2 | E32: =ROUNDUP(56.46,0) -> 57 | T32: =SUM(C32:O32) -> 57 | U32: =ROUNDUP((32*4.7)-(BP7+(CJ7*2)),0) -> 145 | AD32: =ROUNDUP((32*4.7)-(BP7+(CJ7*2)),0) -> 145 | AG32: =ROUNDUP((32*2.7)-(BP7+(CJ7*2)),0) -> 81 | AQ32: =ROUNDUP(((3*4.7)+BP9+(CJ9*2)),0) -> 22 | AT32: =ROUNDUP(BP8+(CJ8*2),0) -> 12 | AV32: =E32 -> 57 | BC32: =SUM(AU32:AW32) -> 57 | BP32: 1 | CJ32: 2 | DP32: =BV66 -> 0 | DQ32: =BV99 -> 0 | DR32: =BV153 -> 1 | DS32: =BV165 -> 0 | DU32: 1 | DV32: - A.D17 ประตูบานเปิดสวิงคู่พร้อมช่องแสงติดตาย วงกบ 2"x4" อบสีดำ ลูกฟัก กระจกลามิเนตเขียวใสตัดแสง 6 มม. ขนาด 7.00 x 2.50 มม. | DX32: =ROUNDUP(BW7*4000,0) -> 471960
B33: บันได ST-01 | D33: =ROUND(((0.25*2.15)*26)+((0.18*2.15)*28)+(2*4.4),0) -> 34 | BC33: =SUM(AU33:AW33) -> 0
B34: บันได ST-03 | C34: =ROUND(((0.25*1.6)*30)+((0.18*1.6)*32)+(1.5*3.3),0) -> 26 | BC34: =SUM(AU34:AW34) -> 0
B35: บันได ST-04 | H35: =ROUND(((0.3*2.2)*2)+((0.17*2.2)*3),0) -> 2 | BC35: =SUM(AU35:AW35) -> 0 | DP35: =SUM(DP14:DP34) -> 21 | DQ35: =SUM(DQ14:DQ34) -> 33 | DR35: =SUM(DR14:DR34) -> 42 | DS35: =SUM(DS14:DS34) -> 2
B36: บันได ST-05 | F36: =ROUND(((0.3*5.6)*2)+((0.17*5.6)*3),0) -> 6 | BC36: =SUM(AU36:AW36) -> 0
B37: บันได ST-06 | F37: =ROUND(((0.5*8)*2)+((0.17*8)*3),0) -> 12 | BC37: =SUM(AU37:AW37) -> 0
B38: บันได ST-07 | F38: =ROUND((2.5*(4.01+30.4+4.01)),0) -> 96 | BC38: =SUM(AU38:AW38) -> 0
B39: พื้นทางเดิน | BC39: =SUM(AU39:AW39) -> 0 | DP39: =CB66 -> 0 | DQ39: =CB99 -> 20 | DR39: =CB153 -> 17 | DS39: =CB165 -> 0 | DU39: =SUM(DP39:DT39) -> 37 | DV39: - A.W1 หน้าต่างบานเปิดพร้อมช่องแสงติดตาย วงกบ 2"x4" อบสีดำ ลูกฟัก กระจกลามิเนตเขียวใสตัดแสง 6 มม. ขนาด 5.10 x 1.65 มม. | DX39: =ROUNDUP(CB7*3000,0) -> 25245
BC40: =SUM(AU40:AW40) -> 0 | DP40: =CC66 -> 14 | DQ40: =CC99 -> 0 | DR40: =CC153 -> 0 | DS40: =CC165 -> 0 | DU40: =SUM(DP40:DT40) -> 14 | DV40: - A.W1.1 หน้าต่างบานเปิดพร้อมช่องแสงติดตาย วงกบ 2"x4" อบสีดำ ลูกฟัก กระจกลามิเนตเขียวใสตัดแสง 6 มม. ขนาด 5.10 x 3.75 มม. | DX40: =CC7*3000 -> 57375
BC41: =SUM(AU41:AW41) -> 0 | DP41: =CD66 -> 5 | DQ41: =CD99 -> 0 | DR41: =CD153 -> 0 | DS41: =CD165 -> 0 | DU41: =SUM(DP41:DT41) -> 5 | DV41: - A.W2 ช่องแสงติดตาย วงกบ 2"x4" อบสีดำ ลูกฟัก กระจกลามิเนตเขียวใสตัดแสง 6 มม. ขนาด 5.40 x 2.35 มม. | DX41: =ROUNDUP(CD7*3000,0) -> 38070
B42: ทางลาด ST06 | F42: =ROUND((1.7*3.4)+(1.7*(6.51+3.5))+2.57+1.12+0.69,0) -> 27 | AW42: =F42 -> 27 | BC42: =SUM(AU42:AW42) -> 27 | DP42: =CE66 -> 1 | DQ42: =CE99 -> 0 | DR42: =CE153 -> 0 | DS42: =CE165 -> 0 | DU42: =SUM(DP42:DT42) -> 1 | DV42: - A.W3 ช่องแสงติดตาย วงกบ 2"x4" อบสีดำ ลูกฟัก กระจกลามิเนตเขียวใสตัดแสง 6 มม. ขนาด 2.60 x 2.35 มม. | DX42: =ROUNDUP(CE7*3000,0) -> 18330
B43: โถงบันได ST-01 | D43: 34 | U43: =ROUNDUP((26*5.7)-(BM7+CP7),0) -> 136 | AC43: =ROUNDUP((8.4*3.8)-CL7,0) -> 31 | AD43: =ROUNDUP((30.1*5.7)-(BM7+CP7),0) -> 159 | AQ43: =ROUNDUP((BM9+CP9)+(5.7*3),0) -> 31 | AT43: =ROUNDUP(BM8+CP8,0) -> 6 | AW43: =D43 -> 34 | AZ43: =AD43 -> 159 | BA43: =AC43 -> 31 | BC43: =SUM(AU43:AW43) -> 34 | BM43: 1 | CP43: 1 | DP43: =CF66 -> 2 | DQ43: =CF99 -> 0 | DR43: =CF153 -> 0 | DS43: =CF165 -> 0 | DU43: =SUM(DP43:DT43) -> 2 | DV43: - A.W4 หน้าต่างบานกระทุ้งพร้อมช่องแสงติดตาย วงกบ 2"x4" อบสีดำ ลูกฟัก กระจกลามิเนตเขียวใสตัดแสง 6 มม. ขนาด 5.10 x 0.50 มม. | DX43: =ROUNDUP(CF7*3000,0) -> 7650
BC44: =SUM(AU44:AW44) -> 0 | DP44: =CG66 -> 0 | DQ44: =CG99 -> 3 | DR44: =CG153 -> 1 | DS44: =CG165 -> 0 | DU44: =SUM(DP44:DT44) -> 4 | DV44: - A.W4.1 หน้าต่างบานกระทุ้งพร้อมช่องแสงติดตาย วงกบ 2"x4" อบสีดำ ลูกฟัก กระจกลามิเนตใส 6 มม. ขนาด 5.10 x 1.65 มม. | DX44: =ROUNDUP(CG7*3000,0) -> 25245
BC45: =SUM(AU45:AW45) -> 0 | DP45: =CH66 -> 0 | DQ45: 1 | DR45: 2 | DS45: =CH165 -> 0 | DU45: =SUM(DP45:DT45) -> 3 | DV45: - A.W5 หน้าต่างบานกระทุ้งพร้อมช่องแสงติดตาย วงกบ 2"x4" อบสีดำ ลูกฟัก กระจกลามิเนตเขียวใสตัดแสง 6 มม. ขนาด 1.75 x 1.65 มม. | DX45: =ROUNDUP(CH7*3000,0) -> 8663
B46: ผนังภายนอก ด้าน A.A | AC46: =ROUNDUP(((107*14.1)+((2.2*14.3)*12))-(BD7+BL7+(CB7*22)+(CC7*11)+(CH7*2)+(CW7*2)),0) -> 1421 | BA46: =AC46 -> 1421 | BC46: =SUM(AU46:AW46) -> 0 | DP46: =CI66 -> 1 | DQ46: =CI99 -> 0 | DR46: =CI153 -> 0 | DS46: =CI165 -> 0 | DU46: =SUM(DP46:DT46) -> 1 | DV46: - A.W5.1 หน้าต่างบานกระทุ้งพร้อมช่องแสงติดตาย วงกบ 2"x4" ลูกฟัก กระจกลามิเนตเขียวใสตัดแสง 6 มม. ขนาด 1.75 x 3.75 มม. | DX46: =CI7*3000 -> 19687.5
B47: ผนังภายนอก ด้าน A.B | AC47: =ROUNDUP((46*14.3)-((BK7*2)+BM7+BO7+(CH7*4)+CI7+CU7+CV7),0) -> 614 | BA47: =AC47 -> 614 | BC47: =SUM(AU47:AW47) -> 0 | DP47: =CJ66 -> 6 | DQ47: =CJ99 -> 0 | DR47: =CJ153 -> 0 | DS47: =CJ165 -> 0 | DU47: =SUM(DP47:DT47) -> 6 | DV47: - A.W6 ช่องแสงติดตายบานสลับ วงกบ 2"x4" อบสีดำ ลูกฟัก กระจกฝ้า 6 มม. ขนาด 2.30 x 0.65 มม. | DX47: =ROUNDUP(CJ7*3000,0) -> 4485
B48: ผนังภายนอก ด้าน A.C | AC48: =ROUNDUP(((105*14.3)+(13*15.9))-(BW7+(CB7*14)+(CC7*3)+(CG7*2)+(CJ7*6)+(CK7*12)+CL7+(CM7*2)+(CN7*4)+CP7+(CQ7*2)+CR7+(CY7*4)),0) -> 1318 | BA48: =AC48 -> 1318 | BC48: =SUM(AU48:AW48) -> 0 | DP48: =CK66 -> 0 | DQ48: =CK99 -> 6 | DR48: =CK153 -> 6 | DS48: =CK165 -> 0 | DU48: =SUM(DP48:DT48) -> 12 | DV48: - A.W6.1 ช่องแสงติดตายบานสลับ วงกบ 2"x4" อบสีดำ ลูกฟัก กระจกฝ้า 6 มม. ขนาด 2.30 x 0.85 มม. | DX48: =CK7*3500 -> 6842.5
B49: ผนังภายนอก ด้าน A.D | AC49: =ROUNDUP(((8.7*14.3)+(14*2.4)+80)-(BK7+BR7),0) -> 232 | BA49: =AC49 -> 232 | BC49: =SUM(AU49:AW49) -> 0 | DP49: =CL66 -> 1 | DQ49: =CL99 -> 0 | DR49: =CL153 -> 0 | DS49: =CL165 -> 0 | DU49: =SUM(DP49:DT49) -> 1 | DV49: - A.W7 ช่องแสงติดตายบานสลับ วงกบ 2"x4" อบสีดำ ลูกฟัก กระจกฝ้า 6 มม. ขนาด 1.70 x 0.65 มม. | DX49: =ROUNDUP(CL7*3000,0) -> 3315
BC50: =SUM(AU50:AW50) -> 0 | DP50: =CM66 -> 0 | DQ50: =CM99 -> 1 | DR50: =CM153 -> 1 | DS50: =CM165 -> 0 | DU50: =SUM(DP50:DT50) -> 2 | DV50: - A.W7.1 ช่องแสงติดตายบานสลับ วงกบ 2"x4" อบสีดำ ลูกฟัก กระจกฝ้า 6 มม. ขนาด 1.70 x 0.85 มม. | DX50: =CM7*3500 -> 5057.5
BC51: =SUM(AU51:AW51) -> 0 | DP51: =CN66 -> 0 | DQ51: =CN99 -> 0 | DR51: =CN153 -> 4 | DS51: =CN165 -> 0 | DU51: =SUM(DP51:DT51) -> 4 | DV51: - A.W8 หน้าต่างบานเปิดพร้อมช่องแสงติดตาย วงกบ 2"x4" อบสีดำ ลูกฟัก กระจกลามิเนตเขียวใสตัดแสง 6 มม. ขนาด 3.42 x 1.65 มม. | DX51: =ROUNDUP(CN7*3000,0) -> 16929
BC52: =SUM(AU52:AW52) -> 0 | DP52: =CO66 -> 0 | DQ52: =CO99 -> 0 | DR52: =CO153 -> 4 | DS52: =CO165 -> 0 | DU52: =SUM(DP52:DT52) -> 4 | DV52: - A.W9 ช่องแสงติดตาย วงกบ 2"x4" อบสีดำ ลูกฟัก กระจกลามิเนตใส 6 มม. ขนาด 3.80 x 0.50 มม. | DX52: =ROUNDUP(CO7*3000,0) -> 5700
BC53: =SUM(AU53:AW53) -> 0 | DP53: =CP66 -> 1 | DQ53: =CP99 -> 0 | DR53: =CP153 -> 0 | DS53: =CP165 -> 0 | DU53: =SUM(DP53:DT53) -> 1 | DV53: - A.W10 หน้าต่างบานเปิดพร้อมช่องแสงติดตาย วงกบ 2"x4" อบสีดำ ลูกฟัก กระจกลามิเนตเขียวใสตัดแสง 6 มม. ขนาด 1.90 x 3.75 มม. | DX53: =ROUNDUP(CP7*3000,0) -> 21375
DP54: =CQ66 -> 0 | DQ54: =CQ99 -> 1 | DR54: =CQ153 -> 1 | DS54: =CQ165 -> 0 | DU54: =SUM(DP54:DT54) -> 2 | DV54: - A.W10.1 หน้าต่างบานเปิดพร้อมช่องแสงติดตาย วงกบ 2"x4" อบสีดำ ลูกฟัก กระจกลามิเนตเขียวใสตัดแสง 6 มม. ขนาด 1.90 x 1.65 มม. | DX54: =CQ7*3000 -> 9405
DP55: =CR66 -> 0 | DQ55: =CR99 -> 0 | DR55: =CR153 -> 0 | DS55: =CR165 -> 1 | DU55: =SUM(DP55:DT55) -> 1 | DV55: - A.W10.2 หน้าต่างบานเปิด วงกบ 2"x4" อบสีดำ ลูกฟัก กระจกลามิเนตเขียวใสตัดแสง 6 มม. ขนาด 1.90 x 1.05 มม. | DX55: =CR7*3500 -> 6982.5
DP56: =CS66 -> 0 | DQ56: =CS99 -> 0 | DR56: =CS153 -> 4 | DS56: =CS165 -> 0 | DU56: =SUM(DP56:DT56) -> 4 | DV56: - A.W11 ช่องแสงติดตาย วงกบ 2"x4" อบสีดำ ลูกฟัก กระจกลามิเนตใส 6 มม. ขนาด 5.40 x 0.50 มม. | DX56: =ROUNDUP(CS7*3000,0) -> 8100
DP57: =CT66 -> 1 | DQ57: =CT99 -> 0 | DR57: =CT153 -> 0 | DS57: =CT165 -> 0 | DU57: =SUM(DP57:DT57) -> 1 | DV57: - A.W12 ช่องแสงติดตาย วงกบ 2"x4" อบสีดำ ลูกฟัก กระจกลามิเนตใส 6 มม. ขนาด 7.50 x 2.85 มม. | DX57: =ROUNDUP(CT7*3000,0) -> 64125
DP58: =CU66 -> 0 | DQ58: =CU99 -> 0 | DR58: =CU153 -> 1 | DS58: =CU165 -> 0 | DU58: =SUM(DP58:DT58) -> 1 | DV58: - A.W13 หน้าต่างบานเปิดพร้อมช่องแสงติดตาย วงกบ 2"x4" อบสีดำ ลูกฟัก กระจกลามิเนตเขียวใสตัดแสง 6 มม. ขนาด 4.26 x 1.65 มม. | DX58: =ROUNDUP(CU7*3000,0) -> 21087
DP59: =CV66 -> 0 | DQ59: =CV99 -> 0 | DR59: =CV153 -> 1 | DS59: =CV165 -> 0 | DU59: =SUM(DP59:DT59) -> 1 | DV59: - A.W14 หน้าต่างบานกระทุ้งพร้อมช่องแสงติดตาย วงกบ 2"x4" อบสีดำ ลูกฟัก กระจกลามิเนตเขียวใสตัดแสง 6 มม. ขนาด 2.00 x 1.65 มม. | DX59: =ROUNDUP(CV7*2500,0) -> 8250
DP60: =CW66 -> 1 | DQ60: =CW99 -> 0 | DR60: =CW153 -> 1 | DS60: =CW165 -> 0 | DU60: =SUM(DP60:DT60) -> 2 | DV60: - A.W15 หน้าต่างบานเปิดพร้อมช่องแสงติดตาย วงกบ 2"x4" อบสีดำ ลูกฟัก กระจกลามิเนตเขียวใสตัดแสง 6 มม. ขนาด 7.40 x 2.10 มม. | DX60: =CW7*3000 -> 46620
DP61: =CX66 -> 1 | DQ61: =CX99 -> 0 | DR61: =CX153 -> 0 | DS61: =CX165 -> 0 | DU61: =SUM(DP61:DT61) -> 1 | DV61: - A.W16 ช่องแสงติดตาย วงกบ 2"x4" อบสีดำ ลูกฟัก กระจกลามิเนตใส 6 มม. ขนาด 7.20 x 2.35 มม. | DX61: =CX7*3000 -> 50760
DP62: =CY66 -> 0 | DQ62: =CY99 -> 0 | DR62: =CY153 -> 4 | DS62: =CY165 -> 0 | DU62: =SUM(DP62:DT62) -> 4 | DV62: - A.W17 หน้าต่างบานเปิดพร้อมช่องแสงติดตาย วงกบ 2"x4" อบสีดำ ลูกฟัก กระจกลามิเนตเขียวใสตัดแสง 6 มม. ขนาด 0.89 x 1.65 มม. | DX62: =ROUNDUP(CY7*5500,0) -> 8077
DU64: =SUM(DU12:DU63) -> 220
T65: =SUM(C65:O65) -> 0 | DP65: =SUM(DP39:DP64) -> 34 | DQ65: =SUM(DQ39:DQ64) -> 32 | DR65: =SUM(DR39:DR64) -> 47
B66: รวม | C66: =SUM(C13:C65) -> 397 | D66: =SUM(D13:D65) -> 2008 | E66: =SUM(E13:E65) -> 161 | F66: =SUM(F13:F65) -> 186 | G66: =SUM(G13:G65) -> 0 | H66: =SUM(H13:H65) -> 519 | I66: =SUM(I13:I65) -> 0 | J66: =SUM(J13:J65) -> 0 | ... Z66: =SUM(Z13:Z65) -> 124 | AC66: =SUM(AC13:AC65) -> 4103 | AD66: =SUM(AD13:AD65) -> 3051 | AE66: =SUM(AE13:AE65) -> 0 | AF66: =SUM(AF13:AF65) -> 0 | AG66: =SUM(AG13:AG65) -> 343 | AH66: =SUM(AH13:AH65) -> 0 | AI66: =SUM(AI13:AI65) -> 0 | AJ66: =SUM(AJ13:AJ65) -> 0 | ... DO66: =SUM(DO13:DO65) -> 0
B68: งานชั้นที่ 2 | DQ68: งานทาสีขัดมันทั้งโครงการ | DS68: ราคาสีขัดมันขนาดถุง 15 กิโล ใช้งานได้ 30 - 37.5 ตร.ม.
DQ69: พื้นที่ทาสีทั้งหมดในนอก | DS69: 2550 | DT69: บาท/ถัง
B70: ทางเดิน | D70: =ROUNDUP(570,0) -> 570 | AD70: =ROUNDUP((237*3.5)-(BJ7+BM7+BO7+(BP7*4)+BQ7+(BR7*2)+(BS7*16)+BT7+(CG7*2)),0) -> 732 | AW70: =D70 -> 570 | AZ70: =AD70 -> 732 | BC70: =SUM(AU70:AW70) -> 570 | CH70: 1 | DQ70: =BA539+AZ539 -> 43619 | DR70: ตร.ม. | DS70: =ROUND(DQ70/15,0) -> 2908 | DT70: ถัง
B71: ห้องระบบ 2 | C71: =ROUNDUP(72.22,0) -> 73 | U71: =ROUNDUP((29*3.5)-(BR7+(CG7*2)+CH7),0) -> 80 | V71: =ROUNDUP((7.8*3.5),0) -> 28 | AD71: =ROUNDUP(U71+(7.8*3.5),0) -> 108 | AQ71: =ROUNDUP(BR9+(CG9*2)+CH9,0) -> 9 | AR71: =3.5*2 -> 7 | AT71: =ROUNDUP(BR8+(CG8*2)+CH8,0) -> 25 | AW71: =C71 -> 73 | AZ71: =AD71 -> 108 | BC71: =SUM(AU71:AW71) -> 73 | BR71: 1 | CG71: 2 | CH71: 1 | DQ71: ค่าวัสดุ | DR71: ค่าแรง
B72: ห้องเก็บของ | C72: =ROUNDUP(5.3*5.6,0) -> 30 | U72: =ROUNDUP((21.83*3.5)-(BJ7+CG7),0) -> 63 | AC72: =ROUNDUP(((6+3.3)*4.7)-CB7,0) -> 36 | AD72: =U72 -> 63 | AQ72: =ROUNDUP(BJ9+CG9,0) -> 6 | AT72: =ROUNDUP(BJ8+CG8,0) -> 13 | AW72: =C72 -> 30 | AZ72: =AD72 -> 63 | BC72: =SUM(AU72:AW72) -> 30 | BJ72: 1 | CG72: 1 | DQ72: =DS70*DS69 -> 7415400 | DR72: =DQ70*50 -> 2180950 | DS72: =DQ72+DR72 -> 9596350 | DU72: บาท
B73: โถงบันได ST-03 | C73: =ROUNDUP(25.78,0) -> 26 | V73: =ROUNDUP((23*5.55)-BO7,0) -> 126 | AC73: =ROUNDUP((11.3*4.7)-(BO7+CH7),0) -> 48 | AD73: =V73 -> 126 | AQ73: =ROUNDUP((3*4.7)+BO9,0) -> 19 | AT73: =BO8 -> 1.1 | AW73: =C73 -> 26 | AZ73: =AD73 -> 126 | BA73: =AC73 -> 48 | BC73: =SUM(AU73:AW73) -> 26 | BO73: 1
B74: ห้องเรียน 1 | D74: =ROUNDUP(85.49,0) -> 86 | U74: =ROUNDUP(((40+(0.7*5))*3.5)-((BS7*2)+(CB7*2)),0) -> 130 | AD74: =U74 -> 130 | AQ74: =ROUNDUP((6*3.5)+((BS9*2)+(CB9*2)),0) -> 38 | AT74: =ROUNDUP((BS8*2)+(CB8*2),0) -> 23 | AU74: =D74 -> 86 | AZ74: =AD74 -> 130 | BC74: =SUM(AU74:AW74) -> 86 | BS74: 2 | CB74: 2
B75: ห้องเรียน 2 | D75: =ROUNDUP(84.33,0) -> 85 | U75: =ROUNDUP(((38.31+(0.7*4))*3.5)-((BS7*2)+(CB7*2)),0) -> 122 | AD75: =U75 -> 122 | AQ75: =ROUNDUP((6*3.5)+((BS9*2)+(CB9*2)),0) -> 38 | AT75: =ROUNDUP((BS8*2)+(CB8*2),0) -> 23 | AU75: =D75 -> 85 | AZ75: =AD75 -> 122 | BC75: =SUM(AU75:AW75) -> 85 | BE75: 2 | BG75: 1 | BS75: 2 | CB75: 2
B76: ห้องเรียน 3 | D76: =ROUNDUP(79.68,0) -> 80 | U76: =ROUNDUP(((38+(0.7*3)+1.42)*3.5)-((BS7*2)+(CB7*2)),0) -> 123 | AC76: =ROUNDUP(((0.3+1.5+5.6+1.5+0.3+2.22+6)*3.8)-(CB7*2),0) -> 50 | AD76: =U76 -> 123 | AQ76: =ROUNDUP((5*3.5)+(BS7*2)+(CB7*2),0) -> 40 | AT76: =ROUNDUP((BS8*2)+(CB8*2),0) -> 23 | AU76: =D76 -> 80 | AZ76: =AD76 -> 123 | BA76: =AC76 -> 50 | BC76: =SUM(AU76:AW76) -> 80 | BF76: 1 | BS76: 2 | CB76: 2
B77: ห้องเรียน 4 | D77: =ROUNDUP(75.77,0) -> 76 | U77: =ROUNDUP((39*3.5)-((BS7*2)+(CB7*2)),0) -> 115 | AC77: =ROUNDUP((12*3.8)-(CB7*2),0) -> 29 | AD77: =U77 -> 115 | AQ77: =ROUNDUP(BS9+CB9,0) -> 9 | AT77: =ROUNDUP(BS8+CB8,0) -> 12 | AU77: =D77 -> 76 | AZ77: =AD77 -> 115 | BA77: =AC77 -> 29 | BC77: =SUM(AU77:AW77) -> 76 | BE77: 1 | BS77: 2 | CB77: 2
B78: ห้องเรียน 5 | D78: =ROUNDUP(75.79,0) -> 76 | U78: =ROUNDUP((39*3.5)-((BS7*2)+(CB7*2)),0) -> 115 | AC78: =ROUNDUP((12*3.8)-(CB7*2),0) -> 29 | AD78: =U78 -> 115 | AQ78: =ROUNDUP(BS9+CB9,0) -> 9 | AT78: =ROUNDUP(BS8+CB8,0) -> 12 | AU78: =D78 -> 76 | AZ78: =AD78 -> 115 | BA78: =AC78 -> 29 | BC78: =SUM(AU78:AW78) -> 76 | BS78: 2 | CB78: 2
B79: ห้องเรียน 6 | D79: =ROUNDUP(51.26,0) -> 52 | U79: =ROUNDUP((30*3.5)-(BS7+CB7),0) -> 94 | AC79: =ROUNDUP(((6.88+6.37)*3.8)-CB7,0) -> 42 | AD79: =U79 -> 94 | AQ79: =ROUNDUP(BS9+CB9,0) -> 9 | AT79: =ROUNDUP(BS8+CB8,0) -> 12 | AU79: =D79 -> 52 | AZ79: =AD79 -> 94 | BA79: =AC79 -> 42 | BC79: =SUM(AU79:AW79) -> 52 | BS79: 1 | CB79: 1
B80: ห้องเรียน 7 | D80: =ROUNDUP(40.82,0) -> 41 | U80: =ROUNDUP(((26+1.4)*3.5)-(BS7+CB7),0) -> 85 | AC80: =ROUNDUP(((5.6+(1.5*2)+(0.3*2))*3.8)-CB7,0) -> 27 | AD80: =U80 -> 85 | AQ80: =ROUNDUP((BS9+CB9)+(3.5*3),0) -> 19 | AT80: =ROUNDUP(BS8+CB8,0) -> 12 | AU80: =D80 -> 41 | AZ80: =AD80 -> 85 | BA80: =AC80 -> 27 | BC80: =SUM(AU80:AW80) -> 41 | BS80: 1 | CB80: 1
B81: ห้องเรียน 8 | D81: =ROUNDUP(41.88,0) -> 42 | U81: =ROUNDUP(((16+1.4)*3.5)-(BS7+CB7),0) -> 50 | AC81: =ROUNDUP(((5.6+(1.5*2)+(0.3*2))*3.8)-CB7,0) -> 27 | AD81: =ROUNDUP((27.4*3.5)-(BS7+CB7),0) -> 85 | AQ81: =ROUNDUP((BS9+CB9)+(3.5*2),0) -> 16 | AT81: =ROUNDUP(BS8+CB8,0) -> 12 | AU81: =D81 -> 42 | AZ81: =AD81 -> 85 | BA81: =AC81 -> 27 | BC81: =SUM(AU81:AW81) -> 42 | BS81: 1 | CB81: 1
B82: ห้องเรียน 9 | D82: =ROUNDUP(41.8,0) -> 42 | U82: =ROUNDUP(((16+1.4)*3.5)-(BS7+CB7),0) -> 50 | AC82: =ROUNDUP(((5.6+(1.5*2)+(0.3*2))*3.8)-CB7,0) -> 27 | AD82: =ROUNDUP((27.4*3.5)-(BS7+CB7),0) -> 85 | AQ82: =ROUNDUP((BS9+CB9)+(3.5*2),0) -> 16 | AT82: =ROUNDUP(BS8+CB8,0) -> 12 | AU82: =D82 -> 42 | AZ82: =AD82 -> 85 | BA82: =AC82 -> 27 | BC82: =SUM(AU82:AW82) -> 42 | BS82: 1 | CB82: 1
B83: ห้องเรียน 10 | D83: =ROUNDUP(41.89,0) -> 42 | U83: =ROUNDUP(((16+1.4)*3.5)-(BS7+CB7),0) -> 50 | AC83: =ROUNDUP(((5.6+(1.5*2)+(0.3*2))*3.8)-CB7,0) -> 27 | AD83: =ROUNDUP((27.4*3.5)-(BS7+CB7),0) -> 85 | AQ83: =ROUNDUP((BS9+CB9)+(3.5*2),0) -> 16 | AT83: =ROUNDUP(BS8+CB8,0) -> 12 | AU83: =D83 -> 42 | AZ83: =AD83 -> 85 | BA83: =AC83 -> 27 | BC83: =SUM(AU83:AW83) -> 42 | BS83: 1 | CB83: 1
B84: ห้องเรียน 11 | D84: =ROUNDUP(41.86,0) -> 42 | U84: =ROUNDUP(((16+1.4)*3.5)-(BS7+CB7),0) -> 50 | AC84: =ROUNDUP(((5.6+(1.5*2)+(0.3*2))*3.8)-CB7,0) -> 27 | AD84: =ROUNDUP((27.4*3.5)-(BS7+CB7),0) -> 85 | AQ84: =ROUNDUP((BS9+CB9)+(3.5*2),0) -> 16 | AT84: =ROUNDUP(BS8+CB8,0) -> 12 | AU84: =D84 -> 42 | AZ84: =AD84 -> 85 | BA84: =AC84 -> 27 | BC84: =SUM(AU84:AW84) -> 42 | BS84: 1 | CB84: 1
B85: ห้องสมุด | D85: =ROUNDUP(170.61,0) -> 171 | U85: =ROUNDUP(((60.1+5.6)*3.5)-(BT7+(CB7*4)),0) -> 191 | AC85: =ROUNDUP(((24.4+(1.5*8)+(0.3*4))*3.8)-(CB7*4),0) -> 110 | AD85: =ROUNDUP(((66.5+11.2)*3.5)-(BT7+(CB7*4)),0) -> 233 | AQ85: =ROUNDUP((BT9+(CB9*4))+(3.5*9),0) -> 51 | AT85: =BT8+(CB8*2) -> 22.4 | AU85: =D85 -> 171 | AZ85: =AD85 -> 233 | BA85: =AC85 -> 110 | BC85: =SUM(AU85:AW85) -> 171 | BT85: 1 | CB85: 4
B86: ห้องน้ำชาย 1 | E86: =ROUNDUP(29.72,0) -> 30 | T86: =SUM(C86:O86) -> 30 | U86: =ROUNDUP((26.5*4.7)-(BP7+(CJ7*2)),0) -> 119 | AD86: =ROUNDUP((32*4.7)-(BP7+(CK7*2)),0) -> 144 | AG86: =ROUNDUP((32*2.7)-(BP7+(CK7*2)),0) -> 80 | AQ86: =ROUNDUP((5*4.7)+BP9+(CK9*2),0) -> 32 | AT86: =ROUNDUP(BP8+(CK8*2),0) -> 12 | AV86: =E86 -> 30 | BC86: =SUM(AU86:AW86) -> 30 | BP86: 1 | CK86: 2
B87: ห้องน้ำหญิง 1 | E87: =ROUNDUP(29.65,0) -> 30 | T87: =SUM(C87:O87) -> 30 | U87: =ROUNDUP((22.4*4.7)-(BP7+(CK7*2)),0) -> 99 | AD87: =ROUNDUP((22.4*4.7)-(BP7+(CK7*2)),0) -> 99 | AG87: =ROUNDUP((24*2.7)-(BP7+(CJ7*2)),0) -> 60 | AQ87: =ROUNDUP((4*4.7)+BP9+(CK9*2),0) -> 28 | AT87: =ROUNDUP(BP8+(CK8*2),0) -> 12 | AV87: =E87 -> 30 | BC87: =SUM(AU87:AW87) -> 30 | BP87: 1 | CK87: 2
B88: ห้องน้ำผู้พิการ | E88: =ROUNDUP(7.8,0) -> 8 | T88: =SUM(C88:O88) -> 8 | U88: =ROUNDUP((5*4.7)-BQ7,0) -> 21 | AD88: =ROUNDUP((12.83*4.7)-BQ7,0) -> 58 | AG88: =ROUNDUP((12.83*2.7)-BQ7,0) -> 33 | AQ88: =BQ9 -> 5 | AT88: =BQ8 -> 1 | AV88: =E88 -> 8 | BC88: =SUM(AU88:AW88) -> 8 | BQ88: 1
B89: ห้องน้ำชาย 2 | E89: =ROUNDUP(27.98,0) -> 28 | T89: =SUM(C89:O89) -> 28 | U89: =ROUNDUP((23*4.7)-(BH7+BP7),0) -> 104 | AD89: =ROUNDUP((23*4.7)-(BH7+BP7),0) -> 104 | AG89: =ROUNDUP((23*2.7)-(BH7+BP7),0) -> 58 | AQ89: =ROUNDUP((8*4.7)+BH9+BP9,0) -> 47 | AT89: =ROUNDUP(BH8+BP8,0) -> 3 | AV89: =E89 -> 28 | BC89: =SUM(AU89:AW89) -> 28 | BP89: 1
B90: ห้องเก็บของ (ห้องน้ำชาย 2) | E90: =ROUNDUP(7.7,0) -> 8 | T90: =SUM(C90:O90) -> 8 | U90: =ROUNDUP((12*4.7)-(BH7+CL7),0) -> 54 | AD90: =ROUNDUP((12*4.7)-(BH7+CL7),0) -> 54 | AG90: =ROUNDUP((12*2.7)-(BH7+CL7),0) -> 30 | AQ90: =(BH9+CL9)+(4.7*3) -> 19.5 | AT90: =BH8+CL8 -> 4.2 | AV90: =E90 -> 8 | BA90: =AC90 -> 0 | BC90: =SUM(AU90:AW90) -> 8 | BH90: 1 | CM90: 1
B91: ห้องน้ำหญิง 2 | E91: =ROUNDUP(56.46,0) -> 57 | T91: =SUM(C91:O91) -> 57 | U91: =ROUNDUP((32*4.7)-(BP7+(CK7*2)),0) -> 144 | AD91: =ROUNDUP((32*4.7)-(BP7+(CK7*2)),0) -> 144 | AG91: =ROUNDUP((32*2.7)-(BP7+(CJ7*2)),0) -> 81 | AQ91: =ROUNDUP(((3*4.7)+BP9+(CK9*2)),0) -> 23 | AT91: =ROUNDUP(BP8+(CK8*2),0) -> 12 | AV91: =E91 -> 57 | BC91: =SUM(AU91:AW91) -> 57 | BP91: 1 | CK91: 2
B92: Slab | H92: =ROUNDUP((2.1*78.4)+292.26+80,0) -> 537 | BC92: =SUM(AU92:AW92) -> 0
B93: โถงบันได ST-01 | D93: 34 | U93: =ROUNDUP((26*5.7)-(BM7+CQ7),0) -> 140 | AC93: =ROUNDUP((8.4*3.8)-CL7,0) -> 31 | AD93: =ROUNDUP((30.1*5.7)-(BM7+CQ7),0) -> 163 | AQ93: =ROUNDUP((BM9+CQ9)+(5.7*3),0) -> 27 | AT93: =ROUNDUP(BM8+CQ8,0) -> 6 | AW93: =D93 -> 34 | AZ93: =AD93 -> 163 | BA93: =AC93 -> 31 | BC93: =SUM(AU93:AW93) -> 34 | BN93: 1 | CQ93: 1
B94: หลังคา SKY LIGHT | BC94: =SUM(AU94:AW94) -> 0 | DN94: =ROUNDUP(10*54,0) -> 540
B95: บันได ST-01 | D95: =ROUND(((0.25*2.15)*20)+((0.18*2.15)*22)+(2*4.4),0) -> 28 | BC95: =SUM(AU95:AW95) -> 0
B96: บันได ST-03 | C96: =ROUND(((0.25*1.6)*20)+((0.18*1.6)*22)+(1.5*3.3),0) -> 19 | BC96: =SUM(AU96:AW96) -> 0
B97: ห้องระบบ 1 | C97: 11 | U97: =ROUNDUP((13.8*3.5)-(BR7),0) -> 47 | AC97: =ROUNDUP((2.7*4.7)-BR7,0) -> 11 | AD97: =U97 -> 47 | AQ97: =ROUNDUP(BR9+(2*3.5),0) -> 12 | AT97: =ROUNDUP(BR8,0) -> 2 | AW97: =C97 -> 11 | AZ97: =AD97 -> 47 | BA97: =AC97 -> 11 | BC97: =SUM(AU97:AW97) -> 11 | BR97: 1
BC98: =SUM(AU98:AW98) -> 0
B99: รวม | C99: =SUM(C69:C98) -> 159 | D99: =SUM(D69:D98) -> 1467 | E99: =SUM(E69:E98) -> 161 | F99: =SUM(F69:F98) -> 0 | G99: =SUM(G69:G98) -> 0 | H99: =SUM(H69:H98) -> 537 | I99: =SUM(I69:I98) -> 0 | J99: =SUM(J69:J98) -> 0 | ... Z99: =SUM(Z69:Z98) -> 0 | AC99: =SUM(AC69:AC98) -> 521 | AD99: =SUM(AD69:AD98) -> 3199 | AE99: =SUM(AE69:AE98) -> 0 | AF99: =SUM(AF69:AF98) -> 0 | AG99: =SUM(AG69:AG98) -> 342 | AH99: =SUM(AH69:AH98) -> 0 | AI99: =SUM(AI69:AI98) -> 0 | AJ99: =SUM(AJ69:AJ98) -> 0 | ... AT99: =SUM(AT69:AT98) -> 278.7 | AU99: =SUM(AU74:AU98) -> 835 | AV99: =SUM(AV74:AV98) -> 161 | AW99: =SUM(AW74:AW98) -> 45 | AX99: =SUM(AX74:AX98) -> 0 | AY99: =SUM(AY74:AY98) -> 0 | AZ99: =SUM(AZ74:AZ98) -> 1567 | BA99: =SUM(BA74:BA98) -> 437 | BB99: =SUM(BB74:BB98) -> 0 | BC99: =SUM(BC74:BC98) -> 1041 | BD99: =SUM(BD69:BD98) -> 0 | BE99: =SUM(BE74:BE98) -> 3 | BF99: =SUM(BF70:BF98) -> 1 | BG99: =SUM(BG70:BG98) -> 1 | BH99: =SUM(BH70:BH98) -> 1 | BI99: =SUM(BI70:BI98) -> 0 | BJ99: =SUM(BJ70:BJ98) -> 1 | BK99: =SUM(BK70:BK98) -> 0 | BL99: =SUM(BL70:BL98) -> 0 | BM99: =SUM(BM70:BM98) -> 0 | ... DN99: =SUM(DN70:DN98) -> 540 | DO99: =SUM(DO74:DO98) -> 0
B101: งานชั้นที่ 3
T102: =SUM(C102:O102) -> 0
B103: ทางเดิน | D103: =ROUNDUP(585,0) -> 585 | AD103: =ROUNDUP((299*3.4)-(BJ7+BM7+BO7+(BP7*4)+BQ7+(BR7*2)+(BS7*28)+BV7+CH7+(CO7*4)+(CS7*4)+CV7+CW7+(CY7*4)),0) -> 845 | AW103: =D103 -> 585 | AZ103: =AD103 -> 845 | BC103: =SUM(AU103:AW103) -> 585 | CV103: 1 | CY103: 4
B104: ห้องระบบ 2 | C104: =ROUNDUP(20.58,0) -> 21 | U104: =ROUNDUP((14.2*3.4)-(BR7+CH7),0) -> 44 | V104: =ROUNDUP(7.8*3.4,0) -> 27 | AD104: =ROUNDUP((22*3.4)-(BR7+CH7),0) -> 70 | AQ104: =ROUNDUP(BR9+CH9,0) -> 8 | AR104: =3*3.4 -> 10.2 | AT104: =ROUNDUP(BR8+CH8,0) -> 5 | AW104: =C104 -> 21 | AZ104: =AD104 -> 70 | BC104: =SUM(AU104:AW104) -> 21 | BR104: 1 | CW104: 1
B105: ห้องเก็บของ | C105: =ROUNDUP(29.68,0) -> 30 | U105: =ROUNDUP((21.83*3.5)-(BJ7+CG7),0) -> 63 | AC105: =ROUNDUP(((6+3.3)*4.7)-CB7,0) -> 36 | AD105: =U105 -> 63 | AQ105: =ROUNDUP(BJ9+CG9,0) -> 6 | AT105: =ROUNDUP(BJ8+CG8,0) -> 13 | AW105: =C105 -> 30 | AZ105: =AD105 -> 63 | BA105: =AC105 -> 36 | BC105: =SUM(AU105:AW105) -> 30 | BJ105: 1 | CG105: 1
B106: โถงบันได ST-03 | C106: =ROUNDUP(25.78,0) -> 26 | V106: =ROUNDUP((23*5.55)-BO7,0) -> 126 | AC106: =ROUNDUP((11.3*4.7)-(BO7+CH7),0) -> 48 | AD106: =V106 -> 126 | AQ106: =ROUNDUP((3*4.7)+BO9,0) -> 19 | AT106: =BO8 -> 1.1 | AW106: =C106 -> 26 | AZ106: =AD106 -> 126 | BA106: =AC106 -> 48 | BC106: =SUM(AU106:AW106) -> 26 | BO106: 1
...

Sheet Sannitary ware
A1: อาคาร (A) | H1: รวม | I1: อาคาร (B) | O1: รวม | R1: อาคาร (D) | T1: ชั้น 1 | AA1: รวม
C2: ห้องน้ำชาย 1 WC | D2: ห้องน้ำหญิง 1 WC | E2: ห้องน้ำชาย 2 WC | F2: ห้องน้ำหญิง 2 WC | G2: ห้องน้ำคนพิการ | K2: ห้องน้ำชาย 1 WC | L2: ห้องน้ำหญิง 1 WC | T2: ห้องน้ำชาย 1 WC | U2: ห้องน้ำหญิง 1 WC | V2: ห้องน้ำคนพิการ 1 | W2: ห้องน้ำชาย 2 WC | X2: ห้องน้ำหญิง 2 WC | Y2: พื้นที่ล้างตัว 1 | Z2: พื้นที่ล้างตัว 2
B3: รายการ | J3: รายการ | S3: รายการ
B5: งานสุขภัณฑ์ ชั้น 1 | J5: งานสุขภัณฑ์ ชั้น 1 | P5: ค่าของ | Q5: ค่าแรง | S5: งานสุขภัณฑ์ ชั้น 1
AD6: A | AI6: C | AN6: D
A7: 1 | B7: - โถสุขภัณฑ์ฟลัชวาล์ว | C7: 4 | D7: 7 | E7: 3 | F7: 9 | G7: 0 | H7: =SUM(C7:G7) -> 23 | I7: 1 | J7: - โถสุขภัณฑ์ฟลัชวาล์ว | K7: 1 | L7: 3 | O7: =SUM(K7:N7) -> 4 | P7: 6500 | Q7: 450 | R7: 1 | S7: - โถสุขภัณฑ์สองชิ้น | T7: 5 | U7: 5 | V7: 0 | W7: 5 | X7: 5 | Y7: 0 | Z7: 0 | AA7: =SUM(T7:Z7) -> 20 | AD7: 6500 | AF7: 450 | AI7: 4850 | AK7: 450 | AN7: 4850 | AP7: 450
A8: 1 | B8: • STOP VALVE 1/2" | C8: =C7 -> 4 | D8: =D7 -> 7 | E8: =E7 -> 3 | F8: =F7 -> 9 | G8: 0 | H8: =SUM(C8:G8) -> 23 | I8: 1 | J8: • STOP VALVE 1/2" | K8: =K7 -> 1 | L8: =L7 -> 3 | O8: =SUM(K8:N8) -> 4 | P8: 80 | Q8: 35 | R8: 1 | S8: • STOP VALVE 1/2" | T8: =T7 -> 5 | U8: =U7 -> 5 | V8: 0 | W8: =W7 -> 5 | X8: =X7 -> 5 | Y8: 0 | Z8: 0 | AA8: =SUM(T8:Z8) -> 20 | AD8: 80 | AF8: 35 | AI8: 80 | AK8: 35 | AN8: 80 | AP8: 35
A9: 1' | B9: - โถสุขภัณฑ์ฟลัชวาล์ว (ห้องน้ำผู้พิการ) | C9: 0 | D9: 0 | E9: 0 | F9: 0 | G9: 1 | H9: =SUM(C9:G9) -> 1 | I9: 2 | J9: - สายชำระพร้อมสต๊อปวาล์ว | K9: =K7 -> 1 | L9: =L7 -> 3 | O9: =SUM(K9:N9) -> 4 | P9: 300 | Q9: 70 | R9: 1' | S9: - โถสุขภัณฑ์สองชิ้น (ห้องน้ำผู้พิการ) | T9: 0 | U9: 0 | V9: 1 | W9: 0 | X9: 0 | Y9: 0 | Z9: 0 | AA9: =SUM(T9:Z9) -> 1 | AD9: 6500 | AF9: 450 | AN9: 4850 | AP9: 450
A10: 1' | B10: • STOP VALVE 1/2" | C10: 0 | D10: 0 | E10: 0 | F10: 0 | G10: =G9 -> 1 | H10: =SUM(C10:G10) -> 1 | I10: 3 | J10: - อ่างล้างหน้าแบบฝังเคาน์เตอร์ | K10: 2 | L10: 3 | O10: =SUM(K10:N10) -> 5 | P10: 3500 | Q10: 450 | R10: 1' | S10: • STOP VALVE 1/2" | T10: 0 | U10: 0 | V10: 1 | W10: 0 | X10: 0 | Y10: 0 | Z10: 0 | AA10: =SUM(T10:Z10) -> 1 | AD10: 80 | AF10: 35 | AN10: 80 | AP10: 35
A11: 2 | B11: - สายชำระพร้อมสต๊อปวาล์ว | C11: =C7 -> 4 | D11: =D7 -> 7 | E11: =E7 -> 3 | F11: =F7 -> 9 | G11: =G7 -> 0 | H11: =SUM(C11:G11) -> 23 | I11: 3 | J11: • ก๊อกน้ำเดี่ยวอ่างล้างหน้า | K11: =K10 -> 2 | L11: =L10 -> 3 | O11: =SUM(K11:N11) -> 5 | R11: 2 | S11: - สายชำระพร้อมสต๊อปวาล์ว | T11: =T7 -> 5 | U11: =U7 -> 5 | V11: =V7 -> 0 | W11: =W7 -> 5 | X11: =X7 -> 5 | Y11: 0 | Z11: 0 | AA11: =SUM(T11:Z11) -> 20 | AD11: 300 | AF11: 70 | AI11: 380 | AK11: 105 | AN11: 1180 | AP11: 105
A12: 3 | B12: - โถปัสสาวะชายพร้อมฟลัชวาล์ว | C12: 4 | D12: 0 | E12: 6 | F12: 0 | G12: 0 | H12: =SUM(C12:G12) -> 10 | I12: 3 | J12: • ท่อน้ำทิ้งอ่างล้างหน้า | K12: =K10 -> 2 | L12: =L10 -> 3 | O12: =SUM(K12:N12) -> 5 | R12: 3 | S12: - โถปัสสาวะชายพร้อมฟลัชวาล์ว | T12: 5 | U12: 0 | V12: 0 | W12: 3 | X12: 0 | Y12: 0 | Z12: 0 | AA12: =SUM(T12:Z12) -> 8 | AD12: 5500 | AF12: 450 | AI12: 5500 | AK12: 450 | AN12: 5500 | AP12: 450
A13: 4 | B13: - อ่างล้างหน้าแบบฝังเคาน์เตอร์ | C13: 4 | D13: 4 | E13: 4 | F13: 3 | G13: 0 | H13: =SUM(C13:G13) -> 15 | I13: 3 | J13: • สะดืออ่างล้างหน้าแบบกด | K13: =K10 -> 2 | L13: =L10 -> 3 | O13: =SUM(K13:N13) -> 5 | R13: 4 | S13: - อ่างล้างหน้าแบบฝังเคาน์เตอร์ | T13: 4 | U13: 4 | V13: 0 | W13: 3 | X13: 6 | Y13: 0 | Z13: 0 | AA13: =SUM(T13:Z13) -> 17 | AD13: 3500 | AF13: 450 | AI13: 3500 | AK13: 450 | AN13: 3500 | AP13: 450
A14: 4 | B14: • ก๊อกน้ำเดี่ยวอ่างล้างหน้า | C14: =C13 -> 4 | D14: =D13 -> 4 | E14: =E13 -> 4 | F14: =F13 -> 3 | G14: =G13 -> 0 | H14: =SUM(C14:G14) -> 15 | I14: 3 | J14: • สายน้ำดีอ่างล้างหน้าสแตนเลสถักยาว 16" | K14: =K10 -> 2 | L14: =L10 -> 3 | O14: =SUM(K14:N14) -> 5 | R14: 4 | S14: • ก๊อกน้ำเดี่ยวอ่างล้างหน้า | T14: =T13 -> 4 | U14: =U13 -> 4 | V14: =V13 -> 0 | W14: =W13 -> 3 | X14: =X13 -> 6 | Y14: 0 | Z14: 0 | AA14: =SUM(T14:Z14) -> 17
A15: 4 | B15: • ท่อน้ำทิ้งอ่างล้างหน้า | C15: =C13 -> 4 | D15: =D13 -> 4 | E15: =E13 -> 4 | F15: =F13 -> 3 | G15: =G13 -> 0 | H15: =SUM(C15:G15) -> 15 | I15: 3 | J15: • STOP VALVE 1/2" | K15: =K10 -> 2 | L15: =L10 -> 3 | O15: =SUM(K15:N15) -> 5 | R15: 4 | S15: • ท่อน้ำทิ้งอ่างล้างหน้า | T15: =T13 -> 4 | U15: =U13 -> 4 | V15: =V13 -> 0 | W15: =W13 -> 3 | X15: =X13 -> 6 | Y15: 0 | Z15: 0 | AA15: =SUM(T15:Z15) -> 17
A16: 4 | B16: • สะดืออ่างล้างหน้าแบบกด | C16: =C13 -> 4 | D16: =D13 -> 4 | E16: =E13 -> 4 | F16: =F13 -> 3 | G16: =G13 -> 0 | H16: =SUM(C16:G16) -> 15 | I16: 4 | J16: - บานกระจกเงาหนา 6 มม. ขนาด 4.10 x 1.00 ม. | K16: 1 | L16: 1 | O16: =SUM(K16:N16) -> 2 | P16: =ROUNDUP((4.1*1)*10.764*200,0) -> 8827 | Q16: 120 | R16: 4 | S16: • สะดืออ่างล้างหน้าแบบกด | T16: =T13 -> 4 | U16: =U13 -> 4 | V16: =V13 -> 0 | W16: =W13 -> 3 | X16: =X13 -> 6 | Y16: 0 | Z16: 0 | AA16: =SUM(T16:Z16) -> 17
A17: 4 | B17: • สายน้ำดีอ่างล้างหน้าสแตนเลสถักยาว 16" | C17: =C13 -> 4 | D17: =D13 -> 4 | E17: =E13 -> 4 | F17: =F13 -> 3 | G17: =G13 -> 0 | H17: =SUM(C17:G17) -> 15 | I17: 5 | J17: - โถปัสสาวะชายพร้อมฟลัชวาล์ว | K17: 4 | L17: 0 | M17: =M12 -> 0 | N17: =N12 -> 0 | O17: =SUM(K17:N17) -> 4 | P17: 5500 | Q17: 450 | R17: 4 | S17: • สายน้ำดีอ่างล้างหน้าสแตนเลสถักยาว 16" | T17: =T13 -> 4 | U17: =U13 -> 4 | V17: =V13 -> 0 | W17: =W13 -> 3 | X17: =X13 -> 6 | Y17: 0 | Z17: 0 | AA17: =SUM(T17:Z17) -> 17
A18: 4 | B18: • STOP VALVE 1/2" | C18: =C13 -> 4 | D18: =D13 -> 4 | E18: =E13 -> 4 | F18: =F13 -> 3 | G18: =G13 -> 0 | H18: =SUM(C18:G18) -> 15 | I18: 6 | J18: - ชุดฝักบัวก้านแข็งพร้อมฝักบัวสายอ่อน | K18: 1 | L18: 2 | M18: =M13 -> 0 | N18: =N13 -> 0 | O18: =SUM(K18:N18) -> 3 | P18: 400 | Q18: 170 | R18: 4 | S18: • STOP VALVE 1/2" | T18: =T13 -> 4 | U18: =U13 -> 4 | V18: =V13 -> 0 | W18: =W13 -> 3 | X18: =X13 -> 6 | Y18: 0 | Z18: 0 | AA18: =SUM(T18:Z18) -> 17 | AD18: 0
A19: 4' | B19: - อ่างล้างหน้าแบบแขวนผนัง (ห้องน้ำผู้พิการ) | C19: 0 | D19: 0 | E19: 0 | F19: 0 | G19: 1 | H19: =SUM(C19:G19) -> 1 | I19: 7 | J19: - ที่วางสบู่ | K19: =K18 -> 1 | L19: =L18 -> 2 | O19: =SUM(K19:N19) -> 3 | P19: 370 | Q19: 120 | R19: 4' | S19: - อ่างล้างหน้าแบบแขวนผนัง (ห้องน้ำผู้พิการ) | T19: 0 | U19: 0 | V19: 1 | W19: 0 | X19: 0 | Y19: 0 | Z19: 0 | AA19: =SUM(T19:Z19) -> 1 | AD19: 2300 | AF19: 450 | AI19: 3500 | AK19: 450 | AN19: 2300 | AP19: 450
A20: 4' | B20: • ก๊อกน้ำเดี่ยวอ่างล้างหน้า | C20: =C19 -> 0 | D20: =D19 -> 0 | E20: =E19 -> 0 | F20: =F19 -> 0 | G20: =G19 -> 1 | H20: =SUM(C20:G20) -> 1 | I20: 8 | J20: - ก๊อกล้างพื้น | K20: =K19 -> 1 | L20: 1 | O20: =SUM(K20:N20) -> 2 | P20: 125 | Q20: 25 | R20: 4' | S20: • ก๊อกน้ำเดี่ยวอ่างล้างหน้า | T20: =T19 -> 0 | U20: =U19 -> 0 | V20: =V19 -> 1 | W20: =W19 -> 0 | X20: =X19 -> 0 | Y20: 0 | Z20: 0 | AA20: =SUM(T20:Z20) -> 1
A21: 4' | B21: • ท่อน้ำทิ้งอ่างล้างหน้า | C21: =C19 -> 0 | D21: =D19 -> 0 | E21: =E19 -> 0 | F21: =F19 -> 0 | G21: =G19 -> 1 | H21: =SUM(C21:G21) -> 1 | I21: P | J21: - ชุดผนังห้องน้ำสำเร็จรูป | K21: =K7+K18 -> 2 | L21: =L7+L18 -> 5 | O21: =SUM(K21:N21) -> 7 | P21: 12600 | Q21: 1250 | R21: 4' | S21: • ท่อน้ำทิ้งอ่างล้างหน้า | T21: =T19 -> 0 | U21: =U19 -> 0 | V21: =V19 -> 1 | W21: =W19 -> 0 | X21: =X19 -> 0 | Y21: 0 | Z21: 0 | AA21: =SUM(T21:Z21) -> 1
A22: 4' | B22: • สะดืออ่างล้างหน้าแบบกด | C22: =C19 -> 0 | D22: =D19 -> 0 | E22: =E19 -> 0 | F22: =F19 -> 0 | G22: =G19 -> 1 | H22: =SUM(C22:G22) -> 1 | J22: - ที่ใส่กระดาษชำระ และขอแขวน | K22: 0 | L22: 0 | O22: =SUM(K22:N22) -> 0 | R22: 4' | S22: • สะดืออ่างล้างหน้าแบบกด | T22: =T19 -> 0 | U22: =U19 -> 0 | V22: =V19 -> 1 | W22: =W19 -> 0 | X22: =X19 -> 0 | Y22: 0 | Z22: 0 | AA22: =SUM(T22:Z22) -> 1
A23: 4' | B23: • สายน้ำดีอ่างล้างหน้าสแตนเลสถักยาว 16" | C23: =C19 -> 0 | D23: =D19 -> 0 | E23: =E19 -> 0 | F23: =F19 -> 0 | G23: =G19 -> 1 | H23: =SUM(C23:G23) -> 1 | I23: FD | J23: - ตะแกรงระบายน้ำที่พื้น | K23: 4 | L23: 3 | O23: =SUM(K23:N23) -> 7 | P23: 350 | Q23: 75 | R23: 4' | S23: • สายน้ำดีอ่างล้างหน้าสแตนเลสถักยาว 16" | T23: =T19 -> 0 | U23: =U19 -> 0 | V23: =V19 -> 1 | W23: =W19 -> 0 | X23: =X19 -> 0 | Y23: 0 | Z23: 0 | AA23: =SUM(T23:Z23) -> 1
A24: 4' | B24: • STOP VALVE 1/2" | C24: =C19 -> 0 | D24: =D19 -> 0 | E24: =E19 -> 0 | F24: =F19 -> 0 | G24: =G19 -> 1 | H24: =SUM(C24:G24) -> 1 | J24: - TOP หินแกรนิตสีดำ | K24: =ROUNDUP((0.6*1.75)+(0.6*0.25)+(0.25*1.75)+(0.15*1)+(0.1*1.75),0) -> 2 | L24: =ROUNDUP((0.6*1.75)+(0.6*0.25)+(0.25*1.75)+(0.3*2.78)+(0.1*1.75),0) -> 3 | M24: =M19 -> 0 | N24: =N19 -> 0 | O24: =SUM(K24:N24) -> 5 | P24: 2500 | Q24: 250 | R24: 4' | S24: • STOP VALVE 1/2" | T24: =T19 -> 0 | U24: =U19 -> 0 | V24: =V19 -> 1 | W24: =W19 -> 0 | X24: =X19 -> 0 | Y24: 0 | Z24: 0 | AA24: =SUM(T24:Z24) -> 1 | AD24: 0
A25: 5 | B25: - บานกระจกเงาหนา 6 มม. ขนาด 4.10 x 1.00 ม. | C25: 1 | D25: 0 | E25: 0 | F25: 0 | G25: 0 | H25: =SUM(C25:G25) -> 1 | J25: - งานหล่อเคาน์เตอร์ | K25: =ROUNDUP(1.75,0) -> 2 | L25: =ROUNDUP(1.75,0) -> 2 | O25: =SUM(K25:N25) -> 4 | Q25: 800 | R25: 5 | S25: - บานกระจกเงาหนา 6 มม. ขนาด 1.00 x 1.00 ม.(ห้องน้ำผู้พิการ) | T25: 0 | U25: 0 | V25: =V20 -> 1 | W25: 0 | X25: 0 | Y25: 0 | Z25: 0 | AA25: =SUM(T25:Z25) -> 1 | AD25: =ROUNDUP((4.1*1)*10.764*200,0) -> 8827 | AF25: 120 | AI25: 3500 | AK25: 120 | AN25: =ROUNDUP((1*1)*10.764*200,0) -> 2153 | AP25: 120
A26: 5 | B26: - บานกระจกเงาหนา 6 มม. ขนาด 2.90 x 1.00 ม. | C26: 0 | D26: 1 | E26: 0 | F26: 0 | G26: 0 | H26: =SUM(C26:G26) -> 1 | R26: 5 | S26: - บานกระจกเงาหนา 6 มม. ขนาด 2.80 x 1.00 ม. | T26: 0 | U26: 0 | V26: 0 | W26: 1 | X26: 0 | Y26: 0 | Z26: 0 | AA26: =SUM(T26:Z26) -> 1 | AD26: =ROUNDUP((2.9*1)*10.764*200,0) -> 6244 | AF26: 120 | AN26: =ROUNDUP((2.8*1)*10.764*200,0) -> 6028 | AP26: 120
A27: 5 | B27: - บานกระจกเงาหนา 6 มม. ขนาด 3.50 x 1.00 ม. | C27: 0 | D27: 0 | E27: 1 | F27: 0 | G27: 0 | H27: =SUM(C27:G27) -> 1 | R27: 5 | S27: - บานกระจกเงาหนา 6 มม. ขนาด 3.00 x 1.00 ม. | T27: 0 | U27: 1 | V27: 0 | W27: 0 | X27: 0 | Y27: 0 | Z27: 0 | AA27: =SUM(T27:Z27) -> 1 | AD27: =ROUNDUP((3.51*1)*10.764*200,0) -> 7557 | AF27: 120 | AN27: =ROUNDUP((3*1)*10.764*200,0) -> 6459 | AP27: 120
A28: 5 | B28: - บานกระจกเงาหนา 6 มม. ขนาด 8.70 x 1.00 ม. | C28: 0 | D28: 0 | E28: 0 | F28: 1 | G28: 0 | H28: =SUM(C28:G28) -> 1 | R28: 5 | S28: - บานกระจกเงาหนา 6 มม. ขนาด 3.70 x 1.00 ม. | T28: 1 | U28: 0 | V28: 0 | W28: 0 | X28: 0 | Y28: 0 | Z28: 0 | AA28: =SUM(T28:Z28) -> 1 | AD28: =ROUNDUP((8.7*1)*10.764*200,0) -> 18730 | AF28: 120 | AN28: =ROUNDUP((3.7*1)*10.764*200,0) -> 7966 | AP28: 120
A29: 5 | B29: - บานกระจกเงาหนา 6 มม. ขนาด 0.60 x 1.00 ม. (ห้องน้ำผู้พิการ) | C29: 0 | D29: 0 | E29: 0 | F29: 0 | G29: 1 | H29: =SUM(C29:G29) -> 1 | R29: 5 | S29: - บานกระจกเงาหนา 6 มม. ขนาด 5.60 x 1.00 ม. | T29: 0 | U29: 0 | V29: 0 | W29: 0 | X29: 1 | Y29: 0 | Z29: 0 | AA29: =SUM(T29:Z29) -> 1 | AD29: =ROUNDUP((0.6*1)*10.764*200,0) -> 1292 | AF29: 120 | AN29: =ROUNDUP((5.6*1)*10.764*200,0) -> 12056 | AP29: 120
A30: 6 | B30: - ราวจับตัวแอล | C30: 0 | D30: 0 | E30: 0 | F30: 0 | G30: 2 | H30: =SUM(C30:G30) -> 2 | R30: 6 | S30: - ราวจับตัวแอล | T30: 0 | U30: 0 | V30: 2 | W30: 0 | X30: 0 | Y30: 0 | Z30: 0 | AA30: =SUM(T30:Z30) -> 2 | AD30: 3600 | AF30: 105 | AI30: 3500 | AK30: 450 | AN30: 3600 | AP30: 105
A31: 6' | B31: - ราวจับตัวที | C31: 0 | D31: 0 | E31: 0 | F31: 0 | G31: 1 | H31: =SUM(C31:G31) -> 1 | R31: 6' | S31: - ราวจับตัวที | T31: 0 | U31: 0 | V31: 1 | W31: 0 | X31: 0 | Y31: 0 | Z31: 0 | AA31: =SUM(T31:Z31) -> 1 | AD31: 2590 | AF31: 105 | AN31: 2590 | AP31: 105
A32: 7 | B32: - ที่ใส่กระดาษชำระ (ห้องผู้พิการ,ห้อง VIP) | C32: =C10 -> 0 | D32: =D10 -> 0 | E32: =E10 -> 0 | F32: =F10 -> 0 | G32: =G10 -> 1 | H32: =SUM(C32:G32) -> 1 | R32: 7 | S32: - ที่ใส่กระดาษชำระ (ห้องผู้พิการ) | T32: =T10 -> 0 | U32: =U10 -> 0 | V32: =V10 -> 1 | W32: =W10 -> 0 | X32: =X10 -> 0 | Y32: 0 | Z32: 0 | AA32: =SUM(T32:Z32) -> 1 | AD32: 390 | AF32: 120 | AN32: 390 | AP32: 120
A33: 8 | B33: - ก๊อกล้างพื้น | C33: 1 | D33: 1 | E33: 1 | F33: 1 | G33: 1 | H33: =SUM(C33:G33) -> 5 | R33: 8 | S33: - ก๊อกล้างพื้น | T33: 1 | U33: 1 | V33: 1 | W33: 1 | X33: 1 | Y33: 0 | Z33: 0 | AA33: =SUM(T33:Z33) -> 5 | AD33: 125 | AF33: 25 | AI33: 125 | AK33: 25 | AN33: 125 | AP33: 25
B34: - ตะแกรงระบายน้ำที่พื้น | C34: 2 | D34: 2 | E34: 2 | F34: 2 | G34: 1 | H34: =SUM(C34:G34) -> 9 | R34: 9 | S34: - ฝักบัว | T34: 0 | U34: 0 | V34: 0 | W34: 0 | X34: 0 | Y34: 2 | Z34: 2 | AA34: =SUM(T34:Z34) -> 4 | AD34: 350 | AF34: 75 | AI34: 350 | AK34: 75 | AN34: 400 | AP34: 170
A35: P | B35: - ชุดผนังห้องน้ำสำเร็จรูป | C35: =C7 -> 4 | D35: =D7 -> 7 | E35: =E7 -> 3 | F35: =F7 -> 9 | G35: 0 | H35: =SUM(C35:G35) -> 23 | R35: 10 | S35: - ก็อกอ่างล้างมือ | T35: 0 | U35: 0 | V35: 0 | W35: 0 | X35: 0 | Y35: 7 | Z35: 7 | AA35: =SUM(T35:Z35) -> 14 | AD35: 12600 | AF35: 1250 | AI35: 13400 | AK35: 850 | AN35: 900 | AP35: 150
B36: - ที่ใส่กระดาษชำระ และขอแขวน | C36: =C23 -> 0 | D36: =D23 -> 0 | E36: =E23 -> 0 | F36: =F23 -> 0 | G36: 0 | H36: =SUM(C36:G36) -> 0 | S36: - ตะแกรงระบายน้ำที่พื้น | T36: 3 | U36: 2 | V36: 1 | W36: 2 | X36: 2 | Y36: 1 | Z36: 1 | AA36: =SUM(T36:Z36) -> 12 | AN36: 350 | AP36: 75
B37: - TOP หินแกรนิตสีดำ | C37: =ROUNDUP((0.6*4.1)+(0.6*0.25)+(0.25*4.1)+(0.15*3.3)+(0.2*4.2),0) -> 5 | D37: =ROUNDUP((0.6*2.9)+(0.6*0.25)+(0.25*2.9)+(0.15*2.9)+(0.15*3.9)+(0.15*2.9),0) -> 5 | E37: =ROUNDUP((0.6*3.5)+(0.6*0.25)+(0.25*3.5)+(0.15*3.5)+(0.15*3),0) -> 5 | F37: =ROUNDUP((0.6*8.7)+(0.6*0.25)+(0.25*8.7)+(0.15*8.7)+(0.15*10.1),0) -> 11 | G37: 0 | H37: =SUM(C37:G37) -> 26 | R37: P | S37: - ชุดผนังห้องน้ำสำเร็จรูป | T37: 5 | U37: 5 | V37: 0 | W37: 5 | X37: 5 | Y37: 0 | Z37: 0 | AA37: =SUM(T37:Z37) -> 20 | AD37: 2500 | AF37: 250 | AI37: 2500 | AK37: 250 | AN37: 12600 | AP37: 1250
B38: - งานหล่อเคาน์เตอร์ | C38: =ROUNDUP(4.1,0) -> 5 | D38: 4 | E38: 4 | F38: 9 | G38: 0 | H38: =SUM(C38:G38) -> 22 | S38: - ที่ใส่กระดาษชำระ และขอแขวน | T38: 0 | U38: 0 | V38: 0 | W38: 0 | X38: 0 | Y38: 0 | Z38: 0 | AA38: =SUM(T38:Z38) -> 0 | AF38: 800
S39: - TOP หินแกรนิตสีดำจีน หนา 25 มม. | T39: =ROUNDUP((0.6*3.7)+(0.6*0.25)+(0.25*3.7)+(0.15*4.85),0) -> 5 | U39: =ROUNDUP((0.6*3)+(0.8*0.25)+(0.25*3)+(0.15*3),0) -> 4 | V39: 0 | W39: =ROUNDUP((0.6*2.8)+(0.6*0.25)+(0.25*2.8)+(0.15*2.8)+(0.15*4.7),0) -> 4 | X39: =ROUNDUP((0.6*5.6)+(0.25*5.6)+(0.15*4.7),0) -> 6 | Y39: 0 | Z39: 0 | AA39: =SUM(T39:Z39) -> 19 | AN39: 2500 | AP39: 250
S40: - งานหล่อเคาน์เตอร์ | T40: 4 | U40: 3 | V40: 0 | W40: 3 | X40: 6 | Y40: 6 | Z40: 6 | AA40: =SUM(T40:Z40) -> 28 | AP40: 800
B42: งานสุขภัณฑ์ ชั้น 2 | S42: งานสุขภัณฑ์ ชั้น 2
A43: 1 | B43: - โถสุขภัณฑ์ฟลัชวาล์ว | C43: 4 | D43: 7 | E43: 3 | F43: 9 | G43: 0 | H43: =SUM(C43:G43) -> 23 | I43: 1 | J43: - โถสุขภัณฑ์ฟลัชวาล์ว | K43: 1 | L43: 1 | M43: 1 | N43: 0 | O43: =SUM(K43:N43) -> 3 | R43: 1 | S43: - โถสุขภัณฑ์สองชิ้น | T43: 5 | U43: 5 | V43: 0 | W43: 5 | X43: 5 | AA43: =SUM(T43:Z43) -> 20
A44: 1 | B44: • STOP VALVE 1/2" | C44: =C43 -> 4 | D44: =D43 -> 7 | E44: =E43 -> 3 | F44: =F43 -> 9 | G44: 0 | H44: =SUM(C44:G44) -> 23 | I44: 1 | J44: • STOP VALVE 1/2" | K44: 1 | L44: 1 | M44: 1 | N44: 0 | O44: =SUM(K44:N44) -> 3 | R44: 1 | S44: • STOP VALVE 1/2" | T44: =T43 -> 5 | U44: =U43 -> 5 | V44: 0 | W44: =W43 -> 5 | X44: =X43 -> 5 | AA44: =SUM(T44:Z44) -> 20
A45: 1' | B45: - โถสุขภัณฑ์ฟลัชวาล์ว (ห้องน้ำผู้พิการ) | C45: 0 | D45: 0 | E45: 0 | F45: 0 | G45: 1 | H45: =SUM(C45:G45) -> 1 | I45: 1' | J45: - โถสุขภัณฑ์ฟลัชวาล์ว (ห้องน้ำผู้พิการ) | K45: 0 | L45: 0 | M45: 0 | N45: 1 | O45: =SUM(K45:N45) -> 1 | R45: 1' | S45: - โถสุขภัณฑ์สองชิ้น (ห้องน้ำผู้พิการ) | T45: 0 | U45: 0 | V45: 1 | W45: 0 | X45: 0 | AA45: =SUM(T45:Z45) -> 1 | AD45: 8400 | AF45: 450
A46: 1' | B46: • STOP VALVE 1/2" | C46: 0 | D46: 0 | E46: 0 | F46: 0 | G46: =G45 -> 1 | H46: =SUM(C46:G46) -> 1 | I46: 1' | J46: • STOP VALVE 1/2" | K46: 0 | L46: 0 | M46: 0 | N46: 1 | O46: =SUM(K46:N46) -> 1 | R46: 1' | S46: • STOP VALVE 1/2" | T46: 0 | U46: 0 | V46: 1 | W46: 0 | X46: 0 | AA46: =SUM(T46:Z46) -> 1 | AD46: 305 | AF46: 35
A47: 2 | B47: - สายชำระพร้อมสต๊อปวาล์ว | C47: =C43 -> 4 | D47: =D43 -> 7 | E47: =E43 -> 3 | F47: =F43 -> 9 | G47: =G43 -> 0 | H47: =SUM(C47:G47) -> 23 | I47: 2 | J47: - สายชำระพร้อมสต๊อปวาล์ว | K47: 1 | L47: 1 | M47: 1 | N47: 1 | O47: =SUM(K47:N47) -> 4 | R47: 2 | S47: - สายชำระพร้อมสต๊อปวาล์ว | T47: =T43 -> 5 | U47: =U43 -> 5 | V47: =V43 -> 0 | W47: =W43 -> 5 | X47: =X43 -> 5 | AA47: =SUM(T47:Z47) -> 20
A48: 3 | B48: - โถปัสสาวะชายพร้อมฟลัชวาล์ว | C48: 4 | D48: 0 | E48: 6 | F48: 0 | G48: 0 | H48: =SUM(C48:G48) -> 10 | I48: 3 | J48: - โถปัสสาวะชายพร้อมฟลัชวาล์ว | K48: 1 | M48: 1 | O48: =SUM(K48:N48) -> 2 | R48: 3 | S48: - โถปัสสาวะชายพร้อมฟลัชวาล์ว | T48: 5 | U48: 0 | V48: 0 | W48: 3 | X48: 0 | AA48: =SUM(T48:Z48) -> 8
A49: 4 | B49: - อ่างล้างหน้าแบบฝังเคาน์เตอร์ | C49: 4 | D49: 4 | E49: 4 | F49: 3 | G49: 0 | H49: =SUM(C49:G49) -> 15 | I49: 4 | J49: - อ่างล้างหน้าแบบฝังเคาน์เตอร์ | K49: 1 | L49: 1 | M49: 1 | N49: 1 | O49: =SUM(K49:N49) -> 4 | R49: 4 | S49: - อ่างล้างหน้าแบบฝังเคาน์เตอร์ | T49: 4 | U49: 4 | V49: 0 | W49: 3 | X49: 6 | AA49: =SUM(T49:Z49) -> 17
A50: 4 | B50: • ก๊อกน้ำเดี่ยวอ่างล้างหน้า | C50: =C49 -> 4 | D50: =D49 -> 4 | E50: =E49 -> 4 | F50: =F49 -> 3 | G50: =G49 -> 0 | H50: =SUM(C50:G50) -> 15 | I50: 4 | J50: • ก๊อกน้ำเดี่ยวอ่างล้างหน้า | K50: 1 | L50: 1 | M50: 1 | N50: 1 | O50: =SUM(K50:N50) -> 4 | R50: 4 | S50: • ก๊อกน้ำเดี่ยวอ่างล้างหน้า | T50: =T49 -> 4 | U50: =U49 -> 4 | V50: =V49 -> 0 | W50: =W49 -> 3 | X50: =X49 -> 6 | AA50: =SUM(T50:Z50) -> 17
A51: 4 | B51: • ท่อน้ำทิ้งอ่างล้างหน้า | C51: =C49 -> 4 | D51: =D49 -> 4 | E51: =E49 -> 4 | F51: =F49 -> 3 | G51: =G49 -> 0 | H51: =SUM(C51:G51) -> 15 | I51: 4 | J51: • ท่อน้ำทิ้งอ่างล้างหน้า | K51: 1 | L51: 1 | M51: 1 | N51: 1 | O51: =SUM(K51:N51) -> 4 | R51: 4 | S51: • ท่อน้ำทิ้งอ่างล้างหน้า | T51: =T49 -> 4 | U51: =U49 -> 4 | V51: =V49 -> 0 | W51: =W49 -> 3 | X51: =X49 -> 6 | AA51: =SUM(T51:Z51) -> 17
A52: 4 | B52: • สะดืออ่างล้างหน้าแบบกด | C52: =C49 -> 4 | D52: =D49 -> 4 | E52: =E49 -> 4 | F52: =F49 -> 3 | G52: =G49 -> 0 | H52: =SUM(C52:G52) -> 15 | I52: 4 | J52: • สะดืออ่างล้างหน้าแบบกด | K52: 1 | L52: 1 | M52: 1 | N52: 1 | O52: =SUM(K52:N52) -> 4 | R52: 4 | S52: • สะดืออ่างล้างหน้าแบบกด | T52: =T49 -> 4 | U52: =U49 -> 4 | V52: =V49 -> 0 | W52: =W49 -> 3 | X52: =X49 -> 6 | AA52: =SUM(T52:Z52) -> 17
A53: 4 | B53: • สายน้ำดีอ่างล้างหน้าสแตนเลสถักยาว 16" | C53: =C49 -> 4 | D53: =D49 -> 4 | E53: =E49 -> 4 | F53: =F49 -> 3 | G53: =G49 -> 0 | H53: =SUM(C53:G53) -> 15 | I53: 4 | J53: • สายน้ำดีอ่างล้างหน้าสแตนเลสถักยาว 16" | K53: 1 | L53: 1 | M53: 1 | N53: 1 | O53: =SUM(K53:N53) -> 4 | R53: 4 | S53: • สายน้ำดีอ่างล้างหน้าสแตนเลสถักยาว 16" | T53: =T49 -> 4 | U53: =U49 -> 4 | V53: =V49 -> 0 | W53: =W49 -> 3 | X53: =X49 -> 6 | AA53: =SUM(T53:Z53) -> 17
A54: 4 | B54: • STOP VALVE 1/2" | C54: =C49 -> 4 | D54: =D49 -> 4 | E54: =E49 -> 4 | F54: =F49 -> 3 | G54: =G49 -> 0 | H54: =SUM(C54:G54) -> 15 | I54: 4 | J54: • STOP VALVE 1/2" | K54: =K49 -> 1 | L54: =L49 -> 1 | M54: =M49 -> 1 | N54: =N49 -> 1 | O54: =SUM(K54:N54) -> 4 | R54: 4 | S54: • STOP VALVE 1/2" | T54: =T49 -> 4 | U54: =U49 -> 4 | V54: =V49 -> 0 | W54: =W49 -> 3 | X54: =X49 -> 6 | AA54: =SUM(T54:Z54) -> 17
A55: 4' | B55: - อ่างล้างหน้าแบบแขวนผนัง (ห้องน้ำผู้พิการ) | C55: 0 | D55: 0 | E55: 0 | F55: 0 | G55: 1 | H55: =SUM(C55:G55) -> 1 | I55: 4' | J55: - อ่างล้างหน้าแบบแขวนผนัง (ห้องน้ำผู้พิการ) | K55: 2 | L55: 4 | O55: =SUM(K55:N55) -> 6 | R55: 4' | S55: - อ่างล้างหน้าแบบแขวนผนัง (ห้องน้ำผู้พิการ) | T55: 0 | U55: 0 | V55: 1 | W55: 0 | X55: 0 | AA55: =SUM(T55:Z55) -> 1 | AD55: 4773 | AF55: 450 | AI55: 3500 | AK55: 450
A56: 4' | B56: • ก๊อกน้ำเดี่ยวอ่างล้างหน้า | C56: =C55 -> 0 | D56: =D55 -> 0 | E56: =E55 -> 0 | F56: =F55 -> 0 | G56: =G55 -> 1 | H56: =SUM(C56:G56) -> 1 | I56: 4' | J56: • ก๊อกน้ำเดี่ยวอ่างล้างหน้า | K56: =K55 -> 2 | L56: =L55 -> 4 | O56: =SUM(K56:N56) -> 6 | R56: 4' | S56: • ก๊อกน้ำเดี่ยวอ่างล้างหน้า | T56: =T55 -> 0 | U56: =U55 -> 0 | V56: =V55 -> 1 | W56: =W55 -> 0 | X56: =X55 -> 0 | AA56: =SUM(T56:Z56) -> 1
A57: 4' | B57: • ท่อน้ำทิ้งอ่างล้างหน้า | C57: =C55 -> 0 | D57: =D55 -> 0 | E57: =E55 -> 0 | F57: =F55 -> 0 | G57: =G55 -> 1 | H57: =SUM(C57:G57) -> 1 | I57: 4' | J57: • ท่อน้ำทิ้งอ่างล้างหน้า | K57: =K55 -> 2 | L57: =L55 -> 4 | O57: =SUM(K57:N57) -> 6 | R57: 4' | S57: • ท่อน้ำทิ้งอ่างล้างหน้า | T57: =T55 -> 0 | U57: =U55 -> 0 | V57: =V55 -> 1 | W57: =W55 -> 0 | X57: =X55 -> 0 | AA57: =SUM(T57:Z57) -> 1
A58: 4' | B58: • สะดืออ่างล้างหน้าแบบกด | C58: =C55 -> 0 | D58: =D55 -> 0 | E58: =E55 -> 0 | F58: =F55 -> 0 | G58: =G55 -> 1 | H58: =SUM(C58:G58) -> 1 | I58: 4' | J58: • สะดืออ่างล้างหน้าแบบกด | K58: =K55 -> 2 | L58: =L55 -> 4 | O58: =SUM(K58:N58) -> 6 | R58: 4' | S58: • สะดืออ่างล้างหน้าแบบกด | T58: =T55 -> 0 | U58: =U55 -> 0 | V58: =V55 -> 1 | W58: =W55 -> 0 | X58: =X55 -> 0 | AA58: =SUM(T58:Z58) -> 1
A59: 4' | B59: • สายน้ำดีอ่างล้างหน้าสแตนเลสถักยาว 16" | C59: =C55 -> 0 | D59: =D55 -> 0 | E59: =E55 -> 0 | F59: =F55 -> 0 | G59: =G55 -> 1 | H59: =SUM(C59:G59) -> 1 | I59: 4' | J59: • สายน้ำดีอ่างล้างหน้าสแตนเลสถักยาว 16" | K59: =K55 -> 2 | L59: =L55 -> 4 | O59: =SUM(K59:N59) -> 6 | R59: 4' | S59: • สายน้ำดีอ่างล้างหน้าสแตนเลสถักยาว 16" | T59: =T55 -> 0 | U59: =U55 -> 0 | V59: =V55 -> 1 | W59: =W55 -> 0 | X59: =X55 -> 0 | AA59: =SUM(T59:Z59) -> 1
A60: 4' | B60: • STOP VALVE 1/2" | C60: =C55 -> 0 | D60: =D55 -> 0 | E60: =E55 -> 0 | F60: =F55 -> 0 | G60: =G55 -> 1 | H60: =SUM(C60:G60) -> 1 | I60: 4' | J60: • STOP VALVE 1/2" | K60: =K55 -> 2 | L60: =L55 -> 4 | M60: =M55 -> 0 | N60: =N55 -> 0 | O60: =SUM(K60:N60) -> 6 | R60: 4' | S60: • STOP VALVE 1/2" | T60: =T55 -> 0 | U60: =U55 -> 0 | V60: =V55 -> 1 | W60: =W55 -> 0 | X60: =X55 -> 0 | AA60: =SUM(T60:Z60) -> 1
A61: 5 | B61: - บานกระจกเงาหนา 6 มม. ขนาด 4.10 x 1.00 ม. | C61: 1 | D61: 0 | E61: 0 | F61: 0 | G61: 0 | H61: =SUM(C61:G61) -> 1 | I61: 5 | J61: - บานกระจกเงาหนา 6 มม. ขนาด 4.10 x 1.00 ม. | K61: 1 | L61: 1 | O61: =SUM(K61:N61) -> 2 | R61: 5 | S61: - บานกระจกเงาหนา 6 มม. ขนาด 1.00 x 1.00 ม.(ห้องน้ำผู้พิการ) | T61: 0 | U61: 0 | V61: =V56 -> 1 | W61: 0 | X61: 0 | AA61: =SUM(T61:Z61) -> 1 | AD61: 3500 | AF61: 120 | AI61: 3500 | AK61: 120
A62: 5 | B62: - บานกระจกเงาหนา 6 มม. ขนาด 2.90 x 1.00 ม. | C62: 0 | D62: 1 | E62: 0 | F62: 0 | G62: 0 | H62: =SUM(C62:G62) -> 1 | I62: 5 | J62: - บานกระจกเงาหนา 6 มม. ขนาด 2.90 x 1.00 ม. | O62: =SUM(K62:N62) -> 0 | R62: 5 | S62: - บานกระจกเงาหนา 6 มม. ขนาด 2.80 x 1.00 ม. | T62: 0 | U62: 0 | V62: 0 | W62: 1 | X62: 0 | AA62: =SUM(T62:Z62) -> 1
A63: 5 | B63: - บานกระจกเงาหนา 6 มม. ขนาด 3.50 x 1.00 ม. | C63: 0 | D63: 0 | E63: 1 | F63: 0 | G63: 0 | H63: =SUM(C63:G63) -> 1 | I63: 5 | J63: - บานกระจกเงาหนา 6 มม. ขนาด 3.50 x 1.00 ม. | O63: =SUM(K63:N63) -> 0 | R63: 5 | S63: - บานกระจกเงาหนา 6 มม. ขนาด 3.00 x 1.00 ม. | T63: 0 | U63: 1 | V63: 0 | W63: 0 | X63: 0 | AA63: =SUM(T63:Z63) -> 1
A64: 5 | B64: - บานกระจกเงาหนา 6 มม. ขนาด 8.70 x 1.00 ม. | C64: 0 | D64: 0 | E64: 0 | F64: 1 | G64: 0 | H64: =SUM(C64:G64) -> 1 | I64: 5 | J64: - บานกระจกเงาหนา 6 มม. ขนาด 8.70 x 1.00 ม. | O64: =SUM(K64:N64) -> 0 | R64: 5 | S64: - บานกระจกเงาหนา 6 มม. ขนาด 3.70 x 1.00 ม. | T64: 1 | U64: 0 | V64: 0 | W64: 0 | X64: 0 | AA64: =SUM(T64:Z64) -> 1
A65: 5 | B65: - บานกระจกเงาหนา 6 มม. ขนาด 0.60 x 1.00 ม. (ห้องน้ำผู้พิการ) | C65: 0 | D65: 0 | E65: 0 | F65: 0 | G65: 1 | H65: =SUM(C65:G65) -> 1 | I65: 5 | J65: - บานกระจกเงาหนา 6 มม. ขนาด 0.60 x 1.00 ม. (ห้องน้ำผู้พิการ) | O65: =SUM(K65:N65) -> 0 | R65: 5 | S65: - บานกระจกเงาหนา 6 มม. ขนาด 5.60 x 1.00 ม. | T65: 0 | U65: 0 | V65: 0 | W65: 0 | X65: 1 | AA65: =SUM(T65:Z65) -> 1
A66: 6 | B66: - ราวจับตัวแอล | C66: 0 | D66: 0 | E66: 0 | F66: 0 | G66: 2 | H66: =SUM(C66:G66) -> 2 | I66: 6 | J66: - ราวจับตัวแอล | O66: =SUM(K66:N66) -> 0 | R66: 6 | S66: - ราวจับตัวแอล | T66: 0 | U66: 0 | V66: 2 | W66: 0 | X66: 0 | AA66: =SUM(T66:Z66) -> 2
A67: 6' | B67: - ราวจับตัวที | C67: 0 | D67: 0 | E67: 0 | F67: 0 | G67: 1 | H67: =SUM(C67:G67) -> 1 | I67: 6' | J67: - ราวจับตัวที | O67: =SUM(K67:N67) -> 0 | R67: 6' | S67: - ราวจับตัวที | T67: 0 | U67: 0 | V67: 1 | W67: 0 | X67: 0 | AA67: =SUM(T67:Z67) -> 1
A68: 7 | B68: - ที่ใส่กระดาษชำระ (ห้องผู้พิการ,ห้อง VIP) | C68: =C46 -> 0 | D68: =D46 -> 0 | E68: =E46 -> 0 | F68: =F46 -> 0 | G68: =G46 -> 1 | H68: =SUM(C68:G68) -> 1 | I68: 7 | J68: - ที่ใส่กระดาษชำระ (ห้องผู้พิการ,ห้อง VIP) | K68: 1 | L68: 1 | M68: 1 | N68: 1 | O68: =SUM(K68:N68) -> 4 | R68: 7 | S68: - ที่ใส่กระดาษชำระ (ห้องผู้พิการ,ห้อง VIP) | T68: =T46 -> 0 | U68: =U46 -> 0 | V68: =V46 -> 1 | W68: =W46 -> 0 | X68: =X46 -> 0 | AA68: =SUM(T68:Z68) -> 1
A69: 8 | B69: - ก๊อกล้างพื้น | C69: 1 | D69: 1 | E69: 1 | F69: 1 | G69: 1 | H69: =SUM(C69:G69) -> 5 | I69: 8 | J69: - ก๊อกล้างพื้น | K69: 1 | L69: 1 | M69: 1 | N69: 1 | O69: =SUM(K69:N69) -> 4 | R69: 8 | S69: - ก๊อกล้างพื้น | T69: 1 | U69: 1 | V69: 1 | W69: 1 | X69: 1 | AA69: =SUM(T69:Z69) -> 5
B70: - ตะแกรงระบายน้ำที่พื้น | C70: 2 | D70: 2 | E70: 2 | F70: 2 | G70: 1 | H70: =SUM(C70:G70) -> 9 | J70: - ตะแกรงระบายน้ำที่พื้น | K70: 1 | L70: 1 | M70: 1 | N70: 1 | O70: =SUM(K70:N70) -> 4 | R70: 9 | S70: - ฝักบัว | T70: 0 | U70: 0 | V70: 0 | W70: 0 | X70: 0 | AA70: =SUM(T70:Z70) -> 0
A71: P | B71: - ชุดผนังห้องน้ำสำเร็จรูป | C71: =C43 -> 4 | D71: =D43 -> 7 | E71: =E43 -> 3 | F71: =F43 -> 9 | G71: 0 | H71: =SUM(C71:G71) -> 23 | I71: P | J71: - ชุดผนังห้องน้ำสำเร็จรูป | K71: 1 | L71: 1 | M71: 1 | N71: 1 | O71: =SUM(K71:N71) -> 4 | R71: 10 | S71: - ก็อกอ่างล้างมือ | T71: 0 | U71: 0 | V71: 0 | W71: 0 | X71: 0 | AA71: =SUM(T71:Z71) -> 0
B72: - ที่ใส่กระดาษชำระ และขอแขวน | C72: =C59 -> 0 | D72: =D59 -> 0 | E72: =E59 -> 0 | F72: =F59 -> 0 | G72: 0 | H72: =SUM(C72:G72) -> 0 | J72: - ที่ใส่กระดาษชำระ และขอแขวน | O72: =SUM(K72:N72) -> 0 | S72: - ตะแกรงระบายน้ำที่พื้น | T72: 3 | U72: 2 | V72: 1 | W72: 2 | X72: 2 | AA72: =SUM(T72:Z72) -> 10
B73: - TOP หินแกรนิตสีดำ | C73: =ROUNDUP((0.6*4.1)+(0.6*0.25)+(0.25*4.1)+(0.15*3.3)+(0.2*4.2),0) -> 5 | D73: =ROUNDUP((0.6*2.9)+(0.6*0.25)+(0.25*2.9)+(0.15*2.9)+(0.15*3.9)+(0.15*2.9),0) -> 5 | E73: =ROUNDUP((0.6*3.5)+(0.6*0.25)+(0.25*3.5)+(0.15*3.5)+(0.15*3),0) -> 5 | F73: =ROUNDUP((0.6*8.7)+(0.6*0.25)+(0.25*8.7)+(0.15*8.7)+(0.15*10.1),0) -> 11 | G73: 0 | H73: =SUM(C73:G73) -> 26 | J73: - TOP หินแกรนิตสีดำ | K73: =0.6*4.5 -> 2.7 | L73: =0.6*4.5 -> 2.7 | M73: =0.6*4.5 -> 2.7 | N73: =0.6*4.5 -> 2.7 | O73: =SUM(K73:N73) -> 10.8 | R73: P | S73: - ชุดผนังห้องน้ำสำเร็จรูป | T73: 5 | U73: 5 | V73: 0 | W73: 5 | X73: 5 | AA73: =SUM(T73:Z73) -> 20
B74: - งานหล่อเคาน์เตอร์ | C74: =ROUNDUP(4.1,0) -> 5 | D74: 4 | E74: 4 | F74: 9 | G74: 0 | H74: =SUM(C74:G74) -> 22 | J74: - งานหล่อเคาน์เตอร์ | K74: 4.5 | L74: 4.5 | M74: 4.5 | N74: 4.5 | O74: =SUM(K74:N74) -> 18 | S74: - ที่ใส่กระดาษชำระ และขอแขวน | V74: 0 | AA74: =SUM(T74:Z74) -> 0
S75: - TOP หินแกรนิตสีดำจีน หนา 25 มม. | T75: =ROUNDUP((0.6*3.7)+(0.6*0.25)+(0.25*3.7)+(0.15*4.85),0) -> 5 | U75: =ROUNDUP((0.6*3)+(0.8*0.25)+(0.25*3)+(0.15*3),0) -> 4 | V75: 0 | W75: =ROUNDUP((0.6*2.8)+(0.6*0.25)+(0.25*2.8)+(0.15*2.8)+(0.15*4.7),0) -> 4 | X75: =ROUNDUP((0.6*5.6)+(0.25*5.6)+(0.15*4.7),0) -> 6 | AA75: =SUM(T75:Z75) -> 19
S76: - งานหล่อเคาน์เตอร์ | T76: 4 | U76: 3 | V76: 0 | W76: 3 | X76: 6 | AA76: =SUM(T76:Z76) -> 16
B80: งานสุขภัณฑ์ ชั้น 3 | S80: งานสุขภัณฑ์ ชั้น 3
A81: 1 | B81: - โถสุขภัณฑ์ฟลัชวาล์ว | C81: 4 | D81: 7 | E81: 3 | F81: 9 | G81: 0 | H81: =SUM(C81:G81) -> 23 | K81: 1 | L81: 1 | M81: 1 | N81: 1 | O81: =SUM(K81:N81) -> 4 | R81: 1 | S81: - โถสุขภัณฑ์สองชิ้น | T81: 5 | U81: 5 | V81: 0 | W81: 5 | X81: 5 | AA81: =SUM(T81:Z81) -> 20
A82: 1 | B82: • STOP VALVE 1/2" | C82: =C81 -> 4 | D82: =D81 -> 7 | E82: =E81 -> 3 | F82: =F81 -> 9 | G82: 0 | H82: =SUM(C82:G82) -> 23 | K82: 1 | L82: 1 | M82: 1 | N82: 1 | O82: =SUM(K82:N82) -> 4 | R82: 1 | S82: • STOP VALVE 1/2" | T82: =T81 -> 5 | U82: =U81 -> 5 | V82: 0 | W82: =W81 -> 5 | X82: =X81 -> 5 | AA82: =SUM(T82:Z82) -> 20
A83: 1' | B83: - โถสุขภัณฑ์ฟลัชวาล์ว (ห้องน้ำผู้พิการ) | C83: 0 | D83: 0 | E83: 0 | F83: 0 | G83: 1 | H83: =SUM(C83:G83) -> 1 | K83: 1 | L83: 1 | M83: 1 | N83: 1 | O83: =SUM(K83:N83) -> 4 | R83: 1' | S83: - โถสุขภัณฑ์สองชิ้น (ห้องน้ำผู้พิการ) | T83: 0 | U83: 0 | V83: 1 | W83: 0 | X83: 0 | AA83: =SUM(T83:Z83) -> 1
A84: 1' | B84: • STOP VALVE 1/2" | C84: 0 | D84: 0 | E84: 0 | F84: 0 | G84: =G83 -> 1 | H84: =SUM(C84:G84) -> 1 | K84: 1 | L84: 1 | M84: 1 | N84: 1 | O84: =SUM(K84:N84) -> 4 | R84: 1' | S84: • STOP VALVE 1/2" | T84: 0 | U84: 0 | V84: 1 | W84: 0 | X84: 0 | AA84: =SUM(T84:Z84) -> 1
A85: 2 | B85: - สายชำระพร้อมสต๊อปวาล์ว | C85: =C81 -> 4 | D85: =D81 -> 7 | E85: =E81 -> 3 | F85: =F81 -> 9 | G85: =G81 -> 0 | H85: =SUM(C85:G85) -> 23 | K85: 1 | L85: 1 | M85: 1 | N85: 1 | O85: =SUM(K85:N85) -> 4 | R85: 2 | S85: - สายชำระพร้อมสต๊อปวาล์ว | T85: =T81 -> 5 | U85: =U81 -> 5 | V85: =V81 -> 0 | W85: =W81 -> 5 | X85: =X81 -> 5 | AA85: =SUM(T85:Z85) -> 20
A86: 3 | B86: - โถปัสสาวะชายพร้อมฟลัชวาล์ว | C86: 4 | D86: 0 | E86: 6 | F86: 0 | G86: 0 | H86: =SUM(C86:G86) -> 10 | K86: 1 | L86: 1 | M86: 1 | N86: 1 | O86: =SUM(K86:N86) -> 4 | R86: 3 | S86: - โถปัสสาวะชายพร้อมฟลัชวาล์ว | T86: 5 | U86: 0 | V86: 0 | W86: 3 | X86: 0 | AA86: =SUM(T86:Z86) -> 8
A87: 4 | B87: - อ่างล้างหน้าแบบฝังเคาน์เตอร์ | C87: 4 | D87: 4 | E87: 4 | F87: 3 | G87: 0 | H87: =SUM(C87:G87) -> 15 | K87: 1 | L87: 1 | M87: 1 | N87: 1 | O87: =SUM(K87:N87) -> 4 | R87: 4 | S87: - อ่างล้างหน้าแบบฝังเคาน์เตอร์ | T87: 4 | U87: 4 | V87: 0 | W87: 3 | X87: 6 | AA87: =SUM(T87:Z87) -> 17
A88: 4 | B88: • ก๊อกน้ำเดี่ยวอ่างล้างหน้า | C88: =C87 -> 4 | D88: =D87 -> 4 | E88: =E87 -> 4 | F88: =F87 -> 3 | G88: =G87 -> 0 | H88: =SUM(C88:G88) -> 15 | K88: 1 | L88: 1 | M88: 1 | N88: 1 | O88: =SUM(K88:N88) -> 4 | R88: 4 | S88: • ก๊อกน้ำเดี่ยวอ่างล้างหน้า | T88: =T87 -> 4 | U88: =U87 -> 4 | V88: =V87 -> 0 | W88: =W87 -> 3 | X88: =X87 -> 6 | AA88: =SUM(T88:Z88) -> 17
A89: 4 | B89: • ท่อน้ำทิ้งอ่างล้างหน้า | C89: =C87 -> 4 | D89: =D87 -> 4 | E89: =E87 -> 4 | F89: =F87 -> 3 | G89: =G87 -> 0 | H89: =SUM(C89:G89) -> 15 | K89: 1 | L89: 1 | M89: 1 | N89: 1 | O89: =SUM(K89:N89) -> 4 | R89: 4 | S89: • ท่อน้ำทิ้งอ่างล้างหน้า | T89: =T87 -> 4 | U89: =U87 -> 4 | V89: =V87 -> 0 | W89: =W87 -> 3 | X89: =X87 -> 6 | AA89: =SUM(T89:Z89) -> 17
A90: 4 | B90: • สะดืออ่างล้างหน้าแบบกด | C90: =C87 -> 4 | D90: =D87 -> 4 | E90: =E87 -> 4 | F90: =F87 -> 3 | G90: =G87 -> 0 | H90: =SUM(C90:G90) -> 15 | K90: 1 | L90: 1 | M90: 1 | N90: 1 | O90: =SUM(K90:N90) -> 4 | R90: 4 | S90: • สะดืออ่างล้างหน้าแบบกด | T90: =T87 -> 4 | U90: =U87 -> 4 | V90: =V87 -> 0 | W90: =W87 -> 3 | X90: =X87 -> 6 | AA90: =SUM(T90:Z90) -> 17
A91: 4 | B91: • สายน้ำดีอ่างล้างหน้าสแตนเลสถักยาว 16" | C91: =C87 -> 4 | D91: =D87 -> 4 | E91: =E87 -> 4 | F91: =F87 -> 3 | G91: =G87 -> 0 | H91: =SUM(C91:G91) -> 15 | K91: 1 | M91: 1 | O91: =SUM(K91:N91) -> 2 | R91: 4 | S91: • สายน้ำดีอ่างล้างหน้าสแตนเลสถักยาว 16" | T91: =T87 -> 4 | U91: =U87 -> 4 | V91: =V87 -> 0 | W91: =W87 -> 3 | X91: =X87 -> 6 | AA91: =SUM(T91:Z91) -> 17
A92: 4 | B92: • STOP VALVE 1/2" | C92: =C87 -> 4 | D92: =D87 -> 4 | E92: =E87 -> 4 | F92: =F87 -> 3 | G92: =G87 -> 0 | H92: =SUM(C92:G92) -> 15 | K92: 1 | L92: 1 | M92: 1 | N92: 1 | O92: =SUM(K92:N92) -> 4 | R92: 4 | S92: • STOP VALVE 1/2" | T92: =T87 -> 4 | U92: =U87 -> 4 | V92: =V87 -> 0 | W92: =W87 -> 3 | X92: =X87 -> 6 | AA92: =SUM(T92:Z92) -> 17
A93: 4' | B93: - อ่างล้างหน้าแบบแขวนผนัง (ห้องน้ำผู้พิการ) | C93: 0 | D93: 0 | E93: 0 | F93: 0 | G93: 1 | H93: =SUM(C93:G93) -> 1 | K93: 1 | L93: 1 | M93: 1 | N93: 1 | O93: =SUM(K93:N93) -> 4 | R93: 4' | S93: - อ่างล้างหน้าแบบแขวนผนัง (ห้องน้ำผู้พิการ) | T93: 0 | U93: 0 | V93: 1 | W93: 0 | X93: 0 | AA93: =SUM(T93:Z93) -> 1
A94: 4' | B94: • ก๊อกน้ำเดี่ยวอ่างล้างหน้า | C94: =C93 -> 0 | D94: =D93 -> 0 | E94: =E93 -> 0 | F94: =F93 -> 0 | G94: =G93 -> 1 | H94: =SUM(C94:G94) -> 1 | K94: 1 | L94: 1 | M94: 1 | N94: 1 | O94: =SUM(K94:N94) -> 4 | R94: 4' | S94: • ก๊อกน้ำเดี่ยวอ่างล้างหน้า | T94: =T93 -> 0 | U94: =U93 -> 0 | V94: =V93 -> 1 | W94: =W93 -> 0 | X94: =X93 -> 0 | AA94: =SUM(T94:Z94) -> 1
A95: 4' | B95: • ท่อน้ำทิ้งอ่างล้างหน้า | C95: =C93 -> 0 | D95: =D93 -> 0 | E95: =E93 -> 0 | F95: =F93 -> 0 | G95: =G93 -> 1 | H95: =SUM(C95:G95) -> 1 | R95: 4' | S95: • ท่อน้ำทิ้งอ่างล้างหน้า | T95: =T93 -> 0 | U95: =U93 -> 0 | V95: =V93 -> 1 | W95: =W93 -> 0 | X95: =X93 -> 0 | AA95: =SUM(T95:Z95) -> 1
A96: 4' | B96: • สะดืออ่างล้างหน้าแบบกด | C96: =C93 -> 0 | D96: =D93 -> 0 | E96: =E93 -> 0 | F96: =F93 -> 0 | G96: =G93 -> 1 | H96: =SUM(C96:G96) -> 1 | R96: 4' | S96: • สะดืออ่างล้างหน้าแบบกด | T96: =T93 -> 0 | U96: =U93 -> 0 | V96: =V93 -> 1 | W96: =W93 -> 0 | X96: =X93 -> 0 | AA96: =SUM(T96:Z96) -> 1
A97: 4' | B97: • สายน้ำดีอ่างล้างหน้าสแตนเลสถักยาว 16" | C97: =C93 -> 0 | D97: =D93 -> 0 | E97: =E93 -> 0 | F97: =F93 -> 0 | G97: =G93 -> 1 | H97: =SUM(C97:G97) -> 1 | K97: 1 | L97: 1 | M97: 1 | N97: 1 | O97: =SUM(K97:N97) -> 4 | R97: 4' | S97: • สายน้ำดีอ่างล้างหน้าสแตนเลสถักยาว 16" | T97: =T93 -> 0 | U97: =U93 -> 0 | V97: =V93 -> 1 | W97: =W93 -> 0 | X97: =X93 -> 0 | AA97: =SUM(T97:Z97) -> 1
A98: 4' | B98: • STOP VALVE 1/2" | C98: =C93 -> 0 | D98: =D93 -> 0 | E98: =E93 -> 0 | F98: =F93 -> 0 | G98: =G93 -> 1 | H98: =SUM(C98:G98) -> 1 | K98: 1 | L98: 1 | M98: 1 | N98: 1 | O98: =SUM(K98:N98) -> 4 | R98: 4' | S98: • STOP VALVE 1/2" | T98: =T93 -> 0 | U98: =U93 -> 0 | V98: =V93 -> 1 | W98: =W93 -> 0 | X98: =X93 -> 0 | AA98: =SUM(T98:Z98) -> 1
A99: 5 | B99: - บานกระจกเงาหนา 6 มม. ขนาด 4.10 x 1.00 ม. | C99: 1 | D99: 0 | E99: 0 | F99: 0 | G99: 0 | H99: =SUM(C99:G99) -> 1 | K99: 1 | L99: 1 | M99: 1 | N99: 1 | O99: =SUM(K99:N99) -> 4 | R99: 5 | S99: - บานกระจกเงาหนา 6 มม. ขนาด 1.00 x 1.00 ม.(ห้องน้ำผู้พิการ) | T99: 0 | U99: 0 | V99: =V94 -> 1 | W99: 0 | X99: 0 | AA99: =SUM(T99:Z99) -> 1
A100: 5 | B100: - บานกระจกเงาหนา 6 มม. ขนาด 2.90 x 1.00 ม. | C100: 0 | D100: 1 | E100: 0 | F100: 0 | G100: 0 | H100: =SUM(C100:G100) -> 1 | K100: 1 | M100: 1 | O100: =SUM(K100:N100) -> 2 | R100: 5 | S100: - บานกระจกเงาหนา 6 มม. ขนาด 2.80 x 1.00 ม. | T100: 0 | U100: 0 | V100: 0 | W100: 1 | X100: 0 | AA100: =SUM(T100:Z100) -> 1
A101: 5 | B101: - บานกระจกเงาหนา 6 มม. ขนาด 3.50 x 1.00 ม. | C101: 0 | D101: 0 | E101: 1 | F101: 0 | G101: 0 | H101: =SUM(C101:G101) -> 1 | K101: =0.6*4.5 -> 2.7 | L101: =0.6*4.5 -> 2.7 | M101: =0.6*4.5 -> 2.7 | N101: =0.6*4.5 -> 2.7 | O101: =SUM(K101:N101) -> 10.8 | R101: 5 | S101: - บานกระจกเงาหนา 6 มม. ขนาด 3.00 x 1.00 ม. | T101: 0 | U101: 1 | V101: 0 | W101: 0 | X101: 0 | AA101: =SUM(T101:Z101) -> 1
A102: 5 | B102: - บานกระจกเงาหนา 6 มม. ขนาด 8.70 x 1.00 ม. | C102: 0 | D102: 0 | E102: 0 | F102: 1 | G102: 0 | H102: =SUM(C102:G102) -> 1 | K102: 4.5 | L102: 4.5 | M102: 4.5 | N102: 4.5 | O102: =SUM(K102:N102) -> 18 | R102: 5 | S102: - บานกระจกเงาหนา 6 มม. ขนาด 3.70 x 1.00 ม. | T102: 1 | U102: 0 | V102: 0 | W102: 0 | X102: 0 | AA102: =SUM(T102:Z102) -> 1
A103: 5 | B103: - บานกระจกเงาหนา 6 มม. ขนาด 0.60 x 1.00 ม. (ห้องน้ำผู้พิการ) | C103: 0 | D103: 0 | E103: 0 | F103: 0 | G103: 1 | H103: =SUM(C103:G103) -> 1 | R103: 5 | S103: - บานกระจกเงาหนา 6 มม. ขนาด 5.60 x 1.00 ม. | T103: 0 | U103: 0 | V103: 0 | W103: 0 | X103: 1 | AA103: =SUM(T103:Z103) -> 1
A104: 6 | B104: - ราวจับตัวแอล | C104: 0 | D104: 0 | E104: 0 | F104: 0 | G104: 2 | H104: =SUM(C104:G104) -> 2 | R104: 6 | S104: - ราวจับตัวแอล | T104: 0 | U104: 0 | V104: 2 | W104: 0 | X104: 0 | AA104: =SUM(T104:Z104) -> 2
A105: 6' | B105: - ราวจับตัวที | C105: 0 | D105: 0 | E105: 0 | F105: 0 | G105: 1 | H105: =SUM(C105:G105) -> 1 | R105: 6' | S105: - ราวจับตัวที | T105: 0 | U105: 0 | V105: 1 | W105: 0 | X105: 0 | AA105: =SUM(T105:Z105) -> 1
...
