Workbook

Sheet ปร.6
A1: แบบ ปร.6 แผ่นที่ 1/1
A2: แบบสรุปราคากลางงานก่อสร้างอาคาร
A4: ชื่อโครงการ | B4: อาคารศูนย์ปฏิบัติการศึกษาด้านระบบรางและอากาศยาน ตำบลหนองระเวียง อำเภอเมืองนครราชสีมา จังหวัดนครราชสีมา
A5: สถานที่ก่อสร้าง | B5: มหาวิทยาลัยเทคโนโลยีราชมงคลอีสาน ตำบลหนองระเวียง อำเภอเมืองนครราชสีมา จังหวัดนครราชสีมา
A6: แบบเลขที่ | B6: -
A7: เจ้าของโครงการ | B7: มหาวิทยาลัยเทคโนโลยีราชมงคลอีสาน
A8: แบบ ปร.4 และ ปร.5(ก),ปร.5(ข) ที่แนบ | C8: มีจำนวนทั้งหมด 72 แผ่น
A9: ประมาณราคากลางโดย คณะกรรมการกำหนดราคากลาง เมื่อวันที่
A11: ลำดับที่ | B11: รายการ | D11: ค่าก่อสร้าง | E11: หมายเหตุ
A14: 1 | B14: กลุ่มงาน/งาน. ค่างานก่อสร้าง
A15: 2 | B15: กลุ่มงาน/งาน. ครุภัณฑ์จัดซื้อ
A20: สรุป | B20: รวมค่าก่อสร้างทั้งโครงการ / งานก่อสร้าง
B21: ราคากลาง
B22: ราคากลาง

Sheet ปร.5(ก)
A1: แบบ ปร. 5 (ก) แผ่นที่ 1/1
A2: แบบสรุปค่าก่อสร้าง
A3: ชื่อโครงการ | B3: =ปร.6!B4 -> อาคารศูนย์ปฏิบัติการศึกษาด้านระบบรางและอากาศยาน ตำบลหนองระเวียง อำเภอเมืองนครราชสีมา จังหวัดนครราชสีมา
A4: สถานที่ก่อสร้าง | B4: =ปร.6!B5 -> มหาวิทยาลัยเทคโนโลยีราชมงคลอีสาน ตำบลหนองระเวียง อำเภอเมืองนครราชสีมา จังหวัดนครราชสีมา
A5: แบบเลขที่ | B5: -
A6: เจ้าของโครงการ | B6: =ปร.6!B7 -> มหาวิทยาลัยเทคโนโลยีราชมงคลอีสาน
A7: แบบ ปร.4 ที่แนบ | C7: มีจำนวน 70 แผ่น
A8: ประมาณราคากลางโดย คณะกรรมการกำหนดราคากลาง เมื่อวันที่
G9: หน่วย : บาท
A10: ลำดับที่ | B10: รายการ | D10: ค่างานต้นทุน | E10: Factor F | F10: ค่าก่อสร้าง | G10: หมายเหตุ
A11: 1 | B11: งานโครงสร้างวิศวกรรม
A12: 2 | B12: งานสถาปัตยกรรม
A13: 3 | B13: งานระบบสุขาภิบาล ดับเพลิง และป้องกันอัคคีภัย
A14: 4 | B14: งานระบบไฟฟ้าและสื่อสาร
A15: 5 | B15: งานระบบปรับอากาศและระบายอากาศ
A16: 6 | B16: งานสาธารณูปโภค
B20: รวม
B22: เงื่อนไขการใช้ตาราง Factor F
B23: เงินล่วงหน้า จ่าย 15 %
B24: เงินประกันผลงานหัก 5 %
B25: ดอกเบี้ยเงินกู้ 5 %
B26: ภาษีมูลค่าเพิ่ม 7 %
D27: รวมค่าก่อสร้าง

Sheet ปร.5(ข)
A1: แบบ ปร. 5 (ข) แผ่นที่ 1/1
A2: แบบสรุปค่าครุภัณฑ์จัดซื้อ
A3: กลุ่มงาน / งาน | B3: อาคาร
A4: ชื่อโครงการ | B4: =ปร.6!B4 -> อาคารศูนย์ปฏิบัติการศึกษาด้านระบบรางและอากาศยาน ตำบลหนองระเวียง อำเภอเมืองนครราชสีมา จังหวัดนครราชสีมา
A5: สถานที่ก่อสร้าง | B5: =ปร.6!B5 -> มหาวิทยาลัยเทคโนโลยีราชมงคลอีสาน ตำบลหนองระเวียง อำเภอเมืองนครราชสีมา จังหวัดนครราชสีมา
A6: แบบเลขที่ | C6: -
A7: เจ้าของโครงการ | C7: =ปร.6!B7 -> มหาวิทยาลัยเทคโนโลยีราชมงคลอีสาน
A8: แบบ ปร.4 ที่แนบ | C8: มีจำนวน 70 แผ่น
A9: ประมาณราคากลางโดย คณะกรรมการกำหนดราคากลาง เมื่อวันที่
G10: หน่วย : บาท
A11: ลำดับที่ | B11: รายการ | D11: ค่างาน | E11: ภาษีมูลค่าเพิ่ม | F11: ค่าก่อสร้าง | G11: หมายเหตุ
A12: 1 | B12: งานระบบลิฟท์
A13: 2 | B13: งานครุภัณฑ์
D18: รวมค่าก่อสร้าง

Sheet Structure
A1: Home 3 Story
A2: THANAPAT 360 PROJECT
A4: Item | B4: DESCRIPTION | G4: Quantity | I4: Round Bars (SR.24) | L4: Deform Bars (SD.40) | P4: Total | Q4: Bending | R4: Concrete | T4: Form | V4: Nails | W4: Sand | X4: Earth | Z4: เสาเข็ม | AA4: HC Slap | AB4: Wire Mesh
G5: amount | H5: unit | P5: Weigth | Q5: Wire | R5: Lean | S5: Structure | T5: Work | X5: Excavation | Y5: Filling | Z5: คอร. | AA5: 500 Kg./Sq.m.
B6: อาคารส่วนกลาง | I6: RB.6 | J6: RB.9 | K6: RB.19 | L6: DB.12 | M6: DB.16 | N6: DB.20 | O6: DB.25 | R6: 1.3.5 | S6: Cube Strength | Z6: 0.40 x 0.40 m.
I7: 6 mm. | J7: 9 mm. | K7: 19 mm. | L7: 12 mm. | M7: 16 mm. | N7: 20 mm. | O7: 25 mm. | S7: 240 KSC.
D8: wide | E8: long | F8: high | I8: 0.222 | J8: 0.499 | K8: 2.226 | L8: 0.888 | M8: 1.578 | N8: 2.466 | O8: 3.853
D9: (m.) | E9: (m.) | F9: (m.) | I9: (Kg.) | J9: (Kg.) | K9: (Kg.) | L9: (Kg.) | M9: (Kg.) | N9: (Kg.) | O9: (Kg.) | P9: (Kg.) | Q9: (Nos) | R9: (Cu.m.) | S9: (Cu.m.) | T9: (Sq.m.) | U9: (ft2.) | V9: (Kg.) | W9: (Cu.m.) | X9: (Cu.m.) | Y9: (Cu.m.) | Z9: (Nos) | AA9: (Sq.m.) | AB9: (Sq.m.)
B10: งานฐานรากเสาเข็ม
B11: Footing (F.1) | D11: 1.3 | E11: 1.3 | F11: 1.5 | G11: 8 | H11: Nos. | L11: =((F11+D11+F11)*8+(F11+E11+F11)*8)*G11*L8+((D11*2+E11*2)*2*G11)*L8 -> 562.6368 | O11: =(F11+D11+F11)*E11/0.2+(10*E11)*G11*O8 -> 428.662 | P11: =SUM(I11:O11) -> 991.2988 | Q11: =(P11*0.03) -> 29.738964 | R11: =D11*E11*0.1*G11 -> 1.352 | S11: =D11*E11*F11*G11 -> 20.28 | T11: =((D11*F11)*2+(E11*F11)*2)*G11 -> 62.4 | U11: =(T11*0.03)*10.764 -> 20.150208 | V11: =T11*0.25 -> 15.6 | W11: =(D11*E11*0.1)*G11 -> 1.352 | X11: =((D11*E11)*F11)*G11 -> 20.28 | Y11: 0 | Z11: =G11*1 -> 8 | AA11: 0 | AB11: 0
B12: Footing (F.3) | D12: 2.4 | E12: 2.4 | F12: 1.1 | G12: 8 | H12: Nos. | O12: =(F12+D12+F12)*E12/0.2+(10*E12)*G12*O8 -> 794.976 | P12: =SUM(I12:O12) -> 794.976 | Q12: =(P12*0.03) -> 23.84928 | R12: =D12*E12*0.1*G12 -> 4.608 | S12: =D12*E12*F12*G12 -> 50.688 | T12: =((D12*F12)*2+(E12*F12)*2)*G12 -> 84.48 | U12: =(T12*0.03)*10.764 -> 27.280282 | V12: =T12*0.25 -> 21.12 | W12: =(D12*E12*0.1)*G12 -> 4.608 | X12: =((D12*E12)*F12)*G12 -> 50.688 | Z12: =G12*3 -> 24 | AA12: 0 | AB12: 0
B13: Footing (F.4) | D13: 2.8 | E13: 2.8 | F13: 1.6 | G13: 8 | H13: Nos. | O13: =(F13+D13+F13)*E13/0.2+(10*E13)*G13*O8 -> 947.072 | P13: =SUM(I13:O13) -> 947.072 | Q13: =(P13*0.03) -> 28.41216 | R13: =D13*E13*0.1*G13 -> 6.272 | S13: =D13*E13*F13*G13 -> 100.352 | T13: =((D13*F13)*2+(E13*F13)*2)*G13 -> 143.36 | U13: =(T13*0.03)*10.764 -> 46.293811 | V13: =T13*0.25 -> 35.84 | W13: =(D13*E13*0.1)*G13 -> 6.272 | X13: =((D13*E13)*F13)*G13 -> 100.352 | Z13: =G13*4 -> 32 | AA13: 0 | AB13: 0
B14: Footing (F.5) | D14: 3.1 | E14: 3.1 | F14: 1.7 | G14: 3 | H14: Nos. | O14: =(F14+D14+F14)*E14/0.2+(10*E14)*G14*O8 -> 459.079 | P14: =SUM(I14:O14) -> 459.079 | Q14: =(P14*0.03) -> 13.77237 | R14: =D14*E14*0.1*G14 -> 2.883 | S14: =D14*E14*F14*G14 -> 49.011 | T14: =((D14*F14)*2+(E14*F14)*2)*G14 -> 63.24 | U14: =(T14*0.03)*10.764 -> 20.421461 | V14: =T14*0.25 -> 15.81 | W14: =(D14*E14*0.1)*G14 -> 2.883 | X14: =((D14*E14)*F14)*G14 -> 49.011 | Z14: =G14*5 -> 15 | AA14: 0 | AB14: 0
B15: Footing (F.6) | D15: 3.3 | E15: 3.3 | F15: 1 | G15: 3 | H15: Nos. | O15: =(F15+D15+F15)*E15/0.2+(10*E15)*G15*O8 -> 468.897 | P15: =SUM(I15:O15) -> 468.897 | Q15: =(P15*0.03) -> 14.06691 | R15: =D15*E15*0.1*G15 -> 3.267 | S15: =D15*E15*F15*G15 -> 32.67 | T15: =((D15*F15)*2+(E15*F15)*2)*G15 -> 39.6 | U15: =(T15*0.03)*10.764 -> 12.787632 | V15: =T15*0.25 -> 9.9 | W15: =(D15*E15*0.1)*G15 -> 3.267 | X15: =((D15*E15)*F15)*G15 -> 32.67 | Z15: =G15*6 -> 18 | AA15: 0 | AB15: 0
B16: หมวดงานโครงสร้างเสา ชั้น ตอม่อ
B17: C1 | D17: 0.2 | E17: 0.2 | F17: 1 | G17: 11 | H17: Nos. | I17: =(((D17+E17+D17+E17)*F17/0.2)*G17)*I8 -> 9.768 | O17: =(G17*4)*O8 -> 169.532 | P17: =SUM(I17:O17) -> 179.3 | Q17: =(P17*0.03) -> 5.379 | S17: =(D17*E17*F17)*G17 -> 0.44 | T17: =(D17+E17+E17+D17)*G17 -> 8.8 | U17: =(T17*0.03)*10.764 -> 2.841696 | V17: =(T17+U17)*0.25 -> 2.910424 | X17: 0 | Y17: 0 | Z17: 0 | AA17: 0 | AB17: 0
B18: C3 | D18: 0.4 | E18: 0.6 | F18: 1 | G18: 9 | H18: Nos. | I18: =(((D18+E18+D18+E18)*F18/0.29)*G18)*4*I8 -> 55.117241 | O18: =(G18*12)*O8 -> 416.124 | P18: =SUM(I18:O18) -> 471.24124 | Q18: =(P18*0.03) -> 14.137237 | S18: =(D18*E18*F18)*G18 -> 2.16 | T18: =(D18+E18+E18+D18)*G18 -> 18 | U18: =(T18*0.03)*10.764 -> 5.81256 | V18: =(T18+U18)*0.25 -> 5.95314 | X18: 0 | Y18: 0 | Z18: 0 | AA18: 0 | AB18: 0
B19: C3A | D19: 0.4 | E19: 0.6 | F19: 1 | G19: 3 | H19: Nos. | I19: =(((D19+E19+D19+E19)*F19/0.29)*G19)*4*I8 -> 18.372414 | O19: =(G19*12)*O8 -> 138.708 | P19: =SUM(I19:O19) -> 157.08041 | Q19: =(P19*0.03) -> 4.7124124 | S19: =(D19*E19*F19)*G19 -> 0.72 | T19: =(D19+E19+E19+D19)*G19 -> 6 | U19: =(T19*0.03)*10.764 -> 1.93752 | V19: =(T19+U19)*0.25 -> 1.98438 | X19: 0 | Y19: 0 | Z19: 0 | AA19: 0 | AB19: 0
B20: C4 | D20: 0.4 | E20: 0.6 | F20: 1 | G20: 24 | H20: Nos. | I20: =(((D20+E20+D20+E20)*F20/0.29)*G20)*4*I8 -> 146.97931 | O20: =(G20*14)*O8 -> 1294.608 | P20: =SUM(I20:O20) -> 1441.5873 | Q20: =(P20*0.03) -> 43.247619 | S20: =(D20*E20*F20)*G20 -> 5.76 | T20: =(D20+E20+E20+D20)*G20 -> 48 | U20: =(T20*0.03)*10.764 -> 15.50016 | V20: =(T20+U20)*0.25 -> 15.87504 | X20: 0 | Y20: 0 | Z20: 0 | AA20: 0 | AB20: 0
B21: C4A | D21: 0.4 | E21: 0.6 | F21: 1 | G21: 12 | H21: Nos. | I21: =(((D21+E21+D21+E21)*F21/0.29)*G21)*4*I8 -> 73.489655 | O21: =(G21*12)*O8 -> 554.832 | P21: =SUM(I21:O21) -> 628.32166 | Q21: =(P21*0.03) -> 18.84965 | S21: =(D21*E21*F21)*G21 -> 2.88 | T21: =(D21+E21+E21+D21)*G21 -> 24 | U21: =(T21*0.03)*10.764 -> 7.75008 | V21: =(T21+U21)*0.25 -> 7.93752 | X21: 0 | Y21: 0 | Z21: 0 | AA21: 0 | AB21: 0
B22: C5 | D22: 0.4 | E22: 0.6 | F22: 1 | G22: 34 | H22: Nos. | I22: =(((D22+E22+D22+E22)*F22/0.29)*G22)*4*I8 -> 208.22069 | O22: =(G22*14)*O8 -> 1834.028 | P22: =SUM(I22:O22) -> 2042.2487 | Q22: =(P22*0.03) -> 61.267461 | S22: =(D22*E22*F22)*G22 -> 8.16 | T22: =(D22+E22+E22+D22)*G22 -> 68 | U22: =(T22*0.03)*10.764 -> 21.95856 | V22: =(T22+U22)*0.25 -> 22.48964 | X22: 0 | Y22: 0 | Z22: 0 | AA22: 0 | AB22: 0
B23: C6 | D23: 0.4 | E23: 0.6 | F23: 1 | G23: 3 | H23: Nos. | I23: =(((D23+E23+D23+E23)*F23/0.29)*G23)*4*I8 -> 18.372414 | O23: =(G23*14)*O8 -> 161.826 | P23: =SUM(I23:O23) -> 180.19841 | Q23: =(P23*0.03) -> 5.4059524 | S23: =(D23*E23*F23)*G23 -> 0.72 | T23: =(D23+E23+E23+D23)*G23 -> 6 | U23: =(T23*0.03)*10.764 -> 1.93752 | V23: =(T23+U23)*0.25 -> 1.98438 | X23: 0 | Y23: 0 | Z23: 0 | AA23: 0 | AB23: 0
B24: หมวดงานโครงสร้างคาน,เสาชั้น 1
B25: B.1 | D25: 0.15 | E25: 0.4 | G25: 24.72 | H25: m. | I25: =((D25+E25+D25+E25)*G25/0.175)*I8 -> 34.494994 | L25: =(G25*4)*L8 -> 87.80544 | P25: =SUM(I25:O25) -> 122.30043 | Q25: =(P25*0.03) -> 3.669013 | S25: =D25*E25*G25 -> 1.4832 | T25: =(D25+E25+E25)*G25 -> 23.484 | U25: =(T25*0.03)*10.764 -> 7.5834533 | V25: =(T25+U25)*0.25 -> 7.7668633 | X25: 0 | Y25: 0 | Z25: 0 | AA25: 0 | AB25: 0
B26: B.2 | D26: 0.2 | E26: 0.4 | G26: 13.81 | H26: m. | I26: =((D26+E26+D26+E26)*G26/0.15)*I8 -> 24.52656 | L26: =(G26*4)*L8 -> 49.05312 | O26: =(G26*2)/0.75*O8 -> 141.89315 | P26: =SUM(I26:O26) -> 215.47283 | Q26: =(P26*0.03) -> 6.4641848 | S26: =D26*E26*G26 -> 1.1048 | T26: =(D26+E26+E26)*G26 -> 13.81 | U26: =(T26*0.03)*10.764 -> 4.4595252 | V26: =(T26+U26)*0.25 -> 4.5673813 | X26: 0 | Y26: 0 | Z26: 0 | AA26: 0 | AB26: 0
B27: B.3 | D27: 0.3 | E27: 0.5 | G27: 104.04 | H27: m. | J27: =((D27+E27+D27+E27)*G27/0.2)*J8 -> 415.32768 | L27: =(G27*4)*L8 -> 369.55008 | O27: =((G27*2)/0.75)+(G27)*O8 -> 678.30612 | P27: =SUM(I27:O27) -> 1463.1839 | Q27: =(P27*0.03) -> 43.895516 | S27: =D27*E27*G27 -> 15.606 | T27: =(D27+E27+E27)*G27 -> 135.252 | U27: =(T27*0.03)*10.764 -> 43.675576 | V27: =(T27+U27)*0.25 -> 44.731894 | X27: 0 | Y27: 0 | Z27: 0 | AA27: 0 | AB27: 0
B28: B.4 | D28: 0.2 | E28: 0.7 | G28: 8.2 | H28: m. | J28: =((D28+E28+D28+E28)*G28/0.3)*J8 -> 24.5508 | L28: =(G28*4)*L8 -> 29.1264 | O28: =((G28*2)/0.75)+(G28)*O8 -> 53.461267 | P28: =SUM(I28:O28) -> 107.13847 | Q28: =(P28*0.03) -> 3.214154 | S28: =D28*E28*G28 -> 1.148 | T28: =(D28+E28+E28)*G28 -> 13.12 | U28: =(T28*0.03)*10.764 -> 4.2367104 | V28: =(T28+U28)*0.25 -> 4.3391776 | X28: 0 | Y28: 0 | Z28: 0 | AA28: 0 | AB28: 0
B29: B.5 | D29: 0.2 | E29: 0.5 | G29: 117.53 | H29: m. | J29: =((D29+E29+D29+E29)*G29/0.3)*J8 -> 273.68819 | L29: =(G29*4)+((G29*2)/0.75)*L8 -> 748.43104 | M29: =2*(G29/4)*M8 -> 92.73117 | P29: =SUM(I29:O29) -> 1114.8504 | Q29: =(P29*0.03) -> 33.445512 | S29: =D29*E29*G29 -> 11.753 | T29: =(D29+E29+E29)*G29 -> 141.036 | U29: =(T29*0.03)*10.764 -> 45.543345 | V29: =(T29+U29)*0.25 -> 46.644836 | X29: 0 | Y29: 0 | Z29: 0 | AA29: 0 | AB29: 0
B30: B.6 | D30: 0.2 | E30: 0.4 | G30: 20.56 | H30: m. | I30: =((D30+E30+D30+E30)*G30/0.15)*I8 -> 36.51456 | L30: =(G30*4)+((G30*2)/0.75)+(1*(G30/4))*L8 -> 141.63099 | M30: =2*(G30/4)*M8 -> 16.22184 | P30: =SUM(I30:O30) -> 194.36739 | Q30: =(P30*0.03) -> 5.8310216 | S30: =D30*E30*G30 -> 1.6448 | T30: =(D30+E30+E30)*G30 -> 20.56 | U30: =(T30*0.03)*10.764 -> 6.6392352 | V30: =(T30+U30)*0.25 -> 6.7998088 | X30: 0 | Y30: 0 | Z30: 0 | AA30: 0 | AB30: 0
B31: B.6A | D31: 0.2 | E31: 0.7 | G31: 2.9 | H31: m. | J31: =((D31+E31+D31+E31)*G31/0.3)*J8 -> 8.6826 | L31: =(G31*4)+((G31*2)/0.75)+(1*(G31/4))*L8 -> 19.977133 | M31: =2*(G31/4)*M8 -> 2.2881 | P31: =SUM(I31:O31) -> 30.947833 | Q31: =(P31*0.03) -> 0.928435 | S31: =D31*E31*G31 -> 0.406 | T31: =(D31+E31+E31)*G31 -> 4.64 | U31: =(T31*0.03)*10.764 -> 1.4983488 | V31: =(T31+U31)*0.25 -> 1.5345872 | X31: 0 | Y31: 0 | Z31: 0 | AA31: 0 | AB31: 0
B32: B.7 | D32: 0.3 | E32: 0.5 | G32: 45.39 | H32: m. | J32: =((D32+E32+D32+E32)*G32/0.225)*2*J8 -> 322.12779 | O32: =(G32*4)+(3*(G32/4))*O8 -> 312.72575 | P32: =SUM(I32:O32) -> 634.85354 | Q32: =(P32*0.03) -> 19.045606 | S32: =D32*E32*G32 -> 6.8085 | T32: =(D32+E32+E32)*G32 -> 59.007 | U32: =(T32*0.03)*10.764 -> 19.05454 | V32: =(T32+U32)*0.25 -> 19.515385 | X32: 0 | Y32: 0 | Z32: 0 | AA32: 0 | AB32: 0
B33: B.8 | D33: 0.3 | E33: 0.7 | G33: 128.34 | H33: m. | J33: =((D33+E33+D33+E33)*G33/0.3)*2*J8 -> 853.8888 | O33: =(G33/0.75)*2+(2*(G33/4))*O8 -> 589.48701 | P33: =SUM(I33:O33) -> 1443.3758 | Q33: =(P33*0.03) -> 43.301274 | S33: =D33*E33*G33 -> 26.9514 | T33: =(D33+E33+E33)*G33 -> 218.178 | U33: =(T33*0.03)*10.764 -> 70.45404 | V33: =(T33+U33)*0.25 -> 72.15801 | X33: 0 | Y33: 0 | Z33: 0 | AA33: 0 | AB33: 0
B34: B.9 | D34: 0.3 | E34: 0.8 | G34: 211.77 | H34: m. | J34: =((D34+E34+D34+E34)*G34/0.225)*2*J8 -> 2066.4987 | O34: =(G34*4)+(6*(G34/4))+((G34*3)/0.75)*O8 -> 4428.5342 | P34: =SUM(I34:O34) -> 6495.033 | Q34: =(P34*0.03) -> 194.85099 | S34: =D34*E34*G34 -> 50.8248 | T34: =(D34+E34+E34)*G34 -> 402.363 | U34: =(T34*0.03)*10.764 -> 129.93106 | V34: =(T34+U34)*0.25 -> 133.07351 | X34: 0 | Y34: 0 | Z34: 0 | AA34: 0 | AB34: 0
B35: B.12 | D35: 0.2 | E35: 0.6 | G35: 34.23 | H35: m. | J35: =((D35+E35+D35+E35)*G35/0.25)*J8 -> 109.31693 | L35: =(G35*4)*L8 -> 121.58496 | O35: =(2*(G35/4))+((G35*2)/0.75)*O8 -> 368.81684 | P35: =SUM(I35:O35) -> 599.71873 | Q35: =(P35*0.03) -> 17.991562 | S35: =D35*E35*G35 -> 4.1076 | T35: =(D35+E35+E35)*G35 -> 47.922 | U35: =(T35*0.03)*10.764 -> 15.474972 | V35: =(T35+U35)*0.25 -> 15.849243 | X35: 0 | Y35: 0 | Z35: 0 | AA35: 0 | AB35: 0
B36: B.13 | D36: 0.2 | E36: 0.6 | G36: 7.37 | H36: m. | J36: =((D36+E36+D36+E36)*G36/0.25)*J8 -> 23.536832 | L36: =(G36*4)+((G36*2)/0.75)*L8 -> 46.93216 | O36: =(G36*2)/0.75*O8 -> 75.724293 | P36: =SUM(I36:O36) -> 146.19329 | Q36: =(P36*0.03) -> 4.3857986 | S36: =D36*E36*G36 -> 0.8844 | T36: =(D36+E36+E36)*G36 -> 10.318 | U36: =(T36*0.03)*10.764 -> 3.3318886 | V36: =(T36+U36)*0.25 -> 3.4124721 | X36: 0 | Y36: 0 | Z36: 0 | AA36: 0 | AB36: 0
B37: B.14 | D37: 0.3 | E37: 0.7 | G37: 10.43 | H37: m. | J37: =((D37+E37+D37+E37)*G37/0.25)*J8 -> 41.63656 | O37: =(G37*7)*O8 -> 281.30753 | P37: =SUM(I37:O37) -> 322.94409 | Q37: =(P37*0.03) -> 9.6883227 | S37: =D37*E37*G37 -> 2.1903 | T37: =(D37+E37+E37)*G37 -> 17.731 | U37: =(T37*0.03)*10.764 -> 5.7256945 | V37: =(T37+U37)*0.25 -> 5.8641736 | X37: 0 | Y37: 0 | Z37: 0 | AA37: 0 | AB37: 0
B38: B.15 | D38: 0.3 | E38: 0.7 | G38: 205.04 | H38: m. | J38: =((D38+E38+D38+E38)*G38/0.3)*2*J8 -> 1364.1995 | O38: =(G38*4)+(2*(G38/4))+((G38*2)/0.75)*O8 -> 3029.3977 | P38: =SUM(I38:O38) -> 4393.5971 | Q38: =(P38*0.03) -> 131.80791 | S38: =D38*E38*G38 -> 43.0584 | T38: =(D38+E38+E38)*G38 -> 348.568 | U38: =(T38*0.03)*10.764 -> 112.55958 | V38: =(T38+U38)*0.25 -> 115.28189 | X38: 0 | Y38: 0 | Z38: 0 | AA38: 0 | AB38: 0
B39: B.18 | D39: 0.3 | E39: 0.6 | G39: 9.6 | H39: m. | J39: =((D39+E39+D39+E39)*G39/0.25)*J8 -> 34.49088 | O39: =(G39*8)*O8 -> 295.9104 | P39: =SUM(I39:O39) -> 330.40128 | Q39: =(P39*0.03) -> 9.9120384 | S39: =D39*E39*G39 -> 1.728 | T39: =(D39+E39+E39)*G39 -> 14.4 | U39: =(T39*0.03)*10.764 -> 4.650048 | V39: =(T39+U39)*0.25 -> 4.762512 | X39: 0 | Y39: 0 | Z39: 0 | AA39: 0 | AB39: 0
B40: 1,C3 | D40: 0.4 | E40: 0.6 | F40: 4 | G40: 9 | H40: m. | I40: =(((D40+E40+D40+E40)*F40/0.29)*G40)*4*I8 -> 220.46897 | O40: =(G40*12*F40)*O8 -> 1664.496 | P40: =SUM(I40:O40) -> 1884.965 | Q40: =(P40*0.03) -> 56.548949 | S40: =(D40*E40*F40)*G40 -> 8.64 | T40: =(D40+E40+E40+D40)*G40 -> 18 | U40: =(T40*0.03)*10.764 -> 5.81256 | V40: =(T40+U40)*0.25 -> 5.95314 | X40: 0 | Y40: 0 | Z40: 0 | AA40: 0 | AB40: 0
B41: 1,C4 | D41: 0.4 | E41: 0.6 | F41: 4 | G41: 24 | H41: m. | I41: =(((D41+E41+D41+E41)*F41/0.29)*G41)*4*I8 -> 587.91724 | O41: =(G41*14*F41)*O8 -> 5178.432 | P41: =SUM(I41:O41) -> 5766.3492 | Q41: =(P41*0.03) -> 172.99048 | S41: =(D41*E41*F41)*G41 -> 23.04 | T41: =(D41+E41+E41+D41)*G41 -> 48 | U41: =(T41*0.03)*10.764 -> 15.50016 | V41: =(T41+U41)*0.25 -> 15.87504 | X41: 0 | Y41: 0 | Z41: 0 | AA41: 0 | AB41: 0
...

Sheet ปร.4 old
A1: บัญชีแสดงปริมาณและราคา
A2: อาคารศูนย์ปฏิบัติการศึกษาด้านระบบรางและอากาศยาน มหาวิทยาลัยเทคโนโลยีราชมงคลอีสาน | J2: แบบ ปร.4
A3: เจ้าของโครงการ : มหาวิทยาลัยเทคโนโรยีราชมงคลอีสาน
A4: สถานที่ : มหาวิทยาลัยเทคโนโลยีราชมงคลอีสาน ตำบลหนองระเวียง อำเภอเมืองนครราชสีมา จังหวัดนครราชสีมา
A5: รายการแสดงราคา : งานก่อสร้างอาคาร | H5: =ปร.6!C9 -> 0
A7: ลำดับที่ | B7: รายการ | C7: จำนวน | D7: หน่วย | E7: ค่าวัสดุ | G7: ค่าแรงงาน | I7: รวมค่าวัสดุและค่าแรงงาน | J7: หมายเหตุ
E8: ราคาต่อหน่วย | F8: จำนวนเงิน | G8: ราคาต่อหน่วย | H8: จำนวนเงิน
B10: สรุปปริมาณงานทั้งหมด
A11: 1 | B11: หมวดงานสาธารณูปโภค | C11: 1 | D11: งาน | E11: 0 | F11: =F91 -> 9949100 | G11: 0 | H11: =H91 -> 3832391 | I11: =I91 -> 13781491
A12: 2 | B12: หมวดงานโครงสร้าง | C12: 1 | D12: งาน | E12: 0 | F12: =F344 -> 1.0616939e+08 | G12: 0 | H12: =H344 -> 31249102 | I12: =I344 -> 1.3741849e+08
A13: 3 | B13: หมวดงานสถาปัตยกรรม | C13: 1 | D13: งาน | E13: 0 | F13: =F1362 -> 96091887 | G13: 0 | H13: =H1362 -> 25931432 | I13: =I1362 -> 1.2202332e+08
A14: 4 | B14: หมวดงานระบบสุขาภิบาล | C14: 1 | D14: งาน | E14: 0 | F14: =F2221 -> 17366570 | G14: 0 | H14: =H2221 -> 5429354.8 | I14: =I2221 -> 22795925
A15: 5 | B15: หมวดงานระบบไฟฟ้าและสื่อสาร | C15: 1 | D15: งาน | E15: 0 | F15: =F2842 -> 31249382 | G15: 0 | H15: =H2842 -> 5360628 | I15: =I2842 -> 36610010
A16: 6 | B16: หมวดงานระบบปรับอากาศและระบายอากาศ | C16: 1 | D16: งาน | E16: 0 | F16: =F2968 -> 2931348.5 | G16: 0 | H16: =H2968 -> 758217.25 | I16: =I2968 -> 3689565.8
A17: 7 | B17: หมวดงานครุภัณฑ์ | C17: 1 | D17: งาน | E17: 0 | F17: =F3176 -> 22165050 | G17: 0 | H17: =H3176 -> 588450 | I17: =I3176 -> 35253500
B21: ราคารวม ( 1 - 7 ) | F21: =SUM(F11:F20) -> 2.8592272e+08 | H21: =SUM(H11:H20) -> 73149575 | I21: =SUM(I10:I20) -> 3.715723e+08
A23: 1 | B23: หมวดงานสาธารณูปโภค
A24: 1.1 | B24: งานเตรียมพื้นที่ก่อสร้าง
B25: - สำรวจระดับพื้นที่ วางผังอาคาร | C25: 10656 | D25: ม. | E25: 70 | F25: =E25*C25 -> 745920 | G25: 50 | H25: =G25*C25 -> 532800 | I25: =F25+H25 -> 1278720
B26: - เครียพื้นที่ ปรับเกี่ยววัชพืช ตัดตันไม้ | C26: 1 | D26: เหมา | E26: 30000 | F26: =E26*C26 -> 30000 | G26: 20000 | H26: =G26*C26 -> 20000 | I26: =F26+H26 -> 50000
B27: - งานดินปรับระดับ | C27: =ROUNDUP(18000*0.2,0) -> 3600 | D27: ลบ.ม | E27: 350 | F27: =E27*C27 -> 1260000 | G27: 100 | H27: =G27*C27 -> 360000 | I27: =F27+H27 -> 1620000
A28: 1.2 | B28: งานระบบสุขาภิบาลและระบายน้ำทั้งโครงการ
A29: 1.2.1 | B29: ระบบน้ำประปา
B30: PIPE PB CLASS 160
B31: DIA. 4" | C31: 200 | D31: ม. | E31: 746 | F31: =C31*E31 -> 149200 | G31: 150 | H31: =C31*G31 -> 30000 | I31: =F31+H31 -> 179200
B32: ข้อต่อ อุปกรณ์ท่อ | C32: 1 | D32: เหมา | E32: =FLOOR(SUM(F31:F31)*0.5,10) -> 74600 | F32: =E32*C32 -> 74600 | G32: =E32*0.3 -> 22380 | H32: =G32*C32 -> 22380 | I32: =F32+H32 -> 96980
B33: เหล็กยึดท่อ | C33: 1 | D33: เหมา | E33: =FLOOR(SUM(F31:F31)*0.2,10) -> 29840 | F33: =E33*C33 -> 29840 | G33: =E33*0.3 -> 8952 | H33: =G33*C33 -> 8952 | I33: =F33+H33 -> 38792
B34: ทดสอบ ทำความสะอาด ทาสีทำสัญลักษณ์ท่อ | C34: 1 | D34: เหมา | E34: =FLOOR(SUM(F31:F31)*0.1,10) -> 14920 | F34: =E34*C34 -> 14920 | G34: =E34*0.3 -> 4476 | H34: =G34*C34 -> 4476 | I34: =F34+H34 -> 19396
B35: GATE VALVE
B36: DIA. 4" | C36: 5 | D36: ชุด | E36: 7070 | F36: =C36*E36 -> 35350 | G36: 800 | H36: =C36*G36 -> 4000 | I36: =F36+H36 -> 39350
B37: CHECK VALVE
B38: DIA. 4" | C38: 4 | D38: ชุด | E38: 12250 | F38: =C38*E38 -> 49000 | G38: 800 | H38: =C38*G38 -> 3200 | I38: =F38+H38 -> 52200
B39: STRAINER
B40: DIA. 4" | C40: 4 | D40: ชุด | E40: 6060 | F40: =C40*E40 -> 24240 | G40: 800 | H40: =C40*G40 -> 3200 | I40: =F40+H40 -> 27440
B41: FIEXIBLE CONNECTION (STRAINLESS STEEL)
B42: DIA. 4" | C42: 8 | D42: ชุด | E42: 4200 | F42: =C42*E42 -> 33600 | G42: 800 | H42: =C42*G42 -> 6400 | I42: =F42+H42 -> 40000
B43: FAUCET OR HOSE BIBB, ANGLE STOP VALVE (FAU, HB, ASV)
B44: DIA. 1/2" | C44: 5 | D44: ชุด | E44: 700 | F44: =C44*E44 -> 3500 | G44: 50 | H44: =C44*G44 -> 250 | I44: =F44+H44 -> 3750
B45: มิเตอร์น้ำ 4" | C45: 1 | D45: ชุด | E45: 23490 | F45: =C45*E45 -> 23490 | G45: 800 | H45: =C45*G45 -> 800 | I45: =F45+H45 -> 24290
A46: 1.2.2 | B46: เครื่องสูบน้ำขึ้นถังสูง พร้อมติดตั้ง
...

Sheet ปร.4
A1: บัญชีแสดงรายการ ปริมาณ และราคา
A2: ชื่อโครงการ/งานก่อสร้าง อาคารศูนย์ปฏิบัติการศึกษาด้านระบบรางและอากาศยาน ตำบลหนองระเวียง อำเภอเมืองนครราชสีมา จังหวัดนครราชสีมา
A3: สถานที่ก่อสร้าง : มหาวิทยาลัยเทคโนโลยีราชมงคลอีสาน ตำบลหนองระเวียง อำเภอเมืองนครราชสีมา จังหวัดนครราชสีมา
A4: เจ้าของโครงการ : มหาวิทยาลัยเทคโนโลยีราชมงคลอีสาน
A5: ประมาณราคากลางโดย คณะกรรมการกำหนดราคากลาง เมื่อวันที่
A7: ลำดับที่ | B7: รายการ | C7: จำนวน | D7: หน่วย | E7: ค่าวัสดุ | G7: ค่าแรงงาน | I7: รวมค่าวัสดุและค่าแรงงาน | J7: หมายเหตุ
E8: ราคาต่อหน่วย | F8: จำนวนเงิน | G8: ราคาต่อหน่วย | H8: จำนวนเงิน
B9: สรุปปริมาณงานก่อสร้าง
A10: 1 | B10: งานโครงสร้างวิศวกรรม | D10: งาน
A11: 2 | B11: งานสถาปัตยกรรม | D11: งาน
A12: 3 | B12: งานระบบสุขาภิบาล ดับเพลิง และป้องกันอัคคีภัย | D12: งาน
A13: 4 | B13: งานระบบไฟฟ้าและสื่อสาร | D13: งาน
A14: 5 | B14: งานระบบปรับอากาศและระบายอากาศ | D14: งาน
A15: 6 | B15: งานสาธารณูปโภค | D15: งาน
A16: 7 | B16: งานระบบลิฟต์ | D16: งาน
A17: 8 | B17: งานครุภัณฑ์ | D17: งาน
B18: ราคารวมทั้งหมด ( 1-8 )
A20: 1 | B20: งานโครงสร้างวิศวกรรม
A21: 1.1 | B21: งานเจาะสำรวจดิน
B22: - ค่าทดสอบความสามารถรับน้ำหนักบรรทุกของพื้นดิน วิธี BORING TEST | D22: จุด
A23: 1.2 | B23: ขุดดิน (เครื่องจักรกล) | D23: ลบ.ม.
A24: 1.3 | B24: กลบดิน | D24: ลบ.ม.
A25: 1.4 | B25: คอนกรีตหยาบรองก้นฐานราก (fc' 180 ksc, Cylinder) | D25: ลบ.ม.
A26: 1.5 | B26: ทรายหยาบบดอัดแน่น | D26: ลบ.ม.
A27: 1.6 | B27: งานเสาเข็ม
B28: - เสาเข็มสี่เหลี่ยมตันขนาด 0.40 x 0.40 x L (L = 6.00 เมตร) | D28: ต้น
B29: - ค่าทดสอบการรับน้ำหนักเสาเข็มด้วยวิธี Static Load Test | D29: ต้น
B30: - ค่าทดสอบการรับน้ำหนักเสาเข็มด้วยวิธี Dynamic Load Test | D30: ต้น
B31: - ค่าทดสอบความสมบูรณ์ของเสาเข็มด้วยวิธี Seismic Test | D31: ต้น
B32: - งานตัดหัวเสาเข็ม | D32: ต้น
A33: 1.7 | B33: งานไม้แบบ | D33: ตร.ม.
B34: - ไม้แบบ | D34: ลบ.ฟ.
B35: - ไม้เคร่า | D35: ลบ.ฟ.
B36: - ตะปู | D36: กก.
A37: 1.8 | B37: งานเหล็กเสริมคอนกรีต
B38: เหล็กเส้นกลม SR24
B39: - RB6 | D39: กก.
B40: - RB9 | D40: กก.
B41: - RB12 | D41: กก.
B42: - RB15 | D42: กก.
...

Sheet Structure Unit Rate
A1: โครงการอาคารศูนย์ปฏิบัติการศึกษาด้านระบบรางและอากาศยาน ตำบลหนองระเวียง อำเภอเมืองนครราชสีมา จังหวัดนครราชสีมา
A2: ลำดับ
A3: รายละเอียดปริมาณงาน | B3: ค่าวัสดุ | C3: ค่าแรงงาน | D3: หมายเหตุ
A4: งานเสาเข็ม | B4: ราคาพาณิชย์จังหวัด ปี63 | C4: บัชญีราคาค่าแรงปี 63
A5: 0.40 x 0.40 x L (45 ton/pile) | B5: 3700.92 | C5: 591 | D5: บัชญีราคาค่าวัสดุและราคาค่าแรงปี 63 | E5: *คิด 6 เมตร*
A6: ค่าทดสอบการรับน้ำหนักเสาเข็มด้วยวิธี Dynamic Load Test | C6: 28500 | D6: บัชญีราคาค่าวัสดุและราคาค่าแรงปี 63
A7: ค่าทดสอบการรับน้ำหนักเสาเข็มด้วยวิธี Seismic Load Test | C7: 300 | D7: บัชญีราคาค่าวัสดุและราคาค่าแรงปี 63
A8: งานตัดหัวเสาเข็ม | B8: 0 | C8: 320 | D8: บัชญีราคาค่าวัสดุและราคาค่าแรงปี 63
A9: ขุดดิน | B9: 0 | C9: 125 | D9: บัชญีราคาค่าวัสดุและราคาค่าแรงปี 63
A10: กลบดิน | B10: 0 | C10: 99 | D10: บัชญีราคาค่าวัสดุและราคาค่าแรงปี 63
A11: คอนกรีตโครงสร้าง (fc' 280 ksc) | B11: 1836.22 | C11: 485 | D11: บัชญีราคาค่าวัสดุและราคาค่าแรงปี 63
A12: คอนกรีตพื้น POSTENSION (fc' 320 ksc) | B12: 1915.89 | C12: 485 | D12: บัชญีราคาค่าวัสดุและราคาค่าแรงปี 63
A13: Post-Tensioned system | B13: 250 | C13: 100
A14: งานไม้แบบ | B14: 0 | C14: 115 | D14: บัชญีราคาค่าวัสดุและราคาค่าแรงปี 63
A15: ไม้แบบ | B15: 400 | C15: 0 | D15: บัชญีราคาค่าวัสดุและราคาค่าแรงปี 63
A16: ไม้เคร่า | B16: 400 | C16: 0 | D16: บัชญีราคาค่าวัสดุและราคาค่าแรงปี 63
A17: ตะปู | B17: 60 | C17: 0
A18: คอนกรีตหยาบ | B18: 1989 | C18: 398 | D18: บัชญีราคาค่าวัสดุและราคาค่าแรงปี 63
A19: ทรายหยาบบดอัดแน่น | B19: 435 | C19: 91 | D19: บัชญีราคาค่าวัสดุและราคาค่าแรงปี 63
A20: งานเหล็กเสริมโครงสร้าง
A21: RB6 | B21: 19.03 | C21: 4.1 | D21: บัชญีราคาค่าวัสดุและราคาค่าแรงปี 63
A22: RB9 | B22: 18.2 | C22: 4.1 | D22: บัชญีราคาค่าวัสดุและราคาค่าแรงปี 63
A23: DB12 | B23: 17.76 | C23: 3.3 | D23: บัชญีราคาค่าวัสดุและราคาค่าแรงปี 63
A24: DB16 | B24: 17.56 | C24: 3.3 | D24: บัชญีราคาค่าวัสดุและราคาค่าแรงปี 63
A25: DB20 | B25: 17.56 | C25: 2.9 | D25: บัชญีราคาค่าวัสดุและราคาค่าแรงปี 63
A26: DB25 | B26: 17.56 | C26: 2.9 | D26: บัชญีราคาค่าวัสดุและราคาค่าแรงปี 63
A27: DB28 | B27: 17.56 | C27: 2.9 | D27: บัชญีราคาค่าวัสดุและราคาค่าแรงปี 63
A28: DB32 | B28: 17.56 | C28: 2.9 | D28: บัชญีราคาค่าวัสดุและราคาค่าแรงปี 63
A29: ลวดผูกเหล็ก | B29: 53.27 | C29: 0
A30: 8" Water Stop | B30: 280 | C30: 35
A31: waterproof membrane | B31: 270 | C31: 87
A32: แผ่นป้องกัน waterproof membrane | B32: 100 | C32: 30
A33: งานโครงสร้างเหล็ก
A34: H-200x200x8x12 | B34: 23.5 | C34: 14
A35: H-300x300x10x15 | B35: 23.5 | C35: 14
A36: H300x200x8x12 | B36: 23.5 | C36: 14
A37: H-400x200x8x13 | B37: 23.5 | C37: 14
A38: H-250x250x9x14 | B38: 23.5 | C38: 14
A39: H-300x200x8x12 | B39: 23.5 | C39: 14
A40: H-150x150x7x10 | B40: 23.5 | C40: 14
...

Sheet Factor F
A1: วิธีคำนวณเทียบอัตราส่วนเพื่อหาค่า FACTOR F
A3: กรณีค่างานอยู่ระหว่างช่วงของค่างานต้นทุนที่กำหนดในตาราง Factor F ให้เทียบอัตราส่วน เพื่อหา Factor F ดังนี้ | U3: old
A4: สูตร | B4: ต้องการหาค่า Factor F ของค่างานต้นทุน | L4: = | P4: A | S4: บาท
A5: สูตร | B5: ค่า Factor F | C5: = | D5: D | E5: - | G5: ( | H5: D | I5: - | J5: E | K5: ) | M5: ( | N5: A | O5: - | P5: B | Q5: )
I6: ( | J6: C | L6: - | N6: B | O6: )
A8: ค่างานต้นทุน | B8: ค่าวัสดุและค่าแรงงาน | L8: = | O8: ='ปร.5(ก)'!D20 -> 0 | S8: บาท
B11: รวมเป็นเงินประมาณ | L11: = | O11: =O8 -> 0 | S11: บาท
A13: เงื่อนไข | B13: เงินล่วงหน้าจ่าย | F13: 0 | J13: ดอกเบี้ยเงินกู้ | P13: 0.05 | Q13: ต่อปี
B14: เงินประกันผลงานหัก | F14: 0.05 | J14: ภาษีมูลค่าเพิ่ม | P14: 0.07
A16: เมื่อ | B16: ต้องการหาค่า Factor F ของค่างานต้นทุน | I16: = | J16: A | M16: = | O16: =O8 -> 0 | S16: บาท
B17: ค่างานต้นทุนตัวต่ำกว่าค่างานต้นทุน A | I17: = | J17: B | M17: = | O17: 300000000 | S17: บาท
B18: ค่างานต้นทุนตัวสูงกว่าค่างานต้นทุน A | I18: = | J18: C | M18: = | O18: 350000000 | S18: บาท
B19: ค่า Factor F ของค่างานต้นทุน B | I19: = | J19: D | M19: = | O19: 1.1965
B20: ค่า Factor F ของค่างานต้นทุน C | I20: = | J20: E | M20: = | O20: 1.1881
A22: แทนค่าสูตร | B22: ค่า Factor F | C22: = | D22: =O19 -> 1.1965 | E22: - | G22: ="("&O19&"-"&O20&")" -> (1.1965-1.1881) | K22: x | L22: ="("&TEXT(O16,"#,##0.00")&"-"&TEXT(O17,"#,##0.00")&")" -> (0.00-300,000,000.00)
I23: ="("&TEXT(O18,"#,##0.00")&"-"&TEXT(O17,"#,##0.00")&")" -> (350,000,000.00-300,000,000.00)
B25: ค่าFactor F | C25: = | D25: =D22 -> 1.1965 | F25: =(((O19-O20)*(O16-O17))/(O18-O17)) -> -0.0504 | O25: =FLOOR(W25,0.0001) -> 1.2469 | W25: =O19-F25 -> 1.2469
A28: วิธีคำนวณเทียบอัตราส่วนเพื่อหาค่า FACTOR F | U28: New
A30: กรณีค่างานอยู่ระหว่างช่วงของค่างานต้นทุนที่กำหนดในตาราง Factor F ให้เทียบอัตราส่วน เพื่อหา Factor F ดังนี้
A31: สูตร | B31: ต้องการหาค่า Factor F ของค่างานต้นทุน | L31: = | P31: A | S31: บาท
A32: สูตร | B32: ค่า Factor F | C32: = | D32: D | E32: - | G32: ( | H32: D | I32: - | J32: E | K32: ) | M32: ( | N32: A | O32: - | P32: B | Q32: )
I33: ( | J33: C | L33: - | N33: B | O33: )
A35: ค่างานต้นทุน | B35: ค่าวัสดุและค่าแรงงาน | L35: = | O35: ='ปร.5(ก)'!D20 -> 0 | S35: บาท
B38: รวมเป็นเงินประมาณ | L38: = | O38: =O35 -> 0 | S38: บาท
A40: เงื่อนไข | B40: เงินล่วงหน้าจ่าย | F40: 0.15 | J40: ดอกเบี้ยเงินกู้ | P40: 0.05 | Q40: ต่อปี
B41: เงินประกันผลงานหัก | F41: 0.05 | J41: ภาษีมูลค่าเพิ่ม | P41: 0.07
A43: เมื่อ | B43: ต้องการหาค่า Factor F ของค่างานต้นทุน | I43: = | J43: A | M43: = | O43: =O35 -> 0 | S43: บาท
B44: ค่างานต้นทุนตัวต่ำกว่าค่างานต้นทุน A | I44: = | J44: B | M44: = | O44: 300000000 | S44: บาท
B45: ค่างานต้นทุนตัวสูงกว่าค่างานต้นทุน A | I45: = | J45: C | M45: = | O45: 350000000 | S45: บาท
B46: ค่า Factor F ของค่างานต้นทุน B | I46: = | J46: D | M46: = | O46: 1.1858
B47: ค่า Factor F ของค่างานต้นทุน C | I47: = | J47: E | M47: = | O47: 1.177
A49: แทนค่าสูตร | B49: ค่า Factor F | C49: = | D49: =O46 -> 1.1858 | E49: - | G49: ="("&O46&"-"&O47&")" -> (1.1858-1.177) | K49: x | L49: ="("&TEXT(O43,"#,##0.00")&"-"&TEXT(O44,"#,##0.00")&")" -> (0.00-300,000,000.00)
I50: ="("&TEXT(O45,"#,##0.00")&"-"&TEXT(O44,"#,##0.00")&")" -> (350,000,000.00-300,000,000.00)
B52: ค่าFactor F | C52: = | D52: =D49 -> 1.1858 | F52: =(((O46-O47)*(O43-O44))/(O45-O44)) -> -0.0528 | O52: =FLOOR(W52,0.0001) -> 1.2386 | W52: =O46-F52 -> 1.2386

Sheet Architecture 
D2: ส่วน A | E2: =C173+D173+E173+F173+H173 -> 9711 | G2: ส่วน C | H2: =C292+D292+F292+H292 -> 4041 | J2: ส่วน E | K2: =C534+D534+E534+F534+G534+H534 -> 912
D3: ส่วน B | E3: =C227+E227 -> 1501 | G3: ส่วน D | H3: =C492+D492+E492+F492+G492+H492 -> 13906 | M3: sum | N3: =E2+E3+H2+H3+K2 -> 30071
A5: ลำดับ | B5: รายการ | C5: งานผิวพื้น | U5: งานผนังและผิวผนัง | AQ5: เสาเอ็น | AT5: ทับหลัง | AU5: งานฝ้าเพดาน | AZ5: งานทาสี | BD5: งานประตู+หน้าต่าง | DF5: หลังคา
C6: F1 | D6: F2 | E6: F3 | F6: F4 | G6: F5 | H6: F6 | I6: F7 | J6: F8 | K6: F9 | L6: F10 | M6: F11 | N6: F12 | O6: F13 | P6: F14 | Q6: F15 | R6: F16 | S6: F17 | T6: ปูนทราย | U6: ก่ออิฐมอญ | W6: ผนัง คสล. | X6: ก่ออิฐมวลเบา | Y6: ผนังยิปซั่ม | Z6: ผนังGRC | AA6: ผนังซีเมนต์ | AB6: ทรายล้าง | AC6: ฉาบปูนเรียบอิฐมอญ | AE6: ฉาบปูนเรียบ | AF6: ฉาบปูนเรียบ | AG6: กรุกระเบื้อง | AH6: ผนังตกแต่ง | AI6: ผนังตกแต่ง | AJ6: ผนังตกแต่ง | AK6: กรุกระเบื้อง | AL6: กรุกระเบื้อง | AM6: ฉาบปูนเรียบ | AN6: ฉาบปูนเรียบ | AO6: ผนังตกแต่ง | AP6: ฉาบยิปซั่ม | AQ6: 0.10 ม. | AR6: 0.20 ม. | AS6: 0.30 ม. | AU6: C1 | AV6: C2 | AW6: C3 | AX6: C4 | AY6: C5 | AZ6: สีทาภายใน | BA6: สีทาภายนอก | BB6: สีขัดมัน | BC6: สีทาฝ้าเพดาน | BD6: D1 | BE6: D2 | BF6: D3 | BG6: D4 | BH6: D5 | BI6: D6 | BJ6: D6.1 | BK6: D7 | BL6: D8 | BM6: D9 | BN6: D9.1 | BO6: D10 | BP6: D11 | BQ6: D12 | BR6: D13 | BS6: D14 | BT6: D15 | BV6: D16 | BW6: D17 | CB6: W1 | CC6: W1.1 | CD6: W2 | CE6: W3 | CF6: W4 | CG6: W4.1 | CH6: W5 | CI6: W5.1 | CJ6: W6 | CK6: W6.1 | CL6: W7 | CM6: W7.1 | CN6: W8 | CO6: W9 | CP6: W10 | CQ6: W10.1 | CR6: W10.2 | CS6: W11 | CT6: W12 | CU6: W13 | CV6: W14 | CW6: W15 | CX6: W16 | CY6: W17 | DF6: metal sheet | DG6: ครอบ | DH6: ครอบ | DI6: siding | DJ6: ครอบ | DK6: ครอบ | DL6: ฉนวน | DM6: ราง | DN6: sky light | DO6: คอมโพสิต
C7: คสล. | D7: คสล. | E7: ก/บ | F7: ทรายล้าง | G7: FLOOR | H7: คสล. | S7: cheker plat | T7: ปรับระดับ | U7: ครึ่งแผ่น | V7: เต็มแผ่น | AA7: บอร์ด | AC7: 1 | AD7: 2 | AE7: คสล. | AF7: อิฐมวลเบา | AG7: CT3 | AH7: Texture | AI7: Fiber 10 mm | AU7: ฝ้ายิบซัมบอร์ด | AV7: ฝ้ายิบซัมบอร์ด | AW7: ฉาบปูนเรียบ | AZ7: PT2 | BA7: PT1 | BB7: PT6 | BD7: =4.15*2.85 -> 11.8275 | BE7: =5.4*2.85 -> 15.39 | BF7: =5.4*2.85 -> 15.39 | BG7: =2.1*2.85 -> 5.985 | BH7: =0.8*2.05 -> 1.64 | BI7: =2.1*2.85 -> 5.985 | BJ7: =2.1*2.5 -> 5.25 | BK7: =1.9*2.05 -> 3.895 | BL7: =7.4*2.85 -> 21.09 | BM7: =2.1*2.85 -> 5.985 | BN7: =2.1*2.5 -> 5.25 | BO7: =1.1*2.05 -> 2.255 | BP7: =1.1*2.5 -> 2.75 | BQ7: =1*2.5 -> 2.5 | BR7: =1.1*2.05 -> 2.255 | BS7: =1.1*2.5 -> 2.75 | BT7: =(2*2.85) -> 5.7 | BV7: =7*2.5 -> 17.5 | BW7: =41.4*2.85 -> 117.99 | CB7: =1.65*5.1 -> 8.415 | CC7: =5.1*3.75 -> 19.125 | CD7: =5.4*2.35 -> 12.69 | CE7: =2.6*2.35 -> 6.11 | CF7: =5.1*0.5 -> 2.55 | CG7: =5.1*1.65 -> 8.415 | CH7: =1.75*1.65 -> 2.8875 | CI7: =1.75*3.75 -> 6.5625 | CJ7: =0.65*2.3 -> 1.495 | CK7: =0.85*2.3 -> 1.955 | CL7: =1.7*0.65 -> 1.105 | CM7: =1.7*0.85 -> 1.445 | CN7: =3.42*1.65 -> 5.643 | CO7: =3.8*0.5 -> 1.9 | CP7: =1.9*3.75 -> 7.125 | CQ7: =1.9*1.65 -> 3.135 | CR7: =1.9*1.05 -> 1.995 | CS7: =5.4*0.5 -> 2.7 | CT7: =7.5*2.85 -> 21.375 | CU7: =4.26*1.65 -> 7.029 | CV7: =2*1.65 -> 3.3 | CW7: =7.4*2.1 -> 15.54 | CX7: =7.2*2.35 -> 16.92 | CY7: =0.89*1.65 -> 1.4685 | DG7: จั่ว | DH7: ข้าง | DJ7: มุม | DK7: ชายล่าง | DL7: PU
C8: ขัดมันเรียบ | D8: หินขัด | E8: 60 x 60 | G8: HARDENER | H8: ขัดหยาบ | U8: A | V8: B | AA8: D | AC8: ภายนอก | AD8: ภายใน | AH8: 5 | AI8: 6 | AV8: กันชื้น | AW8: คสล. | BD8: 4.15 | BE8: 5.4 | BF8: 6.4 | BG8: 2.1 | BH8: 0.8 | BI8: 2.1 | BJ8: 2.1 | BK8: 1.9 | BL8: 7.4 | BM8: 2.1 | BN8: 2.1 | BO8: 1.1 | BP8: 2.1 | BQ8: 1 | BR8: 1.1 | BS8: 1.1 | BT8: 2 | BV8: 7 | BW8: 41.4 | CB8: =5.1*2 -> 10.2 | CC8: =5.1*2 -> 10.2 | CD8: =5.4*2 -> 10.8 | CE8: =2.6*2 -> 5.2 | CF8: =5.1*2 -> 10.2 | CG8: =5.1*2 -> 10.2 | CH8: =1.75*2 -> 3.5 | CI8: =1.75*2 -> 3.5 | CJ8: =2.3*2 -> 4.6 | CK8: =2.3*2 -> 4.6 | CL8: =1.7*2 -> 3.4 | CM8: =1.7*2 -> 3.4 | CN8: =3.42*2 -> 6.84 | CO8: =3.8*2 -> 7.6 | CP8: =1.9*2 -> 3.8 | CQ8: =1.9*2 -> 3.8 | CR8: =1.9*2 -> 3.8 | CS8: =5.4*2 -> 10.8 | CT8: =7.5*2 -> 15 | CU8: =4.26*2 -> 8.52 | CV8: =2*2 -> 4 | CW8: =7.4*2 -> 14.8 | CX8: =7.2*2 -> 14.4 | CY8: =0.89*2 -> 1.78 | DH8: ชนผนัง
BD9: =2.85*2 -> 5.7 | BE9: =2.85*2 -> 5.7 | BF9: =2.85*2 -> 5.7 | BG9: =2.85*2 -> 5.7 | BH9: =2.05*2 -> 4.1 | BI9: =2.85*2 -> 5.7 | BJ9: =2.5*2 -> 5 | BK9: =2.05*2 -> 4.1 | BL9: =2.85*2 -> 5.7 | BM9: =2.85*2 -> 5.7 | BN9: =2.5*2 -> 5 | BO9: =2.05*2 -> 4.1 | BP9: =2.5*2 -> 5 | BQ9: =2.5*2 -> 5 | BR9: =2.05*2 -> 4.1 | BS9: =2.5*2 -> 5 | BT9: =2.85*2 -> 5.7 | BV9: =2.5*2 -> 5 | BW9: =2.85*2 -> 5.7 | CB9: =1.65*2 -> 3.3 | CC9: =3.75*2 -> 7.5 | CD9: =2.35*2 -> 4.7 | CE9: =2.35*2 -> 4.7 | CF9: =0.5*2 -> 1 | CG9: =0.4*2 -> 0.8 | CH9: =1.65*2 -> 3.3 | CI9: =3.75*2 -> 7.5 | CJ9: =0.65*2 -> 1.3 | CK9: =0.85*2 -> 1.7 | CL9: =0.65*2 -> 1.3 | CM9: =0.85*2 -> 1.7 | CN9: =1.65*2 -> 3.3 | CO9: =0.5*2 -> 1 | CP9: =3.75*2 -> 7.5 | CQ9: =1.65*2 -> 3.3 | CR9: =1.05*2 -> 2.1 | CS9: =0.5*2 -> 1 | CT9: =2.85*2 -> 5.7 | CU9: =1.65*2 -> 3.3 | CV9: =1.65*2 -> 3.3 | CW9: =2.1*2 -> 4.2 | CX9: =2.35*2 -> 4.7 | CY9: =1.65*2 -> 3.3
B10: อาคา (A) | C10: (ตร.ม.) | D10: (ตร.ม.) | E10: (ตร.ม.) | F10: (ตร.ม.) | G10: (ตร.ม.) | H10: (ตร.ม.) | I10: (ตร.ม.) | J10: (ตร.ม.) | K10: (ตร.ม.) | L10: (ตร.ม.) | M10: (ตร.ม.) | N10: (ตร.ม.) | O10: (ตร.ม.) | P10: (ตร.ม.) | Q10: (ตร.ม.) | R10: (ตร.ม.) | S10: (ตร.ม.) | T10: (ตร.ม.) | U10: (ตร.ม.) | V10: (ตร.ม.) | W10: (ตร.ม.) | X10: (ตร.ม.) | Y10: (ตร.ม.) | Z10: (ตร.ม.) | AA10: (ตร.ม.) | AB10: (ตร.ม.) | AC10: (ตร.ม.) | AD10: (ตร.ม.) | AE10: (ตร.ม.) | AF10: (ตร.ม.) | AG10: (ตร.ม.) | AH10: (ตร.ม.) | AI10: (ตร.ม.) | AJ10: (ตร.ม.) | AK10: (ตร.ม.) | AL10: (ตร.ม.) | AM10: (ตร.ม.) | AN10: (ตร.ม.) | AO10: (ตร.ม.) | AP10: (ตร.ม.) | AQ10: (ม.) | AR10: (ม.) | AS10: (ม.) | AT10: (ม.) | AU10: (ตร.ม.) | AV10: (ตร.ม.) | AW10: (ตร.ม.) | AX10: (ตร.ม.) | AY10: (ตร.ม.) | AZ10: (ตร.ม.) | BA10: (ตร.ม.) | BC10: (ตร.ม.) | BD10: (ชุด) | BE10: (ชุด) | BF10: (ชุด) | BG10: (ชุด) | BH10: (ชุด) | BI10: (ชุด) | BJ10: (ชุด) | BK10: (ชุด) | BL10: (ชุด) | BM10: (ชุด) | BN10: (ชุด) | BO10: (ชุด) | BP10: (ชุด) | BQ10: (ชุด) | BR10: (ชุด) | BS10: (ชุด) | BT10: (ชุด) | BU10: (ชุด) | BV10: (ชุด) | BW10: (ชุด) | CB10: (ชุด) | CC10: (ชุด) | CD10: (ชุด) | CE10: (ชุด) | CF10: (ชุด) | CG10: (ชุด) | CH10: (ชุด) | CI10: (ชุด) | CJ10: (ชุด) | CK10: (ชุด) | CL10: (ชุด) | CM10: (ชุด) | CN10: (ชุด) | CO10: (ชุด) | CP10: (ชุด) | CQ10: (ชุด) | CR10: (ชุด) | CS10: (ชุด) | CT10: (ชุด) | CU10: (ชุด) | CV10: (ชุด) | CW10: (ชุด) | CX10: (ชุด) | CY10: (ชุด) | DF10: (ตร.ม.) | DG10: (ม.) | DH10: (ม.) | DI10: (ตร.ม.) | DJ10: (ม.) | DL10: (ม.) | DM10: (ม.) | DN10: (ตร.ม.) | DO10: (ตร.ม.)
B12: งานชั้นที่ 1
B13: ทางเดินรอบอาคาร | C13: 200 | H13: =20+200+76 -> 296 | AW13: =C13+H13 -> 496 | BC13: =SUM(AU13:AW13) -> 496 | DP13: fl1 | DQ13: fl2 | DR13: fl3 | DS13: roof
B14: เฉลียง | F14: =ROUNDUP(26+19,0) -> 45 | H14: 9 | AW14: =F14 -> 45 | BC14: =SUM(AU14:AW14) -> 45 | BD14: 1 | BL14: 1 | BM14: 1 | BW14: 1 | DP14: =BD66 -> 1 | DQ14: =BD99 -> 0 | DR14: =BD153 -> 0 | DS14: =BD165 -> 0 | DU14: =SUM(DP14:DT14) -> 1 | DV14: - A.D1 ประตูบานเปิดสวิงคู่พร้อมช่องแสงติดตาย วงกบ 2"x4" อบสีดำ ลูกฟัก กระจกลามิเนตเขียวใสตัดแสง 6 มม. ขนาด 4.15 x 2.85 มม. | DX14: =ROUNDUP(BD7*4000,0) -> 47310
B15: ลานอเนกประสงค์ | D15: =ROUNDUP(10.4*54.4,0) -> 566 | H15: =ROUNDUP(5*42.4,0) -> 212 | AW15: =H15 -> 212 | BC15: =SUM(AU15:AW15) -> 212 | CT15: 1 | CW15: 1 | DP15: =BE66 -> 3 | DQ15: =BE99 -> 3 | DR15: =BE153 -> 1 | DS15: =BE165 -> 0 | DU15: =SUM(DP15:DT15) -> 7 | DV15: - A.D2 ประตูบานเปิดสวิงคู่พร้อมช่องแสงติดตาย วงกบ 2"x4" อบสีดำ ลูกฟัก กระจกลามิเนตใสตัดแสง 6 มม. ขนาด 5.40 x 2.85 มม. | DX15: =ROUNDUP(BE7*4000,0) -> 61560
B16: โถงบันได ST-03/1 | C16: =ROUNDUP(25.78,0) -> 26 | U16: =ROUNDUP((3.1*6.9),0) -> 22 | V16: =ROUNDUP((23*6.9)-BO7,0) -> 157 | AC16: =ROUNDUP((11.3*4.7)-(BO7+CH7),0) -> 48 | AD16: =ROUNDUP((U16/2)+(V16*2),0) -> 325 | AQ16: =ROUNDUP((3*6.9)+BO9,0) -> 25 | AR16: =6.9*2 -> 13.8 | AT16: =BO8 -> 1.1 | AW16: =C16 -> 26 | AZ16: =AD16 -> 325 | BA16: =AC16 -> 48 | BC16: =SUM(AU16:AW16) -> 26 | BO16: 1 | DP16: =BF66 -> 1 | DQ16: =BF99 -> 1 | DR16: =BF153 -> 1 | DS16: =BF165 -> 0 | DU16: =SUM(DP16:DT16) -> 3 | DV16: - A.D3 ประตูบานเปิดสวิงคู่พร้อมช่องแสงติดตาย วงกบ 2"x4" อบสีดำ ลูกฟัก กระจกลามิเนตใสตัดแสง 6 มม. ขนาด 5.40 x 2.85 มม. | DX16: =ROUNDUP(BF7*4000,0) -> 61560
B17: HALL CORRIDOR | D17: =ROUNDUP(1335.83+73.44,0)-566 -> 844 | AD17: =ROUNDUP(((257*4.7)+((2.4*4.8)*8))-(BD7+(BE7*3)+BF7+BG7+BI7+BL7+(BM7*2)+(BP7*4)+BQ7+BR7+BW7+(CC7*2)+(CD7*5)+CE7+(CF7*2)+CI7+CT7),0) -> 908 | AW17: =D17 -> 844 | AZ17: =AD17 -> 908 | BA17: =AC17 -> 0 | BC17: =SUM(AU17:AW17) -> 844 | CC17: 2 | CI17: 1 | DP17: =BG66 -> 1 | DQ17: =BG99 -> 1 | DR17: =BG153 -> 0 | DS17: =BG165 -> 0 | DU17: =SUM(DP17:DT17) -> 2 | DV17: - A.D4 ประตูบานเปิดสวิงคู่พร้อมช่องแสงติดตาย วงกบ 2"x4" อบสีดำ ลูกฟัก กระจกลามิเนตใสตัดแสง 6 มม. ขนาด 2.10 x 2.85 มม. | DX17: =ROUNDUP(BG7*4000,0) -> 23940
B18: ห้องวางโมเดลจำลอง | D18: =ROUNDUP(8.6*24.05,0) -> 207 | U18: =ROUNDUP((74*4.7)-((BE7*2)+BG7+(CB7*6)+(CD7*2)),0) -> 236 | Z18: =ROUNDUP((15*6)+((0.4*14)*6),0) -> 124 | AC18: =ROUNDUP(((6+8.8+36.4+8.7)*4.7)-((BE7*2)+BG7+(CB7*6)+(CD7*2)),0) -> 169 | AD18: =ROUNDUP((74*4.7)-((BE7*2)+(CC7*4)+(CD7*2)+CX7),0) -> 199 | AQ18: =ROUNDUP((BE9*2)+BG9+(CB8*6)+(CD8*2),0) -> 100 | AT18: =ROUNDUP((BE8*2)+BG8+(CB8*6)+(CD8*2),0) -> 96 | AW18: =D18 -> 207 | AZ18: =AD18+Z18 -> 323 | BA18: =AC18 -> 169 | BC18: =SUM(AU18:AW18) -> 207 | BE18: 2 | CC18: 4 | CD18: 2 | DP18: =BH66 -> 1 | DQ18: =BH99 -> 1 | DR18: =BH153 -> 1 | DS18: =BH165 -> 0 | DU18: =SUM(DP18:DT18) -> 3 | DV18: - A.D5 ประตูบานเปิดเดี่ยวพร้อมเกล็ดระบายอากาศด้านล่าง วงกบ ขนาด 2"x5" ทำสีตามตัวอย่าง ขนาด 0.80 x 2.05 มม. | DX18: =ROUNDUP(BH7*5000,0) -> 8200
B19: ห้องสังเกตุการณ์ | D19: =ROUNDUP(8.6*12.05,0) -> 104 | U19: =ROUNDUP((42*4.7)-(BF7+(CB7*2)+CD7),0) -> 153 | AC19: =ROUNDUP(((5.82+12.25)*4.8)-(CB7*2),0) -> 70 | AD19: =ROUNDUP((42*4.7)-(BG7+(CC7*2)+CX7),0) -> 137 | AQ19: =ROUNDUP((BF9+(CB9*2)+CD9),0) -> 17 | AT19: =ROUNDUP((BF8+(CB8*2)+CD8),0) -> 38 | AW19: =D19 -> 104 | AZ19: =AD19 -> 137 | BA19: =AC19 -> 70 | BC19: =SUM(AU19:AW19) -> 104 | BG19: 1 | CC19: 2 | CX19: 1 | DP19: =BI66 -> 2 | DQ19: =BI99 -> 0 | DR19: =BI153 -> 0 | DS19: =BI165 -> 0 | DU19: =SUM(DP19:DT19) -> 2 | DV19: - A.D6 ประตูบานเปิดคู่พร้อมช่องแสงติดตาย วงกบ ขนาด 2"x4" ทำสีตามตัวอย่าง ลูกฟัก กระจกลามิเนตใสตัดแสง 6 มม. ขนาด 2.10 x 2.85 มม. | DX19: =ROUNDUP(BI7*3000,0) -> 17955
B20: SIMULATAION ROOM | D20: =ROUNDUP(8.6*12.05,0) -> 104 | U20: =ROUNDUP((37*4.7)-(BF7+(CC7*2)+CD7),0) -> 108 | AD20: =ROUNDUP((37*4.7)-(BF7+(CC7*2)+CD7),0) -> 108 | AQ20: =ROUND(10*4.7,0) -> 47 | AT20: =BE8+(CC8*3)+(CD8*2)+CE8 -> 62.8 | AW20: =D20 -> 104 | AZ20: =AD20 -> 108 | BC20: =SUM(AU20:AW20) -> 104 | BF20: 1 | CC20: 2 | CD20: 1 | DP20: =BJ66 -> 0 | DQ20: =BJ99 -> 1 | DR20: =BJ153 -> 1 | DS20: =BJ165 -> 0 | DU20: =SUM(DP20:DT20) -> 2 | DV20: - A.D6.1 ประตูบานเปิดคู่พร้อมช่องแสงติดตาย วงกบ ขนาด 2"x4" ทำสีตามตัวอย่าง ลูกฟัก กระจกลามิเนตใสตัดแสง 6 มม. ขนาด 2.10 x 2.50 มม. | DX20: =BJ7*3000 -> 15750
B21: ห้องสำนักงาน | D21: =ROUNDUP(114.99,0) -> 115 | U21: =ROUNDUP((52*4.7)-(BE7+(CC7*3)+(CD7*2)+CE7),0) -> 141 | AC21: =ROUNDUP(((6.01+19.25)*4.8)-(CB7*3),0) -> 97 | AD21: =U21 -> 141 | AQ21: =ROUNDUP(BE9+(CC9*3)+(CD9*2)+CE9,0) -> 43 | AT21: =ROUNDUP(BE8+(CC8*3)+(CD8*2)+CE8,0) -> 63 | AW21: =D21 -> 115 | AZ21: =AD21 -> 141 | BA21: =AC21 -> 97 | BC21: =SUM(AU21:AW21) -> 115 | BE21: 1 | CC21: 3 | CD21: 2 | CE21: 1 | DP21: =BK66 -> 2 | DQ21: =BK99 -> 0 | DR21: =BK153 -> 0 | DS21: =BK165 -> 1 | DU21: =SUM(DP21:DT21) -> 3 | DV21: - A.D7 ประตูบานเปิดคู่ ประตูเหล็กทนไฟตามมาตรฐาน มอก. ทนไฟไม่น้อยกว่า 2 ชม. วงกบเหล็ก มียางกันควันติดที่วงกบ 2''x4'' อบสี ขนาด 1.90 x 2.05 มม. | DX21: =ROUNDUP(BK7*5000,0) -> 19475
B22: ห้องระบบ 1 | C22: 11 | U22: =ROUNDUP((14*4.7)-BR7,0) -> 64 | AC22: =ROUNDUP(((6+3.3)*4.7)-CB7,0) -> 36 | AD22: =U22 -> 64 | AQ22: =ROUNDUP(BK9+CB9,0) -> 8 | AT22: =ROUNDUP(BK8+CB8,0) -> 13 | AW22: =C22 -> 11 | AZ22: =AD22 -> 64 | BA22: =AC22 -> 36 | BC22: =SUM(AU22:AW22) -> 11 | BR22: 1 | DP22: =BL66 -> 1 | DQ22: =BL99 -> 0 | DR22: =BL153 -> 0 | DS22: =BL165 -> 0 | DU22: =SUM(DP22:DT22) -> 1 | DV22: - A.D8 ประตูบานเปิดสวิงคู่พร้อมช่องแสงติดตาย วงกบ 2"x4" อบสีดำ ลูกฟัก กระจกลามิเนตเขียวใสตัดแสง 6 มม. ขนาด 7.40 x 2.85 มม. | DX22: =ROUNDUP(BL7*4000,0) -> 84360
B23: ห้องระบบ 2 | C23: =ROUNDUP(35.76,0) -> 36 | U23: =ROUNDUP((21.05*4.7)-(BK7+CF7),0) -> 93 | V23: =ROUNDUP((4.25*4.7),0) -> 20 | AD23: =ROUNDUP((25.3*4.7)-(BI7+CF7),0) -> 111 | AQ23: =ROUNDUP(BI9+CF9,0) -> 7 | AR23: =4.7*2 -> 9.4 | AT23: =ROUNDUP(BI8+CF8,0) -> 13 | AW23: =C23 -> 36 | AZ23: =AD23 -> 111 | BC23: =SUM(AU23:AW23) -> 36 | BI23: 1 | CF23: 1 | DP23: =BM66 -> 2 | DQ23: =BM99 -> 0 | DR23: =BM153 -> 0 | DS23: =BM165 -> 0 | DU23: =SUM(DP23:DT23) -> 2 | DV23: - A.D9 ประตูบานเปิดสวิงคู่พร้อมช่องแสงติดตาย วงกบ 2"x4" อบสีดำ ลูกฟัก กระจกลามิเนตใสตัดแสง 6 มม. ขนาด 2.10 x 2.50 มม. | DX23: =ROUNDUP(BM7*4000,0) -> 23940
B24: ห้องระบบ 5 | C24: 30 | U24: =ROUNDUP((21.8*4.7)-(BI7+CC7),0) -> 78 | AD24: =U24 -> 78 | AQ24: =ROUND((BI9+CC9)+4.7,0) -> 18 | AT24: =BI8+CC8 -> 12.3 | AW24: =C24 -> 30 | AZ24: =AD24 -> 78 | BC24: =SUM(AU24:AW24) -> 30 | BI24: 1 | CC24: 1 | DP24: =BN66 -> 0 | DQ24: =BN99 -> 1 | DR24: =BN153 -> 1 | DS24: =BN165 -> 0 | DU24: =SUM(DP24:DT24) -> 2 | DV24: - A.D9.1 ประตูบานเปิดสวิงคู่พร้อมช่องแสงติดตาย วงกบ 2"x4" อบสีดำ ลูกฟัก กระจกลามิเนตใสตัดแสง 6 มม. ขนาด 2.10 x 2.85 มม. | DX24: =ROUNDUP(BN7*4000,0) -> 21000
B25: ห้องระบบ 3 | C25: 37 | U25: =ROUNDUP((21.98*4.7)-BK7,0) -> 100 | V25: =ROUNDUP((3.55*4.7),0) -> 17 | AC25: =ROUNDUP((6*4.7)-BK7,0) -> 25 | AD25: =ROUNDUP((25.53*4.7)-BK7,0) -> 117 | AQ25: =BK9 -> 4.1 | AR25: 4.7 | AT25: =BK8 -> 1.9 | AW25: =C25 -> 37 | AZ25: =AD25 -> 117 | BA25: =AC25 -> 25 | BC25: =SUM(AU25:AW25) -> 37 | BK25: 1 | DP25: =BO66 -> 1 | DQ25: =BO99 -> 1 | DR25: =BO153 -> 1 | DS25: =BO165 -> 1 | DU25: 3 | DV25: - A.D10 ประตูบานเปิดคู่สวิง ประตูเหล็กทนไฟตามมาตรฐาน มอก. ทนไฟไม่น้อยกว่า 2 ชม. วงกบเหล็ก มียางกันควันติดที่วงกบ 2''x4'' อบสี ขนาด 1.10 x 2.05 มม. | DX25: =ROUNDUP(BO7*9000,0) -> 20295
B26: ห้องระบบ 4 | C26: =ROUNDUP(30.45,0) -> 31 | U26: =ROUNDUP((22.2*4.7)-(BK7+CF7),0) -> 98 | AC26: =ROUNDUP((7.2*4.7)+(BK7*2),0) -> 42 | AD26: =U26 -> 98 | AQ26: =ROUNDUP((BK9+CF9)+(4.7*2),0) -> 15 | AT26: =ROUNDUP(BK8+CF8,0) -> 13 | AW26: =C26 -> 31 | AZ26: =AD26 -> 98 | BA26: =AC26 -> 42 | BC26: =SUM(AU26:AW26) -> 31 | BK26: 1 | CF26: 1 | DP26: =BP66 -> 4 | DQ26: =BP99 -> 4 | DR26: =BP153 -> 4 | DS26: =BP165 -> 0 | DU26: 12 | DV26: - A.D11 ประตูบานเปิดเดี่ยวพร้อมเกล็ดระบายอากาศด้านล่าง วงกบ ขนาด 2"x5" ทำสีตามตัวอย่าง ลูกฟัก กระจกฝ้า 6 มม. ขนาด 1.10 x 2.50 มม. | DX26: =ROUNDUP(BP7*5000,0) -> 13750
B27: ห้องน้ำชาย 1 | E27: =ROUNDUP(29.72,0) -> 30 | T27: =SUM(C27:O27) -> 30 | U27: =ROUNDUP((26.5*4.7)-(BP7+(CJ7*2)),0) -> 119 | AD27: =ROUNDUP((32*4.7)-(BP7+(CJ7*2)),0) -> 145 | AG27: =ROUNDUP((32*2.7)-(BP7+(CJ7*2)),0) -> 81 | AQ27: =ROUNDUP((5*4.7)+BP9+(CJ9*2),0) -> 32 | AT27: =ROUNDUP(BP8+(CJ8*2),0) -> 12 | AV27: =E27 -> 30 | BC27: =SUM(AU27:AW27) -> 30 | BP27: 1 | CJ27: 2 | DP27: =BQ66 -> 1 | DQ27: =BQ99 -> 1 | DR27: =BQ153 -> 1 | DS27: =BQ165 -> 0 | DU27: 3 | DV27: - A.D12 ประตูบานเลื่อนสำเร็จรูป สีเทา (หรือเทียบเท่า) ขนาด 1.00 x 2.50 มม. | DX27: =ROUNDUP(BQ7*5800,0) -> 14500
B28: ห้องน้ำหญิง 1 | E28: =ROUNDUP(29.65,0) -> 30 | T28: =SUM(C28:O28) -> 30 | U28: =ROUNDUP((22.4*4.7)-(BP7+(CJ7*2)),0) -> 100 | AD28: =ROUNDUP((22.4*4.7)-(BP7+(CJ7*2)),0) -> 100 | AG28: =ROUNDUP((24*2.7)-(BP7+(CJ7*2)),0) -> 60 | AQ28: =ROUNDUP((4*4.7)+BP9+(CJ9*2),0) -> 27 | AT28: =ROUNDUP(BP8+(CJ8*2),0) -> 12 | AV28: =E28 -> 30 | BC28: =SUM(AU28:AW28) -> 30 | BP28: 1 | CJ28: 2 | DP28: =BR66 -> 1 | DQ28: =BR99 -> 2 | DR28: =BR153 -> 2 | DS28: =BR165 -> 0 | DU28: 13 | DV28: - A.D13 ประตูบานเปิดเดี่ยว ประตูเหล็กทนไฟตามมาตรฐาน มอก. ทนไฟไม่น้อยกว่า 2 ชม. วงกบเหล็ก มียางกันควันติดที่วงกบ 2''x4'' อบสี ขนาด 1.10 x 2.05 มม. | DX28: =ROUNDUP(BR7*6000,0) -> 13530
B29: ห้องน้ำผู้พิการ | E29: =ROUNDUP(7.8,0) -> 8 | T29: =SUM(C29:O29) -> 8 | U29: =ROUNDUP((5*4.7)-BQ7,0) -> 21 | AD29: =ROUNDUP((12.83*4.7)-BQ7,0) -> 58 | AG29: =ROUNDUP((12.83*2.7)-BQ7,0) -> 33 | AQ29: =BQ9 -> 5 | AT29: =BQ8 -> 1 | AV29: =E29 -> 8 | BC29: =SUM(AU29:AW29) -> 8 | BQ29: 1 | DP29: =BS66 -> 0 | DQ29: =BS99 -> 16 | DR29: =BS153 -> 28 | DS29: =BS165 -> 0 | DU29: 44 | DV29: - A.D14 ประตูบานเปิดเดี่ยวพร้อมช่องแสงติดตาย วงกบ ขนาด 2"x4" ทำสีตามตัวอย่าง ลูกฟัก กระจกลามิเนตใส 6 มม. ขนาด 1.10 x 2.50 มม. | DX29: =ROUNDUP(BS7*4500,0) -> 12375
B30: ห้องน้ำชาย 2 | E30: =ROUNDUP(27.98,0) -> 28 | T30: =SUM(C30:O30) -> 28 | U30: =ROUNDUP((23*4.7)-(BH7+BP7),0) -> 104 | AD30: =ROUNDUP((23*4.7)-(BH7+BP7),0) -> 104 | AG30: =ROUNDUP((23*2.7)-(BH7+BP7),0) -> 58 | AQ30: =ROUNDUP((8*4.7)+BH9+BP9,0) -> 47 | AT30: =ROUNDUP(BH8+BP8,0) -> 3 | AV30: =E30 -> 28 | BC30: =SUM(AU30:AW30) -> 28 | BP30: 1 | DP30: =BT66 -> 0 | DQ30: =BT99 -> 1 | DR30: =BT153 -> 0 | DS30: =BT165 -> 0 | DU30: 1 | DV30: - A.D15 ประตูบานเปิดคู่พร้อมช่องแสงติดตาย วงกบ 2"x4" อบสีดำ ลูกฟัก กระจกลามิเนตใส 6 มม. ขนาด 5.40 x 2.50 มม. | DX30: =ROUNDUP(BT7*3500,0) -> 19950
B31: ห้องเก็บของ (ห้องน้ำชาย 2) | E31: =ROUNDUP(7.7,0) -> 8 | T31: =SUM(C31:O31) -> 8 | U31: =ROUNDUP((12*4.7)-(BH7+CL7),0) -> 54 | AD31: =ROUNDUP((12*4.7)-(BH7+CL7),0) -> 54 | AG31: =ROUNDUP((12*2.7)-(BH7+CL7),0) -> 30 | AQ31: =(BH9+CL9)+(4.7*3) -> 19.5 | AT31: =BH8+CL8 -> 4.2 | AV31: =E31 -> 8 | BA31: =AC31 -> 0 | BC31: =SUM(AU31:AW31) -> 8 | BH31: 1 | CL31: 1 | DP31: =BU66 -> 0 | DQ31: =BU99 -> 0 | DR31: =BU153 -> 0 | DS31: =BT165 -> 0 | DU31: 1 | DV31: - A.D16 ประตูบานเปิดคู่พร้อมช่องแสงติดตาย วงกบ 2"x4" อบสีดำ ลูกฟัก กระจกลามิเนตใส 6 มม. ขนาด 7.00 x 2.50 มม. | DX31: =ROUNDUP(BV7*3500,0) -> 61250
B32: ห้องน้ำหญิง 2 | E32: =ROUNDUP(56.46,0) -> 57 | T32: =SUM(C32:O32) -> 57 | U32: =ROUNDUP((32*4.7)-(BP7+(CJ7*2)),0) -> 145 | AD32: =ROUNDUP((32*4.7)-(BP7+(CJ7*2)),0) -> 145 | AG32: =ROUNDUP((32*2.7)-(BP7+(CJ7*2)),0) -> 81 | AQ32: =ROUNDUP(((3*4.7)+BP9+(CJ9*2)),0) -> 22 | AT32: =ROUNDUP(BP8+(CJ8*2),0) -> 12 | AV32: =E32 -> 57 | BC32: =SUM(AU32:AW32) -> 57 | BP32: 1 | CJ32: 2 | DP32: =BV66 -> 0 | DQ32: =BV99 -> 0 | DR32: =BV153 -> 1 | DS32: =BV165 -> 0 | DU32: 1 | DV32: - A.D17 ประตูบานเปิดสวิงคู่พร้อมช่องแสงติดตาย วงกบ 2"x4" อบสีดำ ลูกฟัก กระจกลามิเนตเขียวใสตัดแสง 6 มม. ขนาด 7.00 x 2.50 มม. | DX32: =ROUNDUP(BW7*4000,0) -> 471960
B33: บันได ST-01 | D33: =ROUND(((0.25*2.15)*26)+((0.18*2.15)*28)+(2*4.4),0) -> 34 | BC33: =SUM(AU33:AW33) -> 0
B34: บันได ST-03 | C34: =ROUND(((0.25*1.6)*30)+((0.18*1.6)*32)+(1.5*3.3),0) -> 26 | BC34: =SUM(AU34:AW34) -> 0
B35: บันได ST-04 | H35: =ROUND(((0.3*2.2)*2)+((0.17*2.2)*3),0) -> 2 | BC35: =SUM(AU35:AW35) -> 0 | DP35: =SUM(DP14:DP34) -> 21 | DQ35: =SUM(DQ14:DQ34) -> 33 | DR35: =SUM(DR14:DR34) -> 42 | DS35: =SUM(DS14:DS34) -> 2
B36: บันได ST-05 | F36: =ROUND(((0.3*5.6)*2)+((0.17*5.6)*3),0) -> 6 | BC36: =SUM(AU36:AW36) -> 0
B37: บันได ST-06 | F37: =ROUND(((0.5*8)*2)+((0.17*8)*3),0) -> 12 | BC37: =SUM(AU37:AW37) -> 0
B38: บันได ST-07 | F38: =ROUND((2.5*(4.01+30.4+4.01)),0) -> 96 | BC38: =SUM(AU38:AW38) -> 0
B39: พื้นทางเดิน | BC39: =SUM(AU39:AW39) -> 0 | DP39: =CB66 -> 0 | DQ39: =CB99 -> 20 | DR39: =CB153 -> 17 | DS39: =CB165 -> 0 | DU39: =SUM(DP39:DT39) -> 37 | DV39: - A.W1 หน้าต่างบานเปิดพร้อมช่องแสงติดตาย วงกบ 2"x4" อบสีดำ ลูกฟัก กระจกลามิเนตเขียวใสตัดแสง 6 มม. ขนาด 5.10 x 1.65 มม. | DX39: =ROUNDUP(CB7*3000,0) -> 25245
BC40: =SUM(AU40:AW40) -> 0 | DP40: =CC66 -> 14 | DQ40: =CC99 -> 0 | DR40: =CC153 -> 0 | DS40: =CC165 -> 0 | DU40: =SUM(DP40:DT40) -> 14 | DV40: - A.W1.1 หน้าต่างบานเปิดพร้อมช่องแสงติดตาย วงกบ 2"x4" อบสีดำ ลูกฟัก กระจกลามิเนตเขียวใสตัดแสง 6 มม. ขนาด 5.10 x 3.75 มม. | DX40: =CC7*3000 -> 57375
BC41: =SUM(AU41:AW41) -> 0 | DP41: =CD66 -> 5 | DQ41: =CD99 -> 0 | DR41: =CD153 -> 0 | DS41: =CD165 -> 0 | DU41: =SUM(DP41:DT41) -> 5 | DV41: - A.W2 ช่องแสงติดตาย วงกบ 2"x4" อบสีดำ ลูกฟัก กระจกลามิเนตเขียวใสตัดแสง 6 มม. ขนาด 5.40 x 2.35 มม. | DX41: =ROUNDUP(CD7*3000,0) -> 38070
B42: ทางลาด ST06 | F42: =ROUND((1.7*3.4)+(1.7*(6.51+3.5))+2.57+1.12+0.69,0) -> 27 | AW42: =F42 -> 27 | BC42: =SUM(AU42:AW42) -> 27 | DP42: =CE66 -> 1 | DQ42: =CE99 -> 0 | DR42: =CE153 -> 0 | DS42: =CE165 -> 0 | DU42: =SUM(DP42:DT42) -> 1 | DV42: - A.W3 ช่องแสงติดตาย วงกบ 2"x4" อบสีดำ ลูกฟัก กระจกลามิเนตเขียวใสตัดแสง 6 มม. ขนาด 2.60 x 2.35 มม. | DX42: =ROUNDUP(CE7*3000,0) -> 18330
B43: โถงบันได ST-01 | D43: 34 | U43: =ROUNDUP((26*5.7)-(BM7+CP7),0) -> 136 | AC43: =ROUNDUP((8.4*3.8)-CL7,0) -> 31 | AD43: =ROUNDUP((30.1*5.7)-(BM7+CP7),0) -> 159 | AQ43: =ROUNDUP((BM9+CP9)+(5.7*3),0) -> 31 | AT43: =ROUNDUP(BM8+CP8,0) -> 6 | AW43: =D43 -> 34 | AZ43: =AD43 -> 159 | BA43: =AC43 -> 31 | BC43: =SUM(AU43:AW43) -> 34 | BM43: 1 | CP43: 1 | DP43: =CF66 -> 2 | DQ43: =CF99 -> 0 | DR43: =CF153 -> 0 | DS43: =CF165 -> 0 | DU43: =SUM(DP43:DT43) -> 2 | DV43: - A.W4 หน้าต่างบานกระทุ้งพร้อมช่องแสงติดตาย วงกบ 2"x4" อบสีดำ ลูกฟัก กระจกลามิเนตเขียวใสตัดแสง 6 มม. ขนาด 5.10 x 0.50 มม. | DX43: =ROUNDUP(CF7*3000,0) -> 7650
...

Sheet Sannitary ware
A1: อาคาร (A) | H1: รวม | I1: อาคาร (B) | O1: รวม | R1: อาคาร (D) | T1: ชั้น 1 | AA1: รวม
C2: ห้องน้ำชาย 1 WC | D2: ห้องน้ำหญิง 1 WC | E2: ห้องน้ำชาย 2 WC | F2: ห้องน้ำหญิง 2 WC | G2: ห้องน้ำคนพิการ | K2: ห้องน้ำชาย 1 WC | L2: ห้องน้ำหญิง 1 WC | T2: ห้องน้ำชาย 1 WC | U2: ห้องน้ำหญิง 1 WC | V2: ห้องน้ำคนพิการ 1 | W2: ห้องน้ำชาย 2 WC | X2: ห้องน้ำหญิง 2 WC | Y2: พื้นที่ล้างตัว 1 | Z2: พื้นที่ล้างตัว 2
B3: รายการ | J3: รายการ | S3: รายการ
B5: งานสุขภัณฑ์ ชั้น 1 | J5: งานสุขภัณฑ์ ชั้น 1 | P5: ค่าของ | Q5: ค่าแรง | S5: งานสุขภัณฑ์ ชั้น 1
AD6: A | AI6: C | AN6: D
A7: 1 | B7: - โถสุขภัณฑ์ฟลัชวาล์ว | C7: 4 | D7: 7 | E7: 3 | F7: 9 | G7: 0 | H7: =SUM(C7:G7) -> 23 | I7: 1 | J7: - โถสุขภัณฑ์ฟลัชวาล์ว | K7: 1 | L7: 3 | O7: =SUM(K7:N7) -> 4 | P7: 6500 | Q7: 450 | R7: 1 | S7: - โถสุขภัณฑ์สองชิ้น | T7: 5 | U7: 5 | V7: 0 | W7: 5 | X7: 5 | Y7: 0 | Z7: 0 | AA7: =SUM(T7:Z7) -> 20 | AD7: 6500 | AF7: 450 | AI7: 4850 | AK7: 450 | AN7: 4850 | AP7: 450
A8: 1 | B8: • STOP VALVE 1/2" | C8: =C7 -> 4 | D8: =D7 -> 7 | E8: =E7 -> 3 | F8: =F7 -> 9 | G8: 0 | H8: =SUM(C8:G8) -> 23 | I8: 1 | J8: • STOP VALVE 1/2" | K8: =K7 -> 1 | L8: =L7 -> 3 | O8: =SUM(K8:N8) -> 4 | P8: 80 | Q8: 35 | R8: 1 | S8: • STOP VALVE 1/2" | T8: =T7 -> 5 | U8: =U7 -> 5 | V8: 0 | W8: =W7 -> 5 | X8: =X7 -> 5 | Y8: 0 | Z8: 0 | AA8: =SUM(T8:Z8) -> 20 | AD8: 80 | AF8: 35 | AI8: 80 | AK8: 35 | AN8: 80 | AP8: 35
A9: 1' | B9: - โถสุขภัณฑ์ฟลัชวาล์ว (ห้องน้ำผู้พิการ) | C9: 0 | D9: 0 | E9: 0 | F9: 0 | G9: 1 | H9: =SUM(C9:G9) -> 1 | I9: 2 | J9: - สายชำระพร้อมสต๊อปวาล์ว | K9: =K7 -> 1 | L9: =L7 -> 3 | O9: =SUM(K9:N9) -> 4 | P9: 300 | Q9: 70 | R9: 1' | S9: - โถสุขภัณฑ์สองชิ้น (ห้องน้ำผู้พิการ) | T9: 0 | U9: 0 | V9: 1 | W9: 0 | X9: 0 | Y9: 0 | Z9: 0 | AA9: =SUM(T9:Z9) -> 1 | AD9: 6500 | AF9: 450 | AN9: 4850 | AP9: 450
A10: 1' | B10: • STOP VALVE 1/2" | C10: 0 | D10: 0 | E10: 0 | F10: 0 | G10: =G9 -> 1 | H10: =SUM(C10:G10) -> 1 | I10: 3 | J10: - อ่างล้างหน้าแบบฝังเคาน์เตอร์ | K10: 2 | L10: 3 | O10: =SUM(K10:N10) -> 5 | P10: 3500 | Q10: 450 | R10: 1' | S10: • STOP VALVE 1/2" | T10: 0 | U10: 0 | V10: 1 | W10: 0 | X10: 0 | Y10: 0 | Z10: 0 | AA10: =SUM(T10:Z10) -> 1 | AD10: 80 | AF10: 35 | AN10: 80 | AP10: 35
A11: 2 | B11: - สายชำระพร้อมสต๊อปวาล์ว | C11: =C7 -> 4 | D11: =D7 -> 7 | E11: =E7 -> 3 | F11: =F7 -> 9 | G11: =G7 -> 0 | H11: =SUM(C11:G11) -> 23 | I11: 3 | J11: • ก๊อกน้ำเดี่ยวอ่างล้างหน้า | K11: =K10 -> 2 | L11: =L10 -> 3 | O11: =SUM(K11:N11) -> 5 | R11: 2 | S11: - สายชำระพร้อมสต๊อปวาล์ว | T11: =T7 -> 5 | U11: =U7 -> 5 | V11: =V7 -> 0 | W11: =W7 -> 5 | X11: =X7 -> 5 | Y11: 0 | Z11: 0 | AA11: =SUM(T11:Z11) -> 20 | AD11: 300 | AF11: 70 | AI11: 380 | AK11: 105 | AN11: 1180 | AP11: 105
A12: 3 | B12: - โถปัสสาวะชายพร้อมฟลัชวาล์ว | C12: 4 | D12: 0 | E12: 6 | F12: 0 | G12: 0 | H12: =SUM(C12:G12) -> 10 | I12: 3 | J12: • ท่อน้ำทิ้งอ่างล้างหน้า | K12: =K10 -> 2 | L12: =L10 -> 3 | O12: =SUM(K12:N12) -> 5 | R12: 3 | S12: - โถปัสสาวะชายพร้อมฟลัชวาล์ว | T12: 5 | U12: 0 | V12: 0 | W12: 3 | X12: 0 | Y12: 0 | Z12: 0 | AA12: =SUM(T12:Z12) -> 8 | AD12: 5500 | AF12: 450 | AI12: 5500 | AK12: 450 | AN12: 5500 | AP12: 450
A13: 4 | B13: - อ่างล้างหน้าแบบฝังเคาน์เตอร์ | C13: 4 | D13: 4 | E13: 4 | F13: 3 | G13: 0 | H13: =SUM(C13:G13) -> 15 | I13: 3 | J13: • สะดืออ่างล้างหน้าแบบกด | K13: =K10 -> 2 | L13: =L10 -> 3 | O13: =SUM(K13:N13) -> 5 | R13: 4 | S13: - อ่างล้างหน้าแบบฝังเคาน์เตอร์ | T13: 4 | U13: 4 | V13: 0 | W13: 3 | X13: 6 | Y13: 0 | Z13: 0 | AA13: =SUM(T13:Z13) -> 17 | AD13: 3500 | AF13: 450 | AI13: 3500 | AK13: 450 | AN13: 3500 | AP13: 450
A14: 4 | B14: • ก๊อกน้ำเดี่ยวอ่างล้างหน้า | C14: =C13 -> 4 | D14: =D13 -> 4 | E14: =E13 -> 4 | F14: =F13 -> 3 | G14: =G13 -> 0 | H14: =SUM(C14:G14) -> 15 | I14: 3 | J14: • สายน้ำดีอ่างล้างหน้าสแตนเลสถักยาว 16" | K14: =K10 -> 2 | L14: =L10 -> 3 | O14: =SUM(K14:N14) -> 5 | R14: 4 | S14: • ก๊อกน้ำเดี่ยวอ่างล้างหน้า | T14: =T13 -> 4 | U14: =U13 -> 4 | V14: =V13 -> 0 | W14: =W13 -> 3 | X14: =X13 -> 6 | Y14: 0 | Z14: 0 | AA14: =SUM(T14:Z14) -> 17
A15: 4 | B15: • ท่อน้ำทิ้งอ่างล้างหน้า | C15: =C13 -> 4 | D15: =D13 -> 4 | E15: =E13 -> 4 | F15: =F13 -> 3 | G15: =G13 -> 0 | H15: =SUM(C15:G15) -> 15 | I15: 3 | J15: • STOP VALVE 1/2" | K15: =K10 -> 2 | L15: =L10 -> 3 | O15: =SUM(K15:N15) -> 5 | R15: 4 | S15: • ท่อน้ำทิ้งอ่างล้างหน้า | T15: =T13 -> 4 | U15: =U13 -> 4 | V15: =V13 -> 0 | W15: =W13 -> 3 | X15: =X13 -> 6 | Y15: 0 | Z15: 0 | AA15: =SUM(T15:Z15) -> 17
A16: 4 | B16: • สะดืออ่างล้างหน้าแบบกด | C16: =C13 -> 4 | D16: =D13 -> 4 | E16: =E13 -> 4 | F16: =F13 -> 3 | G16: =G13 -> 0 | H16: =SUM(C16:G16) -> 15 | I16: 4 | J16: - บานกระจกเงาหนา 6 มม. ขนาด 4.10 x 1.00 ม. | K16: 1 | L16: 1 | O16: =SUM(K16:N16) -> 2 | P16: =ROUNDUP((4.1*1)*10.764*200,0) -> 8827 | Q16: 120 | R16: 4 | S16: • สะดืออ่างล้างหน้าแบบกด | T16: =T13 -> 4 | U16: =U13 -> 4 | V16: =V13 -> 0 | W16: =W13 -> 3 | X16: =X13 -> 6 | Y16: 0 | Z16: 0 | AA16: =SUM(T16:Z16) -> 17
A17: 4 | B17: • สายน้ำดีอ่างล้างหน้าสแตนเลสถักยาว 16" | C17: =C13 -> 4 | D17: =D13 -> 4 | E17: =E13 -> 4 | F17: =F13 -> 3 | G17: =G13 -> 0 | H17: =SUM(C17:G17) -> 15 | I17: 5 | J17: - โถปัสสาวะชายพร้อมฟลัชวาล์ว | K17: 4 | L17: 0 | M17: =M12 -> 0 | N17: =N12 -> 0 | O17: =SUM(K17:N17) -> 4 | P17: 5500 | Q17: 450 | R17: 4 | S17: • สายน้ำดีอ่างล้างหน้าสแตนเลสถักยาว 16" | T17: =T13 -> 4 | U17: =U13 -> 4 | V17: =V13 -> 0 | W17: =W13 -> 3 | X17: =X13 -> 6 | Y17: 0 | Z17: 0 | AA17: =SUM(T17:Z17) -> 17
A18: 4 | B18: • STOP VALVE 1/2" | C18: =C13 -> 4 | D18: =D13 -> 4 | E18: =E13 -> 4 | F18: =F13 -> 3 | G18: =G13 -> 0 | H18: =SUM(C18:G18) -> 15 | I18: 6 | J18: - ชุดฝักบัวก้านแข็งพร้อมฝักบัวสายอ่อน | K18: 1 | L18: 2 | M18: =M13 -> 0 | N18: =N13 -> 0 | O18: =SUM(K18:N18) -> 3 | P18: 400 | Q18: 170 | R18: 4 | S18: • STOP VALVE 1/2" | T18: =T13 -> 4 | U18: =U13 -> 4 | V18: =V13 -> 0 | W18: =W13 -> 3 | X18: =X13 -> 6 | Y18: 0 | Z18: 0 | AA18: =SUM(T18:Z18) -> 17 | AD18: 0
A19: 4' | B19: - อ่างล้างหน้าแบบแขวนผนัง (ห้องน้ำผู้พิการ) | C19: 0 | D19: 0 | E19: 0 | F19: 0 | G19: 1 | H19: =SUM(C19:G19) -> 1 | I19: 7 | J19: - ที่วางสบู่ | K19: =K18 -> 1 | L19: =L18 -> 2 | O19: =SUM(K19:N19) -> 3 | P19: 370 | Q19: 120 | R19: 4' | S19: - อ่างล้างหน้าแบบแขวนผนัง (ห้องน้ำผู้พิการ) | T19: 0 | U19: 0 | V19: 1 | W19: 0 | X19: 0 | Y19: 0 | Z19: 0 | AA19: =SUM(T19:Z19) -> 1 | AD19: 2300 | AF19: 450 | AI19: 3500 | AK19: 450 | AN19: 2300 | AP19: 450
A20: 4' | B20: • ก๊อกน้ำเดี่ยวอ่างล้างหน้า | C20: =C19 -> 0 | D20: =D19 -> 0 | E20: =E19 -> 0 | F20: =F19 -> 0 | G20: =G19 -> 1 | H20: =SUM(C20:G20) -> 1 | I20: 8 | J20: - ก๊อกล้างพื้น | K20: =K19 -> 1 | L20: 1 | O20: =SUM(K20:N20) -> 2 | P20: 125 | Q20: 25 | R20: 4' | S20: • ก๊อกน้ำเดี่ยวอ่างล้างหน้า | T20: =T19 -> 0 | U20: =U19 -> 0 | V20: =V19 -> 1 | W20: =W19 -> 0 | X20: =X19 -> 0 | Y20: 0 | Z20: 0 | AA20: =SUM(T20:Z20) -> 1
A21: 4' | B21: • ท่อน้ำทิ้งอ่างล้างหน้า | C21: =C19 -> 0 | D21: =D19 -> 0 | E21: =E19 -> 0 | F21: =F19 -> 0 | G21: =G19 -> 1 | H21: =SUM(C21:G21) -> 1 | I21: P | J21: - ชุดผนังห้องน้ำสำเร็จรูป | K21: =K7+K18 -> 2 | L21: =L7+L18 -> 5 | O21: =SUM(K21:N21) -> 7 | P21: 12600 | Q21: 1250 | R21: 4' | S21: • ท่อน้ำทิ้งอ่างล้างหน้า | T21: =T19 -> 0 | U21: =U19 -> 0 | V21: =V19 -> 1 | W21: =W19 -> 0 | X21: =X19 -> 0 | Y21: 0 | Z21: 0 | AA21: =SUM(T21:Z21) -> 1
A22: 4' | B22: • สะดืออ่างล้างหน้าแบบกด | C22: =C19 -> 0 | D22: =D19 -> 0 | E22: =E19 -> 0 | F22: =F19 -> 0 | G22: =G19 -> 1 | H22: =SUM(C22:G22) -> 1 | J22: - ที่ใส่กระดาษชำระ และขอแขวน | K22: 0 | L22: 0 | O22: =SUM(K22:N22) -> 0 | R22: 4' | S22: • สะดืออ่างล้างหน้าแบบกด | T22: =T19 -> 0 | U22: =U19 -> 0 | V22: =V19 -> 1 | W22: =W19 -> 0 | X22: =X19 -> 0 | Y22: 0 | Z22: 0 | AA22: =SUM(T22:Z22) -> 1
A23: 4' | B23: • สายน้ำดีอ่างล้างหน้าสแตนเลสถักยาว 16" | C23: =C19 -> 0 | D23: =D19 -> 0 | E23: =E19 -> 0 | F23: =F19 -> 0 | G23: =G19 -> 1 | H23: =SUM(C23:G23) -> 1 | I23: FD | J23: - ตะแกรงระบายน้ำที่พื้น | K23: 4 | L23: 3 | O23: =SUM(K23:N23) -> 7 | P23: 350 | Q23: 75 | R23: 4' | S23: • สายน้ำดีอ่างล้างหน้าสแตนเลสถักยาว 16" | T23: =T19 -> 0 | U23: =U19 -> 0 | V23: =V19 -> 1 | W23: =W19 -> 0 | X23: =X19 -> 0 | Y23: 0 | Z23: 0 | AA23: =SUM(T23:Z23) -> 1
A24: 4' | B24: • STOP VALVE 1/2" | C24: =C19 -> 0 | D24: =D19 -> 0 | E24: =E19 -> 0 | F24: =F19 -> 0 | G24: =G19 -> 1 | H24: =SUM(C24:G24) -> 1 | J24: - TOP หินแกรนิตสีดำ | K24: =ROUNDUP((0.6*1.75)+(0.6*0.25)+(0.25*1.75)+(0.15*1)+(0.1*1.75),0) -> 2 | L24: =ROUNDUP((0.6*1.75)+(0.6*0.25)+(0.25*1.75)+(0.3*2.78)+(0.1*1.75),0) -> 3 | M24: =M19 -> 0 | N24: =N19 -> 0 | O24: =SUM(K24:N24) -> 5 | P24: 2500 | Q24: 250 | R24: 4' | S24: • STOP VALVE 1/2" | T24: =T19 -> 0 | U24: =U19 -> 0 | V24: =V19 -> 1 | W24: =W19 -> 0 | X24: =X19 -> 0 | Y24: 0 | Z24: 0 | AA24: =SUM(T24:Z24) -> 1 | AD24: 0
A25: 5 | B25: - บานกระจกเงาหนา 6 มม. ขนาด 4.10 x 1.00 ม. | C25: 1 | D25: 0 | E25: 0 | F25: 0 | G25: 0 | H25: =SUM(C25:G25) -> 1 | J25: - งานหล่อเคาน์เตอร์ | K25: =ROUNDUP(1.75,0) -> 2 | L25: =ROUNDUP(1.75,0) -> 2 | O25: =SUM(K25:N25) -> 4 | Q25: 800 | R25: 5 | S25: - บานกระจกเงาหนา 6 มม. ขนาด 1.00 x 1.00 ม.(ห้องน้ำผู้พิการ) | T25: 0 | U25: 0 | V25: =V20 -> 1 | W25: 0 | X25: 0 | Y25: 0 | Z25: 0 | AA25: =SUM(T25:Z25) -> 1 | AD25: =ROUNDUP((4.1*1)*10.764*200,0) -> 8827 | AF25: 120 | AI25: 3500 | AK25: 120 | AN25: =ROUNDUP((1*1)*10.764*200,0) -> 2153 | AP25: 120
A26: 5 | B26: - บานกระจกเงาหนา 6 มม. ขนาด 2.90 x 1.00 ม. | C26: 0 | D26: 1 | E26: 0 | F26: 0 | G26: 0 | H26: =SUM(C26:G26) -> 1 | R26: 5 | S26: - บานกระจกเงาหนา 6 มม. ขนาด 2.80 x 1.00 ม. | T26: 0 | U26: 0 | V26: 0 | W26: 1 | X26: 0 | Y26: 0 | Z26: 0 | AA26: =SUM(T26:Z26) -> 1 | AD26: =ROUNDUP((2.9*1)*10.764*200,0) -> 6244 | AF26: 120 | AN26: =ROUNDUP((2.8*1)*10.764*200,0) -> 6028 | AP26: 120
A27: 5 | B27: - บานกระจกเงาหนา 6 มม. ขนาด 3.50 x 1.00 ม. | C27: 0 | D27: 0 | E27: 1 | F27: 0 | G27: 0 | H27: =SUM(C27:G27) -> 1 | R27: 5 | S27: - บานกระจกเงาหนา 6 มม. ขนาด 3.00 x 1.00 ม. | T27: 0 | U27: 1 | V27: 0 | W27: 0 | X27: 0 | Y27: 0 | Z27: 0 | AA27: =SUM(T27:Z27) -> 1 | AD27: =ROUNDUP((3.51*1)*10.764*200,0) -> 7557 | AF27: 120 | AN27: =ROUNDUP((3*1)*10.764*200,0) -> 6459 | AP27: 120
A28: 5 | B28: - บานกระจกเงาหนา 6 มม. ขนาด 8.70 x 1.00 ม. | C28: 0 | D28: 0 | E28: 0 | F28: 1 | G28: 0 | H28: =SUM(C28:G28) -> 1 | R28: 5 | S28: - บานกระจกเงาหนา 6 มม. ขนาด 3.70 x 1.00 ม. | T28: 1 | U28: 0 | V28: 0 | W28: 0 | X28: 0 | Y28: 0 | Z28: 0 | AA28: =SUM(T28:Z28) -> 1 | AD28: =ROUNDUP((8.7*1)*10.764*200,0) -> 18730 | AF28: 120 | AN28: =ROUNDUP((3.7*1)*10.764*200,0) -> 7966 | AP28: 120
