Workbook
Name _day1: #REF!
Name _day10: #REF!
Name _day11: #REF!
Name _day12: #REF!
Name _day13: #REF!
Name _day19: #REF!
Name _day2: #REF!
Name _day3: #REF!
Name _day4: #REF!
Name _day5: #REF!
Name _day6: #REF!
Name _day7: #REF!
Name _day8: #REF!
Name _day9: #REF!
Name cost1: #REF!
Name cost10: #REF!
Name cost11: #REF!
Name cost12: #REF!
Name cost13: #REF!
Name cost2: #REF!
Name cost3: #REF!
Name cost4: #REF!
Name cost5: #REF!
Name cost6: #REF!
Name cost7: #REF!
Name cost8: #REF!
Name cost9: #REF!
Name LLOOO: #REF!
Name PRINT_AREA_MI: #REF!
Name กกกกก: #REF!
Name งานทั่วไป: [1]ภูมิทัศน์!#REF!
Name งานบัวเชิงผนัง: [1]ภูมิทัศน์!#REF!
Name งานประตูหน้าต่าง: [1]ภูมิทัศน์!#REF!
Name งานผนัง: [1]ภูมิทัศน์!#REF!
Name งานฝ้าเพดาน: [1]ภูมิทัศน์!#REF!
Name งานพื้น: [1]ภูมิทัศน์!#REF!
Name งานสุขภัณฑ์: [1]ภูมิทัศน์!#REF!
Name งานหลังคา: [1]ภูมิทัศน์!#REF!
Name จัดสร้าง: #REF!
Name ใช่: #REF!
Name ดด: #REF!
Name วววววววว: #REF!
Name ววววววววว: #REF!
Name ศาลปกครอง: #REF!

Sheet XXXXXXX

Sheet ผ่อง

Sheet ปร.6
A1: แบบแสดงรายการ ปริมาณงาน และราคา | C1: แบบ ปร.6 แผ่นที่ 1/1
A2: แบบสรุปราคากลางงานก่อสร้างอาคาร
A4: ชื่อโครงการ/งานก่อสร้าง ก่อสร้างถนนเกษตรในฟาร์ม ตำบลหนองระเวียง อำเภอเมืองนครราชสีมา จังหวัดนครราชสีมา
A5: สถานที่ก่อสร้าง ศูนย์การศึกษาหนองระเวียง มหาวิทยาลัยเทคโนโลยีราชมงคลอีสาน
A6: หน่วยงานเจ้าของโครงการ/งานก่อสร้าง มหาวิทยาลัยเทคโนโลยีราชมงคลอีสาน
A7: แบบ ปร. 4 ปร. 5 ที่แนบ มีจำนวน 1 ชุด
A8: ประมาณราคากลางโดย คณะกรรมการกำหนดราคากลาง เมื่อวันที่
D9: หน่วย : บาท
A10: ลำดับที่ | B10: รายการ | C10: ค่าก่อสร้าง | D10: หมายเหตุ
F11: เก้าล้านเก้าแสนแปดพันสิบเอ็ดบาทสิบเก้าสตางค์
A12: 1 | B12: =ปร.4!C9 -> หมวดงานปรับปรุงผิวถนนคอนกรีต
A13: 2 | B13: =ปร.4!C25 -> หมวดงานวางท่อระบายน้ำพร้อมบ่อพัก
A21: สรุป | F21: =SUM(C12:C16) -> 0
B22: ราคากลาง | F22: 11771434
F23: =C21/2 -> 0
F24: 9908011.2

Sheet ปร.5(ก)
A1: แบบแสดงรายการ ปริมาณงาน และราคา | E1: แบบ ปร. 5 (ก) แผ่นที่ 1/1
A2: แบบสรุปค่าก่อสร้าง
A3: ชื่อโครงการ/งานก่อสร้าง ก่อสร้างถนนเกษตรในฟาร์ม ตำบลหนองระเวียง อำเภอเมืองนครราชสีมา จังหวัดนครราชสีมา
A4: =ปร.6!A5 -> สถานที่ก่อสร้าง ศูนย์การศึกษาหนองระเวียง มหาวิทยาลัยเทคโนโลยีราชมงคลอีสาน
A5: =ปร.6!A6 -> หน่วยงานเจ้าของโครงการ/งานก่อสร้าง มหาวิทยาลัยเทคโนโลยีราชมงคลอีสาน
A6: แบบ ปร. 4 ที่แนบ มีจำนวน 1 หน้า
A7: =ปร.6!A8 -> ประมาณราคากลางโดย คณะกรรมการกำหนดราคากลาง เมื่อวันที่
F8: หน่วย : บาท
A9: ลำดับที่ | B9: รายการ | C9: ค่างานต้นทุน | D9: Factor F | E9: ค่าก่อสร้าง | F9: หมายเหตุ
I10: =F10+H10 -> 0
A11: 1 | B11: =ปร.4!C9 -> หมวดงานปรับปรุงผิวถนนคอนกรีต | I11: =F11+H11 -> #VALUE!
A12: 2 | B12: =ปร.4!C25 -> หมวดงานวางท่อระบายน้ำพร้อมบ่อพัก | I12: =F12+H12 -> 0
I13: =F13+H13 -> 0
G14: 9.9 | I14: =F14+H14 -> 0
I15: =F15+H15 -> 0
I16: =F16+H16 -> 0
I17: =F17+H17 -> 0
I19: =F19+H19 -> 0
I20: =F20+H20 -> 0
I21: =F21+H21 -> 0
C22: รวมค่าก่อสร้าง

Sheet ปร.4
B1: แบบแสดงรายการ ปริมาณงาน และราคา
B2: ชื่อโครงการ/งานก่อสร้าง ก่อสร้างถนนเกษตรในฟาร์ม ตำบลหนองระเวียง อำเภอเมืองนครราชสีมา จังหวัดนครราชสีมา
B3: =ปร.6!A5 -> สถานที่ก่อสร้าง ศูนย์การศึกษาหนองระเวียง มหาวิทยาลัยเทคโนโลยีราชมงคลอีสาน
B4: =ปร.6!A6 -> หน่วยงานเจ้าของโครงการ/งานก่อสร้าง มหาวิทยาลัยเทคโนโลยีราชมงคลอีสาน
B5: =ปร.6!A8 -> ประมาณราคากลางโดย คณะกรรมการกำหนดราคากลาง เมื่อวันที่
K6: หน่วย : บาท
B7: ลำดับที่ | C7: รายการ | D7: จำนวน | E7: หน่วย | F7: ค่าวัสดุ | H7: ค่าแรงงาน | J7: รวม | K7: หมายเหตุ
F8: ราคาต่อหน่วย | G8: จำนวนเงิน | H8: ราคาต่อหน่วย | I8: จำนวนเงิน | J8: ค่าวัสดุและแรงงาน
B9: 1 | C9: หมวดงานปรับปรุงผิวถนนคอนกรีต
C10: งานผิวทาง คอนกรีต240ksc | E10: ลบ.ม.
C11: งานตีเส้นจราจร ( สีเทอร์โมพลาสติก )กว้าง0.15m.x1.00m.@2.00m. | E11: ตร.ม.
C12: งานปรับพื้นที่ | E12: ตร.ม.
C13: บดอัด(ดินเดิม) 90%Mod.poctor | E13: ลบ.ม.
C14: หินคลุก(หนา0.20ม.) | E14: ลบ.ม.
C15: บดอัดหินคลุก 95%Mod.poctor | E15: ลบ.ม.
C16: ทรายหยาบ หนา0.10ม. | E16: ลบ.ม.
C17: แอสฟัสท์ผสมทรายรอยต่อ | E17: ม.
C18: wire mesh 6mm.@0.20m. | E18: ตร.ม.
C19: เหล็กเสริม RB15 | E19: กก.
C20: เหล็กเสริม DB16 | E20: กก.
C21: แผ่นพลาสติก กว้าง1.20ม. | E21: ม.
C22: แบบข้าง(คิดตามยาว2ข้าง) | E22: ม.
C24: รวมหมวดงานปรับปรุงผิวถนนคอนกรีต
B25: 2 | C25: หมวดงานวางท่อระบายน้ำพร้อมบ่อพัก
C26: งาน คอนกรีต180ksc ทรงกระบอก | E26: ลบ.ม.
C27: ทรายหยาบ | E27: ลบ.ม.
C28: งานขุดดินถมกลับ | E28: ลบ.ม.
C29: บ่อพักคสล. ขนาด 1.40x1.40x1.50ม. พร้อมฝาบ่อสำเร็จรูป | E29: บ่อ
C30: ท่อระบายน้ำคสล.ปากลิ้นรางชั้น 2 ยาว 1ม. ø 0.80ม. | E30: ท่อน
C32: รวมหมวดงานวางท่อระบายน้ำพร้อมบ่อพัก
B34: หมายเหตุ การประมาณราคาทั้งปริมาณและราคาต่อหน่วยเป็นการประมาณซึ่งอาจมีความคลาดเคลื่อน โดยผู้เสนอราคาต้องประมาณการเองอย่างละเอียดและไม่สามารถเรียกร้องได้
